Workbook

Sheet PPR
A1: 구역명 | B1: 진행단계 | C1: 비교단지 | D1: 현재 인근 평당가 (34평기준) | E1: (예상)평당 조합원분양가 (34평기준) (확정가격 또는 조합의 제시가격 또는 인근 비교 신축 대비 70%) | F1: (예상)현재 프리미엄 (34평 기준) | G1: 현재 입주권 총구매평당가 [(평당 조분가x34평) + 현재프리미엄)]/34 | H1: 현재 입주권 평당가 (-) 현재 인근 평당가 | I1: PPR (Premium to Price Ratio) (100%일 때 적정) (100% 이상 : 과평가 (100% 이하 : 저평가) | J1: 비고 | K1: 2021.01.18
A2: 감만1 | B2: 관리처분총회 전 | C2: 대연파크 | D2: =감만1구역!F44 -> 21760000 | E2: =감만1구역!C44 -> 8940000 | F2: =감만1구역!C55 -> 190000000 | G2: =감만1구역!H55 -> 14528235 | H2: =G2-D2 -> -7231764.7 | I2: =감만1구역!I55 -> 0.66765787 | J2: 뉴스테이(관리처분총회 통과)
A3: 우암2 | B3: 착공 | C3: 대연파크 | D3: =우암2구역!F47 -> 21760000 | E3: =우암2구역!C47 -> 8262647 | F3: =우암2구역!C58 -> 260000000 | G3: =우암2구역!H58 -> 15909706 | H3: =G3-D3 -> -5850294.2 | I3: =우암2구역!I58 -> 0.73114457 | J3: 뉴스테이 (일분전환시도중)
A4: 우암1 | B4: 이주 | C4: 대연파크 | D4: =우암1구역!F47 -> 21760000 | E4: =우암1구역!C47 -> 8080000 | F4: =우암1구역!C57 -> 280000000 | G4: =우암1구역!H57 -> 16315294 | H4: =G4-D4 -> -5444705.9 | I4: =우암1구역!I57 -> 0.74978374 | J4: 일분전환총회통과
A5: 대연3 | B5: 철거 | C5: 롯데개슬레젼드 | D5: =대연3구역!F44 -> 26670000 | E5: =대연3구역!C44 -> 10517147 | F5: =대연3구역!C54 -> 650000000 | G5: =대연3구역!H54 -> 29634794 | H5: =G5-D5 -> 2964794.1 | I5: =대연3구역!I54 -> 1.1111659
A6: 대연4 | B6: 일반분양 준비 | C6: 대연파크 | D6: =대연4구역!F49 -> 21760000 | E6: =대연4구역!C49 -> 9740110.1 | F6: =대연4구역!C60 -> 450000000 | G6: =대연4구역!H60 -> 22975404 | H6: =G6-D6 -> 1215404.2 | I6: =대연4구역!I60 -> 1.055855
A7: 대연8 | B7: 조합설립인가신청 | C7: 대연파크 | D7: =대연8구역!F46 -> 21760000 | E7: =대연8구역!C46 -> 15232000 | F7: =대연8구역!C57 -> 420000000 | G7: =대연8구역!H57 -> 27584941 | H7: =G7-D7 -> 5824941.2 | I7: =대연8구역!I57 -> 1.2676903 | J7: 시공사 선정 준비
A8: 복산1 | B8: 사업시행인가신청 준비 | C8: 명륜자이 | D8: =복산1구역!F49 -> 27500000 | E8: =복산1구역!C49 -> 19250000 | F8: =복산1구역!C61 -> 380000000 | G8: =복산1구역!H61 -> 30426471 | H8: =G8-D8 -> 2926470.6 | I8: =복산1구역!I61 -> 1.1064171 | J8: 지정문화제 변경 허가
A9: 우동3 | B9: 사업시행인가신청 완료 | C9: 해센푸 | D9: =우동3구역!F49 -> 39650000 | E9: =우동3구역!C49 -> 27755000 | F9: =우동3구역!C61 -> 790000000 | G9: =우동3구역!H61 -> 50990294 | H9: =G9-D9 -> 11340294 | I9: =우동3구역!I61 -> 1.2860099 | J9: 조합장 해임 총회 시도
A10: 광안2 | B10: 철거 | C10: 광안자이 | D10: =광안2구역!F43 -> 30290000 | E10: =광안2구역!C43 -> 11647059 | F10: =광안2구역!C53 -> 780000000 | G10: =광안2구역!H53 -> 34588235 | H10: =G10-D10 -> 4298235.3 | I10: =광안2구역!I53 -> 1.1419028
A11: 서금사A | B11: 사업시행인가신청 준비 | C11: 레미안장전 | D11: ='서금사 재정비 촉진A'!F44 -> 34410000 | E11: ='서금사 재정비 촉진A'!C44 -> 24087000 | F11: ='서금사 재정비 촉진A'!C55 -> 770000000 | G11: ='서금사 재정비 촉진A'!H55 -> 46734059 | H11: =G11-D11 -> 12324059 | I11: ='서금사 재정비 촉진A'!I55 -> 1.3581534
A12: 서금사5 | B12: 사업시행인가신청 준비 | C12: 명륜2차아이파크1단지 | D12: ='서금사 재정비 촉진5'!F44 -> 23230000 | E12: ='서금사 재정비 촉진5'!C44 -> 16261000 | F12: ='서금사 재정비 촉진5'!C54 -> 190000000 | G12: ='서금사 재정비 촉진5'!H54 -> 21849235 | H12: =G12-D12 -> -1380764.7 | I12: ='서금사 재정비 촉진5'!I54 -> 0.94056114 | J12: 일반분양률 낮음
A13: 온천4 | B13: 일반분양준비 | C13: 온천2구역(동래아) | D13: =온천4!F63 -> 34410000 | E13: =온천4!C63 -> 10513263 | F13: =온천4!C80 -> 740000000 | G13: =온천4!H80 -> 32277969 | H13: =G13-D13 -> -2132031.1 | I13: =온천4!I80 -> 0.93804036
A14: 양정1 | B14: 일반분양준비 | C14: 연산롯데캐슬골드포레 | D14: =양정1구역!F50 -> 23520000 | E14: =양정1구역!C50 -> 10111000 | F14: =양정1구역!C62 -> 600000000 | G14: =양정1구역!H62 -> 27758059 | H14: =G14-D14 -> 4238058.8 | I14: =양정1구역!I62 -> 1.1801896
A15: 양정2 | B15: 일반분양준비 | C15: 연산롯데캐슬골드포레 | D15: =양정2구역!F50 -> 23520000 | E15: =양정2구역!C50 -> 9555764.7 | F15: =양정2구역!C62 -> 600000000 | G15: =양정2구역!H62 -> 27202824 | H15: =G15-D15 -> 3682823.5 | I15: =양정2구역!I62 -> 1.1565826
A16: 양정3 | B16: 관리처준변경총회 | C16: 연산롯데캐슬골드포레 | D16: =양정3구역!F43 -> 23520000 | E16: =양정3구역!C43 -> 13300000 | F16: =양정3구역!C55 -> 570000000 | G16: =양정3구역!H55 -> 30064706 | H16: =G16-D16 -> 6544705.9 | I16: =양정3구역!I55 -> 1.2782613 | J16: 조합원분양가 조정 완료
A17: 거제2 | B17: 일반분양준비 | C17: 사직롯데캐슬더클래식 | D17: =거제2구역!F52 -> 32940000 | E17: =거제2구역!C52 -> 9445588.2 | F17: =거제2구역!C66 -> 1020000000 | G17: =거제2구역!H66 -> 39445588 | H17: =G17-D17 -> 6505588.2 | I17: =거제2구역!I66 -> 1.1974981 | J17: 일반분양완료
A18: 촉진3 | B18: 특별건축구역지정 준비 | C18: 연지2구역(레미안어반파크) | D18: =시민공원촉진3구역!F40 -> 27290000 | E18: =시민공원촉진3구역!C40 -> 19103000 | F18: =시민공원촉진3구역!C47 -> 870000000 | G18: =시민공원촉진3구역!H47 -> 44691235 | H18: =G18-D18 -> 17401235 | I18: =시민공원촉진3구역!I47 -> 1.6376415 | J18: 특별건축구역지정고시완료
A19: 촉진4 | B19: 특별건축구역지정 준비 | C19: 연지2구역(레미안어반파크) | D19: =시민공원촉진4구역!F43 -> 27290000 | E19: =시민공원촉진4구역!C43 -> 19103000 | F19: =시민공원촉진4구역!C51 -> 400000000 | G19: =시민공원촉진4구역!H51 -> 30867706 | H19: =G19-D19 -> 3577705.9 | I19: =시민공원촉진4구역!I49 -> 1.1310995 | J19: 특별건축구역지정고시완료
A20: 가야1 | B20: 사업시행인가신청 준비 | C20: 가야3구역(롯데개슬골드아너) | D20: =가야1구역!F43 -> 24280000 | E20: =가야1구역!C43 -> 16996000 | F20: =가야1구역!C51 -> 340000000 | G20: =가야1구역!H51 -> 26996000 | H20: =G20-D20 -> 2716000 | I20: =가야1구역!I51 -> 1.1118616
A21: 범천4 | B21: 사업시행인가신청 준비 | C21: 서면롯데캐슬엘루체 | D21: =범천4구역!F44 -> 26510000 | E21: =범천4구역!C44 -> 18557000 | F21: =범천4구역!C54 -> 290000000 | G21: =범천4구역!H54 -> 27086412 | H21: =G21-D21 -> 576411.76 | I21: =범천4구역!I54 -> 1.0217432 | J21: 정비기지창 이전 예타 통과
A22: 범천1-1 | B22: 철거준비단계 | C22: 서면아이파크1단지 | D22: ='범천1-1구역'!F51 -> 22020000 | E22: ='범천1-1구역'!C51 -> 11369265 | F22: ='범천1-1구역'!C64 -> 620000000 | G22: ='범천1-1구역'!H64 -> 29604559 | H22: =G22-D22 -> 7584558.8 | I22: ='범천1-1구역'!I64 -> 1.3444395 | J22: 시공사변경 완료(현건)
A23: 문현1 | B23: 시공사선정 준비 | C23: 서면아이파크1단지 | D23: =문현1구역!F49 -> 22020000 | E23: =문현1구역!C49 -> 15414000 | F23: =문현1구역!C61 -> 520000000 | G23: =문현1구역!H61 -> 30708118 | H23: =G23-D23 -> 8688117.6 | I23: =문현1구역!I61 -> 1.3945558
A24: 문현3 | B24: 사업시행인가고시 전 | C24: 서면아이파크1단지 | D24: =문현3구역!F49 -> 22020000 | E24: =문현3구역!C49 -> 15414000 | F24: =문현3구역!C60 -> 270000000 | G24: =문현3구역!H60 -> 23355176 | H24: =G24-D24 -> 1335176.5 | I24: =문현3구역!I60 -> 1.0606347 | J24: 조합장 변경, 사시 준비 중
A25: 좌범2 | B25: 조합설립단계 | C25: 두산위브더제니스하버시티 | D25: =좌천범일통합2지구!F42 -> 21440000 | E25: =좌천범일통합2지구!C42 -> 15008000 | F25: =좌천범일통합2지구!C52 -> 360000000 | G25: =좌천범일통합2지구!H52 -> 25596235 | H25: =G25-D25 -> 4156235.3 | I25: =좌천범일통합2지구!I52 -> 1.1938543 | J25: 시공사 재선정 준비
A26: 초량2 | B26: 특별건축구역지정 준비 | C26: 이편한세상부산항 | D26: =초량2구역!F46 -> 21170000 | E26: =초량2구역!C46 -> 14819000 | F26: =초량2구역!C55 -> 190000000 | G26: =초량2구역!H55 -> 20407235 | H26: =G26-D26 -> -762764.71 | I26: =초량2구역!I55 -> 0.96396955 | J26: 특별건축구역지정완료
A27: 초량3 | B27: 사업시행인가 준비 | C27: 이편한세상부산항 | D27: =초량3구역!F44 -> 21170000 | E27: =초량3구역!C44 -> 14819000 | F27: =초량3구역!C52 -> 310000000 | G27: =초량3구역!H52 -> 23936647 | H27: =G27-D27 -> 2766647.1 | I27: =초량3구역!I52 -> 1.1306872
A28: 괴정5 | B28: 사업시행인가고시 전 | C28: 힐스테이트사하역 | D28: =괴정5구역!F58 -> 20580000 | E28: =괴정5구역!C58 -> 10515000 | F28: =괴정5구역!C76 -> 320000000 | G28: =괴정5구역!H76 -> 19926765 | H28: =G28-D28 -> -653235.29 | I28: =괴정5구역!I76 -> 0.96825873
A29: 괴정6 | B29: 구역지정 완료 | C29: 힐스테이트사하역 | D29: =괴정6구역!F39 -> 20580000 | E29: =괴정6구역!C39 -> 14406000 | F29: =괴정6구역!C44 -> 110000000 | G29: =괴정6구역!H44 -> 17641294 | H29: =G29-D29 -> -2938705.9 | I29: =괴정6구역!I44 -> 0.85720574
A30: 엄궁3 | B30: 일반분양준비 | C30: 롯데캐슬리버 | D30: =엄궁3구역!F42 -> 10200000 | E30: =엄궁3구역!C42 -> 8336704.2 | F30: =엄궁3구역!C49 -> 100000000 | G30: =엄궁3구역!H49 -> 11277881 | H30: =G30-D30 -> 1077880.6 | I30: =엄궁3구역!I49 -> 1.1056746
A31: 부곡2 | B31: 사업시행인가신청 준비 | C31: 레미안장전 | D31: =부곡2구역!F51 -> 34410000 | E31: =부곡2구역!C51 -> 24087000 | F31: =부곡2구역!C59 -> 340000000 | G31: =부곡2구역!H59 -> 34087000 | H31: =G31-D31 -> -323000 | I31: =부곡2구역!I59 -> 0.99061319 | J31: 조합설립인가취소(상고 예정)
A32: 범일2 | B32: 시공사선정 준비 | C32: 서면아이파크1단지 | D32: =범일2구역!F42 -> 22020000 | E32: =범일2구역!C42 -> 15414000 | F32: =범일2구역!C50 -> 350000000 | G32: =범일2구역!H50 -> 25708118 | H32: =G32-D32 -> 3688117.6 | I32: =범일2구역!I50 -> 1.1674894
A33: 망미2 | B33: 사업시행인가 준비 | C33: 수영SK뷰 | D33: =망미2구역!F43 -> 23520000 | E33: =망미2구역!C43 -> 16464000 | F33: =망미2구역!C53 -> 400000000 | G33: =망미2구역!H53 -> 28228706 | H33: =G33-D33 -> 4708705.9 | I33: =망미2구역!I53 -> 1.2002001 | J33: 소송중 (1심 : 조정모 승소)
A34: 용호2 | B34: 사업시행인가 준비 | C34: 데시앙헬링턴플레이스파크시티 | D34: =용호2구역!F40 -> 14830000 | E34: =용호2구역!C40 -> 10381000 | F34: =용호2구역!C51 -> 250000000 | G34: =용호2구역!H51 -> 17733941 | H34: =G34-D34 -> 2903941.2 | I34: =용호2구역!I51 -> 1.1958153
A35: 감천2 | B35: 사업시행인가 준비 | C35: 이편한세상사하2차 | D35: =감천2구역!F46 -> 9350000 | E35: =감천2구역!C46 -> 8200000 | F35: =감천2구역!C57 -> 130000000 | G35: =감천2구역!H57 -> 12023529 | H35: =G35-D35 -> 2673529.4 | I35: =감천2구역!I57 -> 1.285939 | J35: 일분으로 전향 완(힐스테이트)
A36: 영도5 | B36: 사업시행인가 준비 | C36: 동삼동오션시티푸르지오 | D36: =영도5구역!F40 -> 18330000 | E36: =영도5구역!C40 -> 12831000 | F36: =영도5구역!C51 -> 170000000 | G36: =영도5구역!H51 -> 17831000 | H36: =G36-D36 -> -499000 | I36: =영도5구역!I51 -> 0.97277687
A37: 부민2 | B37: 구역지정신청 완료 | C37: 서대신2차푸르지오 | D37: =부민2구역!F44 -> 19990000 | E37: =부민2구역!C44 -> 13993000 | F37: =부민2구역!C53 -> 170000000 | G37: =부민2구역!H53 -> 18993000 | H37: =G37-D37 -> -997000 | I37: =부민2구역!I52 -> 0.95012506 | J37: 2020.10월 정비구역지정신청 완료

Sheet 감만1구역
A1: 감만1구역
A2: 사 업 개 요 | B2: 단지명 | C2: 푸르지오센트레빌
B3: 구역명 | C3: 감만1구역 주택재개발 (뉴스테이 연계형)
B4: 위치 | C4: 부산시 남구 감만1동 312번지 일원
B5: 용도지역 | C5: 제3종일반주거지역
B6: 대지면적 ㎡ | C6: 307118
B7: 구역면적 ㎡ | C7: 418719 | D7: 조합원세대당 대지지분 (평) | F7: =C7*0.3025/C9 -> 44.442982 | G7: 기준 : 25평 이상일 것.
B8: 동수 | C8: 66
B9: 조합원세대수(약) | C9: 2850 | D9: 조합원분양률 | E9: =C9/C11 -> 0.31346238
B10: 일반분양세대수 (뉴스테이) | C10: =C11-C9 -> 6242 | D10: 일반분양률 | E10: =C10/C11 -> 0.68653762 | F10: 기준 : 50% 이상일 것. (재건축 30% 이상)
B11: 총세대수(약) | C11: 9092 | D11: (공공임대포함)
B12: 건페율 | C12: 0.1946 | D12: 건축면적 ㎡ | E12: =C7*C12 -> 81482.717 | F12: 계산 층수 | G12: =E13/E12 -> 14.954779
B13: 용적률 | C13: 2.9102 | D13: 연면적 ㎡ | E13: =C7*C13 -> 1218556 | F13: 전용면적 기준 | G13: =E13*76% -> 926102.59
B14: 건축규모 | C14: 지하4층 / 지상최고45층 | F14: 세대구성 총연면적 대비 | H14: =G13/C37 -> 1.5052998
B15: 시공사 | C15: 대우 + 동부 컨소시엄 | F15: 기준 : 세대구성 총연면적보다 클 것.
B16: 비례율(임의) | C16: 미정
B17: 비고 | C17: 기업형임대사업자 | D17: 한토신(한국토지신탁)
C18: 김업형임대사업자가 일반분양분 전량을 조합으로부터 유상 인수함.
A20: 추 진 현 황 | B20: 최초 구역지정 | C20: 2007.01.10
B21: 최초 조합설립 | C21: 2007.07.20
B22: 사업시행인가 | C22: 2018.07.09
B23: 관리처분계획 | C23: 2020년 11월 예정
B24: 이주.철거 | C24: 2023년 예정
B25: 일반분양 | C25: 한토신 전량 인수
B26: 준공 | C26: 2027년 예정
B27: 5월 관리처분 총회예정
B28: 올해말 관리처분인가를 목표
A30: 세 대 구 성 | B30: 평형별(전용) | C30: 총연면적 | D30: 총세대수 | E30: 일반 | F30: 조합원 | G30: 점유율 | H30: 비고
B31: 39 | C31: =39*D31 -> 17745 | D31: 455 | G31: =D31/$D$37 -> 0.050043995 | H31: 임대
B32: 39 | C32: =39*D32 -> 1482 | D32: 38 | G32: =D32/$D$37 -> 0.0041794985
B33: 59 | C33: =59*D33 -> 230749 | D33: 3911 | G33: =D33/$D$37 -> 0.43015838
B34: 75 | C34: =75*D34 -> 261600 | D34: 3488 | G34: =D34/$D$37 -> 0.38363396
B35: 84 | C35: =84*D35 -> 90384 | D35: 1076 | G35: =D35/$D$37 -> 0.1183458
B36: 107 | C36: =107*D36 -> 13268 | D36: 124 | G36: =D36/$D$37 -> 0.013638363
B37: SUM | C37: =SUM(C31:C36) -> 615228 | D37: =SUM(D31:D36) -> 9092 | E37: =SUM(E31:E36) -> 0 | F37: =SUM(F31:F36) -> 0 | G37: =SUM(G31:G36) -> 1 | H37: =SUM(H31:H36) -> 0
A39: (예상) 총 프 리 미 엄 (비례율 100%기준) | B39: 평형별 | C39: (예상)조합원평당분양가 | D39: (예상)일반평당분양가 | E39: 일반분양가대비 | F39: 현재 인근평당시세 | G39: 인근시세대비 | H39: 비고
B40: 39 | C40: 8900000 | D40: - | E40: =(D40-C40)*17 -> #VALUE! | F40: - | G40: =(F40-C40)*17 -> #VALUE!
B41: 39 | C41: 8900000 | D41: - | E41: =(D41-C41)*17 -> #VALUE! | F41: - | G41: =(F41-C41)*17 -> #VALUE!
B42: 59 | C42: 9100000 | D42: - | E42: =(D42-C42)*25 -> #VALUE! | F42: - | G42: =(F42-C42)*25 -> #VALUE!
B43: 75 | C43: 9800000 | D43: - | E43: =(D43-C43)*30 -> #VALUE! | F43: - | G43: =(F43-C43)*30 -> #VALUE!
B44: 84 | C44: 8940000 | D44: 12000000 | E44: =(D44-C44)*34 -> 104040000 | F44: 21760000 | G44: =(F44-C44)*34 -> 435880000 | H44: 대연파크기준
B45: 107 | C45: 8830000 | D45: - | E45: =(D45-C45)*45 -> #VALUE! | F45: - | G45: =(F45-C45)*45 -> #VALUE!
A50: 수 익 (현재기준) | B50: 평형별(전용) | C50: (예상)매매프리미엄 (대지 : 공시지가x130%) (건물 : 연면적평x130만원) (공동주택 : 공동주택가격x150%) | D50: 일반분양가 대비 총 프리미엄 | E50: 일반분양가 대비 수익 | F50: 인근시세 대비 총프리미엄 | G50: 인근시세 대비 수익 | H50: 총구매평당가 | I50: PPR (Premium to price Ratio) (100%일 때 적정) (100% 이상 : 과평가 (100% 이하 : 저평가)
B51: 39 | C51: - | D51: =E40 -> #VALUE! | E51: =D51-C51 -> #VALUE! | F51: =G40 -> #VALUE! | G51: =F51-C51 -> #VALUE!
B52: 39 | C52: - | D52: =E41 -> #VALUE! | E52: =D52-C52 -> #VALUE! | F52: =G41 -> #VALUE! | G52: =F52-C52 -> #VALUE!
B53: 59 | C53: - | D53: =E42 -> #VALUE! | E53: =D53-C53 -> #VALUE! | F53: =G42 -> #VALUE! | G53: =F53-C53 -> #VALUE!
B54: 75 | C54: - | D54: =E43 -> #VALUE! | E54: =D54-C54 -> #VALUE! | F54: =G43 -> #VALUE! | G54: =F54-C54 -> #VALUE!
B55: 84 | C55: 190000000 | D55: =E44 -> 104040000 | E55: =D55-C55 -> -85960000 | F55: =G44 -> 435880000 | G55: =F55-C55 -> 245880000 | H55: =(C55+(C44*34))/34 -> 14528235 | I55: =H55/F44 -> 0.66765787
B56: 107 | C56: - | D56: =E45 -> #VALUE! | E56: =D56-C56 -> #VALUE! | F56: =G45 -> #VALUE! | G56: =F56-C56 -> #VALUE!
A58: 시 세 T R E N D | B58: 기간 | C58: 총구매 평당가(만원) | D58: Graph
B59: 19년07월~19년09월 | C59: 980
B60: 19년10월~19년12월 | C60: 980
B61: 20년01월~20년03월 | C61: 1000
B62: 20년04월~20년06월 | C62: 1300
B63: 20년07월~20년09월 | C63: 1100
B64: 20년10월~20년12월 | C64: 1320
B65: 21년01월~21년03월 | C65: =H55/10000 -> 1452.8235
B66: 21년04월~21년06월
B67: 21년07월~21년09월
B68: 21년10월~21년12월
B69: 2027년(완공시)
A70: 특징 | B70: ♦ 총세대수 9,092세대로서 신도시급 대단지 재개발구역입니다.
B71: ♦ 부산항대교 및 신선대부두 바다 조망권을 갖추고 있습니다.
B72: ♦ 동항초등학교 (초품아)
B73: ♦ 북항재재발 수혜지역
B74: ♦ 우암부두 해양클러스터 지정 재개발
B75: ♦ 저렴한 조합원분양가 (뉴스테이 연계형으로서 공사지연 및 건설원자재 가격 상승에 따른 조합원분양가의 인상 가능성 있음)
B76: ♦ 우암.감만선 트램 신설
B77: ♦ 뉴스테이 연계형 재개발사업으로서 미분양 없음.
B78: (단, 일반분양이 없으므로 인근시세 대비 조합원분양가 차액 외 추가 수익을 기대하기 어려움.)
B79: ♦ 인근시세 대비 잉여프리미엄이 아주 높음.
B80: ♦ 전체 9,092세대 중 조합원 약 2,800세대만 매매 가능하므로 시세 형성이 빠름.

Sheet 우암2구역
A1: 우암2구역
A2: 사 업 개 요 | B2: 단지명 | C2: 대림이편한세상
B3: 구역명 | C3: 우암2주택재개발(뉴스테이연계형)
B4: 위치 | C4: 우암1동 129번지 일원
B5: 구역면적 ㎡ | C5: 148865 | D5: 조합원세대당 대지 평수 | F5: =C5*0.3025/C7 -> 57.365175 | G5: 기준 : 25평 이상일 것.
B6: 동수 | C6: 29
B7: 조합원세대수 | C7: 785 | D7: 조합원분양률 | E7: =C7/C9 -> 0.26010603
B8: 일반분양세대수 (뉴스테이) | C8: =C9-C7 -> 2233 | D8: 일반분양률 | E8: =C8/C9 -> 0.73989397 | F8: 기준 : 50% 이상일 것. (재건축 30% 이상)
B9: 총세대수 | C9: 3018
B10: 건페율 | C10: 0.1894 | D10: 건축면적 ㎡ | E10: =C5*C10 -> 28195.031 | F10: 계산 층수 | G10: =E11/E10 -> 14.340549
B11: 용적률 | C11: 2.7161 | D11: 연면적 ㎡ | E11: =C5*C11 -> 404332.23 | F11: 전용면적 기준 | G11: =E11*76% -> 307292.49
B12: 건축규모 | C12: 지하5층/지상35층 | F12: 세대구성 총연면적 대비 | H12: =G11/C38 -> 1.3825252
B13: 시공사 | C13: 대림산업 | F13: 기준 : 세대구성 총연면적보다 클 것.
B14: 비례율 | C14: 1.02
B15: 비고 | C15: 기업형임대사업자 | D15: 대림AMC
C16: 일반분양형으로 전환 시도 중 --> 공사 중단 중
A18: 추 진 현 황 | B18: 구역지정 | C18: 2006.09.27
B19: 조합설립 | C19: 2017.12.04
B20: 사업시행 | C20: 2017.03.24
B21: 조합원분양신청 | C21: 2017.04.17
B22: 관리처분계획 | C22: 2017.12.14
B23: 이주 | C23: 2018.03.22
B24: 철거 | C24: 2019년 완료예정
B25: 일반분양 | C25: 대림 전량 인수
B26: 준공 | C26: 2023년 예정
A28: 세 대 구 성 | B28: 평형별(전용) | C28: 총연면적 | D28: 총세대수 | E28: 일반(뉴스테이) | F28: 조합원 | G28: 점유율 | H28: 비고
B29: 39㎡ | C29: =39*D29 -> 6084 | D29: 156 | E29: - | F29: - | G29: =D29/$D$38 -> 0.051689861 | H29: 임대
B30: 59A㎡ | C30: =59*D30 -> 13393 | D30: 227 | E30: =D30-F30 -> 40 | F30: 187 | G30: =D30/$D$38 -> 0.075215374
B31: 59B㎡ | C31: =59*D31 -> 18880 | D31: 320 | E31: =D31-F31 -> 308 | F31: 12 | G31: =D31/$D$38 -> 0.10603048
B32: 75A㎡ | C32: =75*D32 -> 41850 | D32: 558 | E32: =D32-F32 -> 398 | F32: 160 | G32: =D32/$D$38 -> 0.18489066
B33: 75B㎡ | C33: =75*D33 -> 30300 | D33: 404 | E33: =D33-F33 -> 387 | F33: 17 | G33: =D33/$D$38 -> 0.13386349
B34: 75C㎡ | C34: =75*D34 -> 15750 | D34: 210 | E34: =D34-F34 -> 207 | F34: 3 | G34: =D34/$D$38 -> 0.069582505
B35: 84A㎡ | C35: =84*D35 -> 69720 | D35: 830 | E35: =D35-F35 -> 514 | F35: 316 | G35: =D35/$D$38 -> 0.27501657
B36: 84B㎡ | C36: =84*D36 -> 22092 | D36: 263 | E36: =D36-F36 -> 227 | F36: 36 | G36: =D36/$D$38 -> 0.087143804
B37: 84T㎡ | C37: =84*D37 -> 4200 | D37: 50 | E37: =D37-F37 -> 0 | F37: 50 | G37: =D37/$D$38 -> 0.016567263
B38: SUM | C38: =SUM(C29:C37) -> 222269 | D38: =SUM(D29:D37) -> 3018 | E38: =SUM(E30:E37) -> 2081 | F38: =SUM(F30:F37) -> 781 | G38: =SUM(G29:G37) -> 1
A40: (예상) 총 프 리 미 엄 (비례율 100%기준) | B40: 평형별(전용)\ | C40: (예상)조합원평당분양가 | D40: (예상)일반평당분양가 (대림인수가) | E40: (예상)일반분양가대비 | F40: 현재 인근평당시세 | G40: 인근시세대비 | H40: 비고
B41: 39㎡ | C41: 공공임대 | D41: - | E41: =(D41-C41)*25 -> #VALUE! | F41: - | G41: =(F41-C41)*25 -> #VALUE!
B42: 59A㎡ | C42: 8122941 | E42: =(D42-C42)*25 -> -203073525 | G42: =(F42-C42)*25 -> -203073525
B43: 59B㎡ | C43: 7886015 | E43: =(D43-C43)*25 -> -197150375 | G43: =(F43-C43)*25 -> -197150375
B44: 75A㎡ | C44: 8144586 | E44: =(D44-C44)*31 -> -252482166 | G44: =(F44-C44)*31 -> -252482166
B45: 75B㎡ | C45: 7955682 | E45: =(D45-C45)*31 -> -246626142 | G45: =(F45-C45)*31 -> -246626142
B46: 75C㎡ | C46: 7883756 | E46: =(D46-C46)*31 -> -244396436 | G46: =(F46-C46)*31 -> -244396436
B47: 84A㎡ | C47: 8262647 | D47: 12000000 | E47: =(D47-C47)*34 -> 127070002 | F47: 21760000 | G47: =(F47-C47)*34 -> 458910002 | H47: 대연파크푸르지오
B48: 84B㎡ | C48: 7983935 | E48: =(D48-C48)*34 -> -271453790 | G48: =(F48-C48)*34 -> -271453790
A49: 총 프 리 미 엄 (비례율 100%기준) | B49: 84T㎡ | C49: 9355175 | D49: - | E49: =(D49-C49)*34 -> #VALUE! | F49: - | G49: =(F49-C49)*34 -> #VALUE!
A51: 수 익 (현재기준) | B51: 평형별(전용) | C51: (예상)매매프리미엄 (대지 : 공시지가x130%) (건물 : 연면적평x130만원) (공동주택 : 공동주택가격x150%) | D51: 일반분양가 대비 총 프리미엄 | E51: 가상일반분양가 대비 수익 | F51: 인근시세 대비 총프리미엄 | G51: 인근시세 대비 수익 | H51: 총구매평당가 | I51: PPR (Premium to price Ratio) (100%일 때 적정) (100% 이상 : 과평가 (100% 이하 : 저평가)
B52: 39㎡ | C52: - | D52: =E41 -> #VALUE! | E52: =D52-C52 -> #VALUE! | F52: =G41 -> #VALUE! | G52: =F52-C52 -> #VALUE!
B53: 59A㎡ | D53: =E42 -> -203073525 | E53: =D53-C53 -> -203073525 | F53: =G42 -> -203073525 | G53: =F53-C53 -> -203073525
B54: 59B㎡ | D54: =E43 -> -197150375 | E54: =D54-C54 -> -197150375 | F54: =G43 -> -197150375 | G54: =F54-C54 -> -197150375
B55: 75A㎡ | D55: =E44 -> -252482166 | E55: =D55-C55 -> -252482166 | F55: =G44 -> -252482166 | G55: =F55-C55 -> -252482166
B56: 75B㎡ | D56: =E45 -> -246626142 | E56: =D56-C56 -> -246626142 | F56: =G45 -> -246626142 | G56: =F56-C56 -> -246626142
B57: 75C㎡ | D57: =E46 -> -244396436 | E57: =D57-C57 -> -244396436 | F57: =G46 -> -244396436 | G57: =F57-C57 -> -244396436
B58: 84A㎡ | C58: 260000000 | D58: =E47 -> 127070002 | E58: =D58-C58 -> -132929998 | F58: =G47 -> 458910002 | G58: =F58-C58 -> 198910002 | H58: =(C58+(C47*34))/34 -> 15909706 | I58: =H58/F47 -> 0.73114457
B59: 84B㎡ | D59: =E48 -> -271453790 | E59: =D59-C59 -> -271453790 | F59: =G48 -> -271453790 | G59: =F59-C59 -> -271453790
B60: 84T㎡ | D60: =E49 -> #VALUE! | E60: =D60-C60 -> #VALUE! | F60: =G49 -> #VALUE! | G60: =F60-C60 -> #VALUE!
A62: 시 세 T R E N D | B62: 기간 | C62: 평균 총구매 평당가(만원) | D62: Graph
B63: 19년04월~19년06월 | C63: 980
B64: 19년07월~19년09월 | C64: 1020
B65: 19년10월~19년12월 | C65: 1100
B66: 20년01월~20년03월 | C66: 1150
B67: 20년04월~20년06월 | C67: 1400
B68: 20년07월~20년09월 | C68: 1300
B69: 20년10월~20년12월 | C69: 1620
B70: 21년01월~21년03월 | C70: =H58/10000 -> 1590.9706
B71: 21년04월~21년06월
B72: 21년07월~21년09월
B73: 21년10월~21년12월
B74: 2022년(완공시)
A76: 특징 | B76: ♦ 부산의 중심 서면 및 부산역 접근이 차량 10분 이내
B77: ♦ 북항 및 부산항대교 조망권
B78: ♦ 신연초등학교, 우암초등학교 (초품아)
B79: ♦ 북항재재발 수혜지역
B80: ♦ 우암부두 해양클러스터 지정 재개발
B81: ♦ 저렴한 조합원분양가 (약 820여만원의 조합원분양가에 현재의 프리미엄을 더하여도 평당 900여만원 대)
B82: ♦ 우암.감만선 트램 신설
B83: ♦ 뉴스테이 연계형 재개발사업으로서 미분양 없음.
B84: (단, 일반분양이 없으므로 인근시세 대비 조합원분양가 차액 외 추가 수익을 기대하기 어려움.)
B85: ♦ 이미 관리처분계획이 끝나고 착공이 시작되었음에도 총 구매 평당가가 900여만으로 인근시세 대비 잉여프리미엄이 아주 높음.
B86: ♦ 전체 3,018세대 중 조합원 약 785세대만 매매 가능하므로 시세 형성이 빠름.

Sheet 우암1구역
A1: 우암1구역
A2: 사 업 개 요 | B2: 단지명 | C2: 효성해링턴
B3: 구역명 | C3: 우암1구역 주택재개발정비사업
B4: 위치 | C4: 부산광역시 남구 우암동 189번지 일원
B5: 용도지역 | C5: 제3종일반주거지역
B6: 대지면적 ㎡ | C6: 77808
B7: 구역면적 ㎡ | C7: 100459 | D7: 조합원세대당 대지지분 (평) | F7: =C7*0.3025/C9 -> 50.987999 | G7: 기준 : 25평 이상일 것.
B8: 동수 | C8: 25 | D8: 분양 7, 임대1
B9: 조합원세대수(약) | C9: 596 | D9: 조합원분양률 | E9: =C9/C11 -> 0.24012893
B10: 일반분양세대수 (뉴스테이) | C10: =C11-C9 -> 1886 | D10: 일반분양률 | E10: =C10/C11 -> 0.75987107 | F10: 기준 : 50% 이상일 것. (재건축 30% 이상)
B11: 총세대수(약) | C11: 2482 | D11: (공공임대, 보류 5세대 포함)
B12: 건페율 | C12: 0.173 | D12: 건축면적 ㎡ | E12: =C7*C12 -> 17379.407 | F12: 계산 층수 | G12: =E13/E12 -> 14.806358
B13: 용적률 | C13: 2.5615 | D13: 연면적 ㎡ | E13: =C7*C13 -> 257325.73 | F13: 전용면적 기준 | G13: =E13*76% -> 195567.55
B14: 건축규모 | C14: 지하4층 / 지상최고38층 | F14: 세대구성 총연면적 대비 | H14: =G13/C39 -> 1.0959051
B15: 시공사 | C15: 효성건설+진흥건설 | F15: 기준 : 세대구성 총연면적보다 클 것.
B16: 비례율(임의) | C16: 1.01
B17: 비고 | C17: 일반분양형 재개발로 전환 성공
A19: 추 진 현 황 | B19: 최초 구역지정 | C19: 2004.12.30
B20: 최초 조합설립 | C20: 2005.05.18
B21: 사업시행인가 | C21: 2006.11.23
B22: 관리처분변경인가 | C22: 2017.11.03
B23: 이주 | C23: 2019년 1/18~4/27
B24: 철거 | C24: 2020년 철거 중
B25: 일반분양 | C25: 2021년 예정
B26: 준공 | C26: 2024년 예정
A29: 세 대 구 성 | B29: 평형별(전용) | C29: 총연면적 | D29: 총세대수 | E29: 일반 | F29: 조합원 | G29: 점유율 | H29: 비고
B30: 37 | C30: =37*D30 -> 2516 | D30: 68 | E30: - | F30: - | G30: =D30/$D$39 -> 0.02739726 | H30: 임대
B31: 48 | C31: =48*D31 -> 2784 | D31: 58 | E31: - | F31: - | G31: =D31/$D$39 -> 0.023368251 | H31: 임대
B32: 59A | C32: =59*D32 -> 31565 | D32: 535 | E32: =D32-F32 -> 428 | F32: 107 | G32: =D32/$D$39 -> 0.21555197
B33: 59B | C33: =59*D33 -> 6490 | D33: 110 | E33: =D33-F33 -> 77 | F33: 33 | G33: =D33/$D$39 -> 0.044319098
B34: 73 | C34: =73*D34 -> 52268 | D34: 716 | E34: =D34-F34 -> 561 | F34: 155 | G34: =D34/$D$39 -> 0.28847703
B35: 84A | C35: =84*D35 -> 51996 | D35: 619 | E35: =D35-F35 -> 444 | F35: 175 | G35: =D35/$D$39 -> 0.24939565
B36: 84B | C36: =84*D36 -> 27048 | D36: 322 | E36: =D36-F36 -> 226 | F36: 96 | G36: =D36/$D$39 -> 0.12973409
B37: 59T | C37: =59*D37 -> 1770 | D37: 30 | E37: =D37-F37 -> 0 | F37: 30 | G37: =D37/$D$39 -> 0.012087027
B38: 84T | C38: =84*D38 -> 2016 | D38: 24 | E38: =D38-F38 -> 24 | F38: 0 | G38: =D38/$D$39 -> 0.0096696213
B39: SUM | C39: =SUM(C30:C38) -> 178453 | D39: =SUM(D30:D38) -> 2482 | E39: =SUM(E30:E38) -> 1760 | F39: =SUM(F30:F38) -> 596 | G39: =SUM(G30:G38) -> 1 | H39: =SUM(H30:H34) -> 0
A41: (예상) 총 프 리 미 엄 (비례율 100%기준) | B41: 평형별 | C41: (예상)조합원평당분양가 | D41: (예상)일반평당분양가 | E41: (예상)일반분양가대비 | F41: 현재 인근평당시세 | G41: 인근시세대비 | H41: 비고
B42: 37 | C42: - | D42: - | E42: =(D42-C42)*17 -> #VALUE! | F42: - | G42: =(F42-C42)*17 -> #VALUE! | H42: 임대
B43: 48 | C43: - | D43: - | E43: =(D43-C43)*20 -> #VALUE! | F43: - | G43: =(F43-C43)*20 -> #VALUE! | H43: 임대
B44: 59A | C44: 8706000 | D44: 12000000 | E44: =(D44-C44)*25 -> 82350000 | G44: =(F44-C44)*25 -> -217650000
B45: 59B | C45: 8706000 | D45: 12000000 | E45: =(D45-C45)*25 -> 82350000 | G45: =(F45-C45)*25 -> -217650000
B46: 73 | C46: 8360000 | D46: 12000000 | E46: =(D46-C46)*30 -> 109200000 | G46: =(F46-C46)*30 -> -250800000
B47: 84A | C47: 8080000 | D47: 12000000 | E47: =(D47-C47)*34 -> 133280000 | F47: 21760000 | G47: =(F47-C47)*34 -> 465120000 | H47: 대연파크푸르지오
B48: 84B | C48: 8080000 | D48: 12000000 | E48: =(D48-C48)*34 -> 133280000 | G48: =(F48-C48)*34 -> -274720000
B49: 59T | C49: 9034000 | D49: 12000000 | E49: =(D49-C49)*25 -> 74150000 | G49: =(F49-C49)*25 -> -225850000
A51: 수 익 (현재기준) | B51: 평형별(전용) | C51: (예상)매매프리미엄 (대지 : 공시지가x130%) (건물 : 연면적평x130만원) (공동주택 : 공동주택가격x150%) | D51: 일반분양가 대비 총 프리미엄 | E51: 일반분양가 대비 수익 | F51: 인근시세 대비 총프리미엄 | G51: 인근시세 대비 수익 | H51: 총구매평당가 | I51: PPR (Premium to price Ratio) (100%일 때 적정) (100% 이상 : 과평가 (100% 이하 : 저평가)
B52: 37 | C52: - | D52: =E42 -> #VALUE! | E52: =D52-C52 -> #VALUE! | F52: =G42 -> #VALUE! | G52: =F52-C52 -> #VALUE!
B53: 48 | C53: - | D53: =E43 -> #VALUE! | E53: =D53-C53 -> #VALUE! | F53: =G43 -> #VALUE! | G53: =F53-C53 -> #VALUE!
B54: 59A | D54: =E44 -> 82350000 | E54: =D54-C54 -> 82350000 | F54: =G44 -> -217650000 | G54: =F54-C54 -> -217650000
B55: 59B | D55: =E45 -> 82350000 | E55: =D55-C55 -> 82350000 | F55: =G45 -> -217650000 | G55: =F55-C55 -> -217650000
B56: 73 | D56: =E46 -> 109200000 | E56: =D56-C56 -> 109200000 | F56: =G46 -> -250800000 | G56: =F56-C56 -> -250800000
B57: 84A | C57: 280000000 | D57: =E47 -> 133280000 | E57: =D57-C57 -> -146720000 | F57: =G47 -> 465120000 | G57: =F57-C57 -> 185120000 | H57: =(C57+(C47*34))/34 -> 16315294 | I57: =H57/F47 -> 0.74978374
B58: 84B | D58: =E48 -> 133280000 | E58: =D58-C58 -> 133280000 | F58: =G48 -> -274720000 | G58: =F58-C58 -> -274720000
B59: 59T | C59: - | D59: =E49 -> 74150000 | E59: =D59-C59 -> #VALUE! | F59: =G49 -> -225850000 | G59: =F59-C59 -> #VALUE!
A61: 시 세 T R E N D | B61: 기간 | C61: 평균 총구매 평당가(만원) | D61: Graph
B62: 2018년
B63: 19년07월~19년09월 | C63: 850
B64: 19년10월~19년12월 | C64: 910
B65: 20년01월~20년03월 | C65: 1100
B66: 20년04월~20년06월 | C66: 1250
B67: 20년07월~20년09월 | C67: 1500
B68: 20년10월~20년12월 | C68: 1661
B69: 21년01월~21년03월 | C69: =H57/10000 -> 1631.5294
B70: 21년04월~21년06월
B71: 21년07월~21년09월
B72: 2024년 준공예정
A74: 특징 | B74: ♦ 부산의 중심 서면 및 부산역 접근이 차량 10분 이내
B75: ♦ 북항 및 부산항대교 조망권
B76: ♦ 성천초등학교 (초품아)
B77: ♦ 북항재재발 수혜지역
B78: ♦ 우암부두 해양클러스터 지정 재개발
B79: ♦ 저렴한 조합원분양가 (약 800여만원의 조합원분양가에 현재의 프리미엄을 더하여도 평당 900여만원 대)
B80: ♦ 우암.감만선 트램 신설
B81: ♦ 대단지 평지아파트
B82: ♦ 뉴스테이 연계형 재개발에서 일반분양형 재개발사업으로 전환 중
B83: ♦

Sheet 대연3구역
A1: 대연3구역
A2: 사 업 개 요 | B2: 단지명 | C2: 가칭 캐슬아아파크
B3: 구역명 | C3: 대연3주택재개발
B4: 위치 | C4: 대연2동 1619번지 일원 | E4: 평당 공사비(건축비) | F4: 4500000
B5: 구역면적 ㎡ | C5: 252527 | D5: 조합원세대당 대지 평수 (평균분양평형) | F5: =C5*0.3025/C7 -> 41.224726 | G5: 기준 : 25평 이상일 것.
B6: 동수 | C6: 28 | D6: 기부체납면적 ㎡ | F6: 실사용 면적 ㎡ | G6: =C5-E6 -> 252527
B7: 조합원세대수 | C7: 1853 | D7: 조합원분양률 | E7: =C7/C9 -> 0.41287879
B8: 일반분양세대수 | C8: =C9-C7 -> 2635 | D8: 일반분양률 | E8: =C8/C9 -> 0.58712121 | F8: 기준 : 50% 이상일 것. (재건축 30% 이상)
B9: 총세대수 | C9: 4488 | D9: 보류지 17세대, 임대주택 238세대 포함
B10: 건페율 | C10: 0.1602 | D10: 건축면적 ㎡ | E10: =G6*C10 -> 40454.825 | F10: 계산 층수 | G10: =E11/E10 -> 15.648564
B11: 용적률 | C11: 2.5069 | D11: 건축가능 연면적 ㎡ | E11: =G6*C11 -> 633059.94 | F11: 전용면적 기준 | G11: =E11*76% -> 481125.55
B12: 건축규모 | C12: - | D12: 세대당 평균 종전자산 평가액 | E12: - | F12: 세대구성 총연면적 대비 | G12: =G11/C38 -> 1.4075201
B13: 시공사 | C13: 롯데+현대산업개발 | D13: 총 종전사산 평가액 | E13: =C7*E12 -> #VALUE! | F13: 총 건축가능세대 수 | G13: =E11*0.3025/F5 -> 4645.2857
B14: 조합 비례율 | C14: 약 104% | D14: 계약면적 (평) | E14: - | F14: 총 시공 평수 | G14: =E14*G13 -> #VALUE!
B16: 총 사업비 | C16: =E16+G16 -> #VALUE! | D16: 총 공사비 | E16: =G14*F4 -> #VALUE! | F16: 기타사업비 | G16: =E16*30% -> #VALUE!
B17: 총 분양수입 | C17: =(E17*C7)+(G17*C8) -> #VALUE! | D17: (예상)평균조합원분양가 | E17: - | F17: (예상) 평균일반분양가 | G17: -
B18: 비례율 (사업성 검토용) | C18: =E18/E13 -> #VALUE! | D18: 순이익 | E18: =C17-C16 -> #VALUE! | F18: 조합원 세대당 평균 순이익 | G18: =E18/C7 -> #VALUE!
A20: 추 진 현 황 | B20: 구역지정 | C20: 2006.09.13
B21: 조합설립 | C21: 2007.10.12
B22: 사업시행 | C22: 2017.07.05
B23: 관리처분계획 | C23: 2019년 4월 1일
B24: 이주 | C24: 2019년 8월 1일 시작
B25: 철거 | C25: 2020년 진행 중
B26: 일반분양 | C26: 2022년 예정
B27: 준공 | C27: 2026년 예정
A29: 세 대 구 성 | B29: 평형별(전용) | C29: 총연면적 | D29: 총세대수 | E29: 1단지 | F29: 2단지 | G29: 3단지 | H29: 점유율 | I29: 조합원 | J29: 일반 | K29: 보류지
B30: 38㎡ (임대) | C30: =38*D30 -> 9044 | D30: =E30+F30+G30 -> 238 | G30: 238 | H30: =D30/$D$38 -> 0.053030303
B31: 59A㎡ | C31: =59*D31 -> 57702 | D31: =E31+F31+G31 -> 978 | E31: 302 | F31: 676 | H31: =D31/$D$38 -> 0.21791444 | I31: 382 | J31: 592 | K31: 4
B32: 59B㎡ | C32: =59*D32 -> 14809 | D32: =E32+F32+G32 -> 251 | E32: 84 | F32: 167 | H32: =D32/$D$38 -> 0.055926916 | I32: 16 | J32: 233 | K32: 2
B33: 84A㎡ | C33: =84*D33 -> 178752 | D33: =E33+F33+G33 -> 2128 | E33: 820 | F33: 1308 | H33: =D33/$D$38 -> 0.4741533 | I33: 1064 | J33: 1056 | K33: 8
B34: 84B㎡ | C34: =84*D34 -> 44940 | D34: =E34+F34+G34 -> 535 | E34: 145 | F34: 390 | H34: =D34/$D$38 -> 0.11920677 | I34: 36 | J34: 498 | K34: 3
B35: 99A㎡ | C35: =99*D35 -> 17820 | D35: =E35+F35+G35 -> 180 | F35: 180 | H35: =D35/$D$38 -> 0.040106952 | I35: 179 | J35: 1
B36: 99B㎡ | C36: =99*D36 -> 10593 | D36: =E36+F36+G36 -> 107 | F36: 107 | H36: =D36/$D$38 -> 0.023841355 | I36: 105 | J36: 2
B37: 115㎡ | C37: =115*D37 -> 8165 | D37: =E37+F37+G37 -> 71 | F37: 71 | H37: =D37/$D$38 -> 0.015819964 | I37: 71
B38: SUM | C38: =SUM(C30:C37) -> 341825 | D38: =SUM(D30:D37) -> 4488 | E38: =SUM(E30:E37) -> 1351 | F38: =SUM(F30:F37) -> 2899 | G38: =SUM(G30:G37) -> 238 | H38: =SUM(H30:H37) -> 1 | I38: =SUM(I30:I37) -> 1853 | J38: =SUM(J30:J37) -> 2382 | K38: =SUM(K30:K37) -> 17
A40: 총 프 리 미 엄 (비례율 100%기준) | B40: 평형별(전용) | C40: (예상)조합원평당분양가 | D40: (예상)일반평당분양가 | E40: 일반분양가대비 | F40: 현재 인근평당시세 | G40: 인근시세 대비 | H40: 비고
B41: 38㎡ (임대)
B42: 59A㎡ | C42: =279489000/25 -> 11179560 | D42: 14000000 | E42: =(D42-C42)*25 -> 70511000 | G42: =(F42-C42)*25 -> -279489000
B43: 59B㎡ | E43: =(D43-C43)*25 -> 0 | G43: =(F43-C43)*25 -> 0
B44: 84A㎡ | C44: =357583000/34 -> 10517147 | D44: 16000000 | E44: =(D44-C44)*34 -> 186417000 | F44: 26670000 | G44: =(F44-C44)*34 -> 549197000 | H44: 레전드
B45: 84B㎡ | E45: =(D45-C45)*34 -> 0 | G45: =(F45-C45)*34 -> 0
B46: 99A㎡ | C46: =402093000/38 -> 10581395 | D46: 14000000 | E46: =(D46-C46)*39 -> 1.3332561e+08 | G46: =(F46-C46)*39 -> -4.1267439e+08
B47: 99B㎡ | E47: =(D47-C47)*39 -> 0 | G47: =(F47-C47)*39 -> 0
B48: 115㎡ | C48: =453574000/44 -> 10308500 | D48: 14000000 | E48: =(D48-C48)*39 -> 143968500 | G48: =(F48-C48)*39 -> -402031500
A50: 수 익 (현재기준) | B50: 평형별(전용) | C50: (예상)매매프리미엄 (대지 : 공시지가x130%) (건물 : 연면적평x130만원) (공동주택 : 공동주택가격x150%) | D50: 일반분양가 대비 총 프리미엄 | E50: 일반분양가 대비 수익 | F50: 인근시세 대비 총프리미엄 | G50: 인근시세 대비 수익 | H50: 총구매평당가 | I50: PPR (Premium to price Ratio) (100%일 때 적정) (100% 이상 : 과평가 (100% 이하 : 저평가)
B51: 38㎡ (임대) | C51: - | D51: =E41 -> 0 | E51: =D51-C51 -> #VALUE! | F51: =G41 -> 0 | G51: =F51-C51 -> #VALUE!
B52: 59A㎡ | D52: =E42 -> 70511000 | E52: =D52-C52 -> 70511000 | F52: =G42 -> -279489000 | G52: =F52-C52 -> -279489000
B53: 59B㎡ | C53: - | D53: =E43 -> 0 | E53: =D53-C53 -> #VALUE! | F53: =G43 -> 0 | G53: =F53-C53 -> #VALUE!
B54: 84A㎡ | C54: 650000000 | D54: =E44 -> 186417000 | E54: =D54-C54 -> -463583000 | F54: =G44 -> 549197000 | G54: =F54-C54 -> -100803000 | H54: =(C54+(C44*34))/34 -> 29634794 | I54: =H54/F44 -> 1.1111659
B55: 84B㎡ | C55: - | D55: =E45 -> 0 | E55: =D55-C55 -> #VALUE! | F55: =G45 -> 0 | G55: =F55-C55 -> #VALUE!
B56: 99A㎡ | D56: =E46 -> 1.3332561e+08 | E56: =D56-C56 -> 1.3332561e+08 | F56: =G46 -> -4.1267439e+08 | G56: =F56-C56 -> -4.1267439e+08
B57: 99B㎡ | C57: - | D57: =E47 -> 0 | E57: =D57-C57 -> #VALUE! | F57: =G47 -> 0 | G57: =F57-C57 -> #VALUE!
B58: 115㎡ | C58: - | D58: =E48 -> 143968500 | E58: =D58-C58 -> #VALUE! | F58: =G48 -> -402031500 | G58: =F58-C58 -> #VALUE!
A60: 시 세 T R E N D | B60: 기간 | C60: 평균 총구매 평당가(만원) | D60: Graph
B61: 2018년 | C61: 1250
B62: 19년07월~19년09월 | C62: 1480
B63: 19년10월~19년12월 | C63: 1700
B64: 20년01월~20년03월 | C64: 2100
B65: 20년04월~20년06월 | C65: 2300
B66: 20년07월~20년09월 | C66: 2500
B67: 20년10월~20년12월 | C67: 2963
B68: 21년01월~21년03월 | C68: =H54/10000 -> 2963.4794
B69: 21년04월~21년06월
B70: 21년07월~21년09월
B71: 2024년
B72: 2025년
B73: 2026년(완공시)
A74: 특징 | B74: ♦ 지하철 이용이 편리한 대로변으로는 59형을 배치, 조용한 우룡한 숲 쪽으론 84형을 배치, 조용하고 조망이 우수한 윗쪽 지대로는 99, 115형을 배치함
B75: ♦ 못골역을 끼고 있어 부산 대표적 지하철 1호선 역세권입니다.
B76: ♦ 남구, 수영구의 주요 대로인 수영로을 앞에 두고 있어 대중교통 및 자가용으로도 서면, 중구로의 이동이 수월하고,
B77: 광안대로를 통한 해운대구, 번영로를 통한 시외고속도로 이용까지 아주 편리한 교통환경을 갖추고 있습니다.
B78: ♦ 도보 3분거리에 남구청, 못골시장, 많은 병.의원뿐만 아니라 부산 최대상권 중 하나인 경성대 인근으로 많은 식당 및 편의시설을 등
B79: 실거주에 편리한 주거환경을 갖추고 있습니다.
B80: ♦ 대연초, 대연중, 대연고 등 우수한 대연동 명문학군을 갖추고 있습니다.
B81: ♦ 인근으로 부산박물관, 부산문화회관, 유엔공원 등 다양한 문화시설들이 인근에 있습니다.
B82: ♦ 단지 뒷편으로 우룡산을 끼고 있어서 등산 및 산책로로 좋은 숲세권아파트입니다.

Sheet 대연4구역
A1: 대연4구역
A2: 사 업 개 요 | B2: 단지명 | C2: 푸르지오
B3: 구역명 | C3: 대연4주택재개발
B4: 위치 | C4: 대연4동 1203번지 일원
B5: 용도지역 | C5: 제3종일반주거지역
B6: 대지면적 ㎡ | C6: 39579
B7: 구역면적 ㎡ | C7: 54289 | D7: 조합원세대당 대지지분 (평) | F7: =C7*0.3025/C9 -> 40.750428 | G7: 기준 : 25평 이상일 것.
B8: 동수 | C8: 8 | D8: 분양 7, 임대1
B9: 조합원세대수(약) | C9: 403 | D9: 조합원분양률 | E9: =C9/C11 -> 0.38126774
B10: 일반분양세대수 | C10: =C11-C9 -> 654 | D10: 일반분양률 | E10: =C10/C11 -> 0.61873226 | F10: 기준 : 50% 이상일 것. (재건축 30% 이상)
B11: 총세대수(약) | C11: 1057 | D11: (공공임대포함)
B12: 건페율 | C12: 0.4467 | D12: 건축면적 ㎡ | E12: =C7*C12 -> 24250.896 | F12: 계산 층수 | G12: =E13/E12 -> 5.8612044
B13: 용적률 | C13: 2.6182 | D13: 연면적 ㎡ | E13: =C7*C13 -> 142139.46 | F13: 전용면적 기준 | G13: =E13*76% -> 108025.99
B14: 건축규모 | C14: 지하4층 / 지상최고36층 | F14: 세대구성 총연면적 대비 | H14: =G13/C40 -> 1.4290475
B15: 시공사 | C15: 대우건설
B16: 비례율(임의) | C16: 1.04
B17: 비고
A20: 추 진 현 황 | B20: 최초 구역지정 | C20: 2008.06.18
B21: 최초 조합설립 | C21: 2008.12.22
B22: 사업시행인가 | C22: 2016.12.23
B23: 관리처분변경인가 | C23: 2017.12.14
B24: 이주 | C24: 완료
B25: 철거 | C25: 완료
B26: 일반분양 | C26: 2020년 완료
B27: 준공 | C27: 2024년 예정
A30: 세 대 구 성 | B30: 평형별(전용) | C30: 총연면적 | D30: 총세대수 | E30: 일반 | F30: 조합원 | G30: 점유율 | H30: 비고
B31: 39A | C31: =39*D31 -> 1755 | D31: 45 | E31: - | F31: - | G31: =D31/$D$40 -> 0.042573321 | H31: 임대
B32: 39B | C32: =39*D32 -> 546 | D32: 14 | E32: - | F32: - | G32: =D32/$D$40 -> 0.013245033 | H32: 임대
B33: 59A | C33: =59*D33 -> 12508 | D33: 212 | E33: =D33-F33 -> 111 | F33: 101 | G33: =D33/$D$40 -> 0.20056764
B34: 59B | C34: =59*D34 -> 3422 | D34: 58 | E34: =D34-F34 -> 40 | F34: 18 | G34: =D34/$D$40 -> 0.05487228
B35: 74A | C35: =74*D35 -> 25382 | D35: 343 | E35: =D35-F35 -> 282 | F35: 61 | G35: =D35/$D$40 -> 0.32450331
B36: 74B | C36: =74*D36 -> 2664 | D36: 36 | E36: =D36-F36 -> 33 | F36: 3 | G36: =D36/$D$40 -> 0.034058657
B37: 84A | C37: =84*D37 -> 11592 | D37: 138 | E37: =D37-F37 -> 0 | F37: 138 | G37: =D37/$D$40 -> 0.13055818
B38: 84B | C38: =84*D38 -> 14700 | D38: 175 | E38: =D38-F38 -> 95 | F38: 80 | G38: =D38/$D$40 -> 0.16556291
B39: 84C | C39: =84*D39 -> 3024 | D39: 36 | E39: =D39-F39 -> 34 | F39: 2 | G39: =D39/$D$40 -> 0.034058657
B40: SUM | C40: =SUM(C31:C39) -> 75593 | D40: =SUM(D31:D39) -> 1057 | E40: =SUM(E31:E39) -> 595 | F40: =SUM(F31:F39) -> 403 | G40: =SUM(G31:G39) -> 1 | H40: =SUM(H31:H36) -> 0
A42: (예상) 총 프 리 미 엄 (비례율 100%기준) | B42: 평형별 | C42: (예상)조합원평당분양가 | D42: (예상)일반평당분양가 | E42: 일반분양가대비 | F42: 현재 인근평당시세 | G42: 인근시세대비 | H42: 비고
B43: 39A | C43: - | D43: - | E43: =(D43-C43)*17 -> #VALUE! | F43: - | G43: =(F43-C43)*17 -> #VALUE! | H43: 임대
B44: 39B | C44: - | D44: - | E44: =(D44-C44)*17 -> #VALUE! | F44: - | G44: =(F44-C44)*17 -> #VALUE! | H44: 임대
B45: 59A | C45: =242800000/25 -> 9712000 | D45: 12000000 | E45: =(D45-C45)*25 -> 57200000 | G45: =(F45-C45)*25 -> -242800000
B46: 59B | C46: =242800000/25 -> 9712000 | D46: 12000000 | E46: =(D46-C46)*25 -> 57200000 | G46: =(F46-C46)*25 -> -242800000
B47: 74A | C47: =283748495/29 -> 9784430.9 | D47: 12000000 | E47: =(D47-C47)*29 -> 64251505 | G47: =(F47-C47)*29 -> -283748495
B48: 74B | C48: =283748495/29 -> 9784430.9 | D48: 12000000 | E48: =(D48-C48)*29 -> 64251505 | G48: =(F48-C48)*29 -> -283748495
B49: 84A | C49: =321423634/33 -> 9740110.1 | D49: 12000000 | E49: =(D49-C49)*33 -> 74576366 | F49: 21760000 | G49: =(F49-C49)*33 -> 396656366 | H49: 대연파크푸르지오
B50: 84B | C50: =321423634/33 -> 9740110.1 | D50: 12000000 | E50: =(D50-C50)*33 -> 74576366 | G50: =(F50-C50)*33 -> -321423634
B51: 84C | C51: =321423634/33 -> 9740110.1 | D51: 12000000 | E51: =(D51-C51)*33 -> 74576366 | G51: =(F51-C51)*33 -> -321423634
A53: 수 익 (현재기준) | B53: 평형별(전용) | C53: (예상)매매프리미엄 (대지 : 공시지가x130%) (건물 : 연면적평x130만원) (공동주택 : 공동주택가격x150%) | D53: 일반분양가 대비 총 프리미엄 | E53: 일반분양가 대비 수익 | F53: 인근시세 대비 총프리미엄 | G53: 인근시세 대비 수익 | H53: 총구매평당가 | I53: PPR (Premium to price Ratio) (100%일 때 적정) (100% 이상 : 과평가 (100% 이하 : 저평가)
B54: 39A | C54: - | D54: =E43 -> #VALUE! | E54: =D54-C54 -> #VALUE! | F54: =G43 -> #VALUE! | G54: =F54-C54 -> #VALUE!
B55: 39B | C55: - | D55: =E44 -> #VALUE! | E55: =D55-C55 -> #VALUE! | F55: =G44 -> #VALUE! | G55: =F55-C55 -> #VALUE!
B56: 59A | D56: =E45 -> 57200000 | E56: =D56-C56 -> 57200000 | F56: =G45 -> -242800000 | G56: =F56-C56 -> -242800000
B57: 59B | D57: =E46 -> 57200000 | E57: =D57-C57 -> 57200000 | F57: =G46 -> -242800000 | G57: =F57-C57 -> -242800000
B58: 74A | D58: =E47 -> 64251505 | E58: =D58-C58 -> 64251505 | F58: =G47 -> -283748495 | G58: =F58-C58 -> -283748495
B59: 74B | D59: =E48 -> 64251505 | E59: =D59-C59 -> 64251505 | F59: =G48 -> -283748495 | G59: =F59-C59 -> -283748495
B60: 84A | C60: 450000000 | D60: =E49 -> 74576366 | E60: =D60-C60 -> -375423634 | F60: =G49 -> 396656366 | G60: =F60-C60 -> -53343634 | H60: =(C60+(C49*34))/34 -> 22975404 | I60: =H60/F49 -> 1.055855
B61: 84B | D61: =E50 -> 74576366 | E61: =D61-C61 -> 74576366 | F61: =G50 -> -321423634 | G61: =F61-C61 -> -321423634
B62: 84C | D62: =E51 -> 74576366 | E62: =D62-C62 -> 74576366 | F62: =G51 -> -321423634 | G62: =F62-C62 -> -321423634
A64: 시 세 T R E N D | B64: 기간 | C64: 평균 총구매 평당가(만원) | D64: Graph
B65: 2018년
B66: 19년07월~19년09월 | C66: 1130
B67: 19년10월~19년12월 | C67: 1400
B68: 20년01월~20년03월 | C68: 1600
B69: 20년04월~20년06월 | C69: 1700
B70: 20년07월~20년09월 | C70: 1900
B71: 20년10월~20년12월 | C71: 2298
B72: 21년01월~21년03월
B73: 21년04월~21년06월
B74: 21년07월~21년09월
B75: 21년10월~21년12월
A76: 특징 | B76: ♦ 대연3구역과 구역경계를 같이 하고 있어서 대연3구역과 시세 뒤따르기합니다.
B77: ♦ 남구, 수영구의 주요 대로인 수영로을 앞에 두고 있어 대중교통 및 자가용으로도 서면, 중구로의 이동이 수월하고,
B78: 광안대로를 통한 해운대구, 번영로를 통한 시외고속도로 이용까지 아주 편리한 교통환경을 갖추고 있습니다.
B79: ♦ 도보 10분거리에 남구청, 못골시장, 많은 병.의원뿐만 아니라 부산 최대상권 중 하나인 경성대 인근으로 많은 식당 및 편의시설을 등
B80: 실거주에 편리한 주거환경을 갖추고 있습니다.
B81: ♦ 대연초, 대연중, 대연고 등 우수한 대연동 명문학군을 갖추고 있습니다.
B82: ♦ 인근으로 부산박물관, 부산문화회관, 유엔공원 등 다양한 문화시설들이 인근에 있습니다.
B83: ♦ 단지 뒷편으로 우룡산을 끼고 있어서 등산 및 산책로로 좋은 숲세권아파트입니다.
J92: 3. 매매서류
J93: * 매수자
J94: -주민등록초본(주소변동사항포함)
J95: -도장
J96: -신분증
J97: * 매도자
J98: -인감증명서(매도용,매수자인적사항포함)
J99: 주민등록초본1통 (주소변동사항포람)
J100: -등기권리증
J101: -인감도장
J102: -신분증
J104: 4. 이주지원센터
... J133: - 공가 멸실 확인서 (매수자 인감도장찍힌 - 조합에)

Sheet 대연8구역
A1: 대연8구역
A2: 사 업 개 요 | B2: 단지명 | C2: 미정
B3: 구역명 | C3: 대연8주택재개발
B4: 위치 | C4: 대연4동 1173번지 일원
B5: 구역면적 ㎡ | C5: 213059.6 | D5: 조합원세대당 대지 평수 | F5: =C5*0.3025/C7 -> 49.57733 | G5: 기준 : 25평 이상일 것.
B6: 동수 | C6: 33
B7: 조합원세대수(약) | C7: 1300 | D7: 조합원분양률 | E7: =C7/C9 -> 0.39015606
B8: 일반분양세대수 | C8: =C9-C7 -> 2032 | D8: 일반분양률 | E8: =C8/C9 -> 0.60984394 | F8: 기준 : 50% 이상일 것. (재건축 30% 이상)
B9: 총세대수(약) | C9: 3332
B10: 건페율 | C10: 0.1302 | D10: 건축면적 ㎡ | E10: =C5*C10 -> 27740.36 | F10: 계산 층수 | G10: =E11/E10 -> 19.927803
B11: 용적률 | C11: 2.5946 | D11: 연면적 ㎡ | E11: =C5*C11 -> 552804.44 | F11: 전용면적 기준 | G11: =E11*76% -> 420131.37
B12: 건축규모 | C12: 미정 | F12: 세대구성 총연면적 대비 | H12: =G11/C38 -> 1.5543669
B13: 시공사 | C13: 미정 (현산,gs,대림산업, 롯데, 나, 포스코 등 국내 Top 10위권 내 건설사들은 다 들어와 있다 보시면 됩니다. | F13: 기준 : 세대구성 총연면적보다 클 것.
B14: 비례율(임의) | C14: 129.75% (추진위 제공)
B15: 비고
A18: 추 진 현 황 | B18: 구역지정 | C18: 2008.07.02 (2017.12.13 구역 변경)
B19: 추진위원회승인 | C19: 2006.07.04
B20: 조합설립 | C20: 2020년 3월 예정
B21: 시공사선정 | C21: 2020년 11월 예정
B22: 사업시행인가 | C22: 2022년 예정
B23: 관리처분계획 | C23: 2024년 예정
B24: 이주.철거 | C24: 2026년 예정
B25: 일반분양 | C25: 2027년 예정
B26: 준공 | C26: 2030년 예정
A28: 세 대 구 성 (임의) | B28: 평형별(전용) | C28: 총연면적 | D28: 총세대수 | E28: 일반 | F28: 조합원 | G28: 점유율 | H28: 비고
B29: 39㎡ | C29: =39*D29 -> 0 | G29: =D29/$D$38 -> 0
B30: 59A㎡ | C30: =59*D30 -> 42067 | D30: 713 | G30: =D30/$D$38 -> 0.21398559
B31: 59B㎡ | C31: =59*D31 -> 8850 | D31: 150 | G31: =D31/$D$38 -> 0.045018007
B32: 69A㎡ | C32: =69*D32 -> 34431 | D32: 499 | G32: =D32/$D$38 -> 0.1497599
B33: 69B㎡ | C33: =69*D33 -> 8832 | D33: 128 | G33: =D33/$D$38 -> 0.038415366
B34: 84A㎡ | C34: =84*D34 -> 16548 | D34: 197 | G34: =D34/$D$38 -> 0.059123649
B35: 84B㎡ | C35: =84*D35 -> 39060 | D35: 465 | G35: =D35/$D$38 -> 0.13955582
B36: 101㎡ | C36: =101*D36 -> 100091 | D36: 991 | G36: =D36/$D$38 -> 0.29741897
B37: 118㎡ | C37: =108*D37 -> 20412 | D37: 189 | G37: =D37/$D$38 -> 0.056722689
B38: SUM | C38: =SUM(C29:C37) -> 270291 | D38: =SUM(D29:D37) -> 3332 | E38: =SUM(E30:E37) -> 0 | F38: =SUM(F30:F37) -> 0 | G38: =SUM(G29:G37) -> 1
A40: 총 프 리 미 엄 (비례율 100%기준) | B40: 평형별(전용)\ | C40: (예상)조합원평당분양가 | D40: (예상)일반평당분양가 | E40: 일반분양가대비 | F40: 현재 인근평당시세 | G40: 인근시세대비 | H40: 비고
B41: 39㎡ | E41: =(D41-C41)*25 -> 0 | G41: =(F41-C41)*25 -> 0
B42: 59A㎡ | E42: =(D42-C42)*25 -> 0 | G42: =(F42-C42)*25 -> 0
B43: 59B㎡ | E43: =(D43-C43)*25 -> 0 | G43: =(F43-C43)*25 -> 0
B44: 69A㎡ | E44: =(D44-C44)*30 -> 0 | G44: =(F44-C44)*30 -> 0
B45: 69B㎡ | E45: =(D45-C45)*30 -> 0 | G45: =(F45-C45)*30 -> 0
B46: 84A㎡ | C46: =F46*70% -> 15232000 | D46: =F46-2000000 -> 19760000 | E46: =(D46-C46)*34 -> 1.53952e+08 | F46: 21760000 | G46: =(F46-C46)*34 -> 2.21952e+08 | H46: 대연파크푸르지오
B47: 84B㎡ | E47: =(D47-C47)*34 -> 0 | G47: =(F47-C47)*34 -> 0
B48: 101㎡ | E48: =(D48-C48)*39 -> 0 | G48: =(F48-C48)*39 -> 0
A49: 총 프 리 미 엄 (비례율 100%기준) | B49: 118㎡ | E49: =(D49-C49)*45 -> 0 | G49: =(F49-C49)*45 -> 0
A51: 수 익 (현재기준) | B51: 평형별(전용) | C51: (예상)매매프리미엄 (가감정가 기준) | D51: 일반분양가 대비 총 프리미엄 | E51: 가상일반분양가 대비 수익 | F51: 인근시세 대비 총프리미엄 | G51: 인근시세 대비 수익 | H51: 비고 | I51: PPR (Premium to price Ratio) (100%일 때 적정) (100% 이상 : 과평가 (100% 이하 : 저평가)
B52: 39㎡ | C52: - | D52: =E41 -> 0 | E52: =D52-C52 -> #VALUE! | F52: =G41 -> 0 | G52: =F52-C52 -> #VALUE!
B53: 59A㎡ | D53: =E42 -> 0 | E53: =D53-C53 -> 0 | F53: =G42 -> 0 | G53: =F53-C53 -> 0
B54: 59B㎡ | D54: =E43 -> 0 | E54: =D54-C54 -> 0 | F54: =G43 -> 0 | G54: =F54-C54 -> 0
B55: 69A㎡ | D55: =E44 -> 0 | E55: =D55-C55 -> 0 | F55: =G44 -> 0 | G55: =F55-C55 -> 0
B56: 69B㎡ | D56: =E45 -> 0 | E56: =D56-C56 -> 0 | F56: =G45 -> 0 | G56: =F56-C56 -> 0
B57: 84A㎡ | C57: 420000000 | D57: =E46 -> 1.53952e+08 | E57: =D57-C57 -> -2.66048e+08 | F57: =G46 -> 2.21952e+08 | G57: =F57-C57 -> -1.98048e+08 | H57: =(C57+(C46*34))/34 -> 27584941 | I57: =H57/F46 -> 1.2676903
B58: 84B㎡ | D58: =E47 -> 0 | E58: =D58-C58 -> 0 | F58: =G47 -> 0 | G58: =F58-C58 -> 0
B59: 101㎡ | D59: =E48 -> 0 | E59: =D59-C59 -> 0 | F59: =G48 -> 0 | G59: =F59-C59 -> 0
B60: 118㎡ | D60: =E49 -> 0 | E60: =D60-C60 -> 0 | F60: =G49 -> 0 | G60: =F60-C60 -> 0
A62: 시 세 T R E N D | B62: 기간 | C62: 가감정가 대비 p(만원) | D62: Graph
B63: 2018년
B64: 19년07월~19년09월 | C64: 1547 | L64: 1100 | M64: 34 | N64: =L64*M64 -> 37400 | O64: 5000 | P64: =N64+O64 -> 42400 | Q64: =P64/34 -> 1247.0588
B65: 19년10월~19년12월 | C65: 1635 | L65: 1100 | M65: 34 | N65: =L65*M65 -> 37400 | O65: 8000 | P65: =N65+O65 -> 45400 | Q65: =P65/34 -> 1335.2941
B66: 20년01월~20년03월 | C66: 1841 | L66: 1100 | M66: 34 | N66: =L66*M66 -> 37400 | O66: 15000 | P66: =N66+O66 -> 52400 | Q66: =P66/34 -> 1541.1765
B67: 20년04월~20년06월 | C67: 2194 | L67: 1100 | M67: 34 | N67: =L67*M67 -> 37400 | O67: 27000 | P67: =N67+O67 -> 64400 | Q67: =P67/34 -> 1894.1176
B68: 20년07월~20년09월 | C68: 2223 | L68: 1100 | M68: 34 | N68: =L68*M68 -> 37400 | O68: 28000 | P68: =N68+O68 -> 65400 | Q68: =P68/34 -> 1923.5294
B69: 20년10월~20년12월 | C69: 2847
B70: 21년01월~21년03월 | C70: =H57/10000 -> 2758.4941
B71: 21년04월~24년06월
B72: 21년07월~20년09월
B73: 21년10월~21년12월
B74: 22년01월~21년03월
B75: 22년04월~22년06일
A76: 특징 | B76: ♦ 부산 남구 대연동의 마지막 남은 대단지 재개발 구역으로서 희소가치 있습니다.
B77: ♦ 남구, 수영구의 주요 대로인 수영로을 앞에 두고 있어 대중교통 및 자가용으로도 서면, 중구로의 이동이 수월하고,
B78: 광안대로를 통한 해운대구, 번영로를 통한 시외고속도로 이용까지 아주 편리한 교통환경을 갖추고 있습니다.
B79: ♦ 도보 10분거리에 남구청, 못골시장, 많은 병.의원뿐만 아니라 부산 최대상권 중 하나인 경성대 인근으로 많은 식당 및 편의시설을 등
B80: 실거주에 편리한 주거환경을 갖추고 있습니다.
B81: ♦ 대연초, 대연중, 대연고 등 우수한 대연동 명문학군을 갖추고 있습니다.
B82: ♦ 인근으로 부산박물관, 부산문화회관, 유엔공원 등 다양한 문화시설들이 인근에 있습니다.
B83: ♦ 대연역 도보 10분 거리입니다.
A85: 현재의 시세 기준과, 추진위에서 제공한 탁상가감정가 기준이므로 이므로 실제 감정평가가 이루어지는 약 4년 이후의 감정가 대비해서는 여전히
A86: 잉여프리미엄이 남아 있고, 특히 7~8년 이후에나 있을 미래의 일반분양가를 감안하면 잉여프리미엄 또한 상당히 높을 것으로 예상됩니다.
A87: 하지만, 현재가 대비해서는 상당히 높은 시세를 형성하고 있으므로, 1~2년 단기 투자로는 조금은 고민이 필요한 상황입니다.

Sheet 복산1구역
A1: 복산1구역
A2: 사 업 개 요 | B2: 단지명 | C2: 동래그랑자이
B3: 구역명 | C3: 복산1구역 주택재개발
B4: 위치 | C4: 부산시 동래구 복산동 50번지 일원
B5: 용도지역 | C5: 제3종일반주거지역
B6: 대지면적 ㎡ | C6: 280440
B7: 구역면적 ㎡ | C7: 405465 | D7: 조합원세대당 대지지분 (평) | F7: =C7*0.3025/C9 -> 46.284212 | G7: 기준 : 25평 이상일 것.
B8: 동수 | C8: 68
B9: 조합원세대수(약) | C9: 2650 | D9: 조합원분양률 | E9: =C9/C11 -> 0.54004483
B10: 일반분양세대수 | C10: =C11-C9 -> 2257 | D10: 일반분양률 | E10: =C10/C11 -> 0.45995517 | F10: 기준 : 50% 이상일 것. (재건축 30% 이상)
B11: 총세대수(약) | C11: 4907
B12: 건페율 | C12: 0.199 | D12: 건축면적 ㎡ | E12: =C7*C12 -> 80687.535 | F12: 계산 층수 | G12: =E13/E12 -> 11.548744
B13: 용적률 | C13: 2.2982 | D13: 연면적 ㎡ | E13: =C7*C13 -> 931839.66 | F13: 전용면적 기준 | G13: =E13*76% -> 708198.14
B14: 건축규모 | C14: 지하2층 / 지상 최고 27층 | F14: 세대구성 총연면적 대비 | H14: =G13/C42 -> 1.5992154
B15: 시공사 | C15: GS건설 | F15: 기준 : 세대구성 총연면적보다 클 것.
B16: 비례율(임의) | C16: 미정
B17: 비고
C18: 2020.10월 조합에서 조합원 분양가를 제시함.
A20: 추 진 현 황 | B20: 최초 구역지정 | C20: 2008.01.30
B21: 최초 조합설립 | C21: 2008.07.16
B22: 조합설립 변경인가 | C22: 2017.09.19
B23: 시공사선정 | C23: 2016.01.07
B24: 사업시행인가 | C24: 2020년 예정
B25: 관리처분계획 | C25: 2022년 예정
B26: 이주.철거 | C26: 2023년 예정
B27: 일반분양 | C27: 2024년 예정
B28: 준공 | C28: 2028년 예정
A30: 세 대 구 성 | B30: 평형별(전용) | C30: 총연면적 | D30: 총세대수 | E30: 일반 | F30: 조합원 | G30: 점유율 | H30: 비고
B31: 39A㎡ | C31: =39*D31 -> 16341 | D31: 419 | E31: - | F31: - | G31: =D31/$D$42 -> 0.085388221 | H31: 임대
B32: 59A㎡ | C32: =59*D32 -> 47672 | D32: 808 | E32: - | F32: - | G32: =D32/$D$42 -> 0.16466273
B33: 59B㎡ | C33: =59*D33 -> 5664 | D33: 96 | E33: - | F33: - | G33: =D33/$D$42 -> 0.019563888
B34: 74㎡ | C34: =74*D34 -> 33448 | D34: 452 | G34: =D34/$D$42 -> 0.092113308
B35: 84A㎡ | C35: =84*D35 -> 83916 | D35: 999 | G35: =D35/$D$42 -> 0.20358671
B36: 84B㎡ | C36: =84*D36 -> 96684 | D36: 1151 | G36: =D36/$D$42 -> 0.23456287
B37: 84T㎡ | C37: =84*D37 -> 7728 | D37: 92 | G37: =D37/$D$42 -> 0.018748726
B38: 112㎡ | C38: =112*D38 -> 67424 | D38: 602 | G38: =D38/$D$42 -> 0.12268188
B39: 135㎡ | C39: =135*D39 -> 58725 | D39: 435 | G39: =D39/$D$42 -> 0.088648869
B40: 153㎡ | C40: =153*D40 -> 39780 | D40: 260 | G40: =D40/$D$42 -> 0.052985531
B41: 150P㎡ | C41: =150*D41 -> 1800 | D41: 12 | G41: =D41/$D$42 -> 0.002445486
B42: SUM | C42: =SUM(C32:C41) -> 442841 | D42: =SUM(D32:D41) -> 4907 | E42: =SUM(E34:E41) -> 0 | F42: =SUM(F34:F41) -> 0 | G42: =SUM(G32:G41) -> 1
A44: (예상) 총 프 리 미 엄 (비례율 100%기준) | B44: 평형별(전용)\ | C44: (예상)조합원평당분양가 | D44: (예상)일반평당분양가 | E44: 일반분양가대비 | F44: 현재 인근평당시세 | G44: 인근시세대비 | H44: 비고
B45: 39A㎡ | H45: 임대
B46: 59A㎡ | E46: =(D46-C46)*25 -> 0 | G46: =(F46-C46)*25 -> 0
B47: 59B㎡ | E47: =(D47-C47)*25 -> 0 | G47: =(F47-C47)*25 -> 0
B48: 74㎡ | E48: =(D48-C48)*31 -> 0 | G48: =(F48-C48)*31 -> 0
B49: 84A㎡ | C49: =F49*70% -> 19250000 | D49: =F49-2000000 -> 25500000 | E49: =(D49-C49)*34 -> 212500000 | F49: 27500000 | G49: =(F49-C49)*34 -> 280500000 | H49: 명륜자이
B50: 84B㎡ | E50: =(D50-C50)*34 -> 0 | G50: =(F50-C50)*34 -> 0
B51: 84T㎡ | E51: =(D51-C51)*34 -> 0 | G51: =(F51-C51)*34 -> 0
B52: 112㎡ | E52: =(D52-C52)*42 -> 0 | G52: =(F52-C52)*42 -> 0
A53: 총 프 리 미 엄 (비례율 100%기준) | B53: 135㎡ | E53: =(D53-C53)*49 -> 0 | G53: =(F53-C53)*49 -> 0
B54: 153㎡ | E54: =(D54-C54)*54 -> 0 | G54: =(F54-C54)*54 -> 0
A56: 수 익 (현재기준) | B56: 평형별(전용) | C56: (예상)매매프리미엄 (대지 : 공시지가x130%) (건물 : 연면적평x130만원) (공동주택 : 공동주택가격x150%) | D56: 일반분양가 대비 총 프리미엄 | E56: 일반분양가 대비 수익 | F56: 인근시세 대비 총프리미엄 | G56: 인근시세 대비 수익 | H56: 총구매평당가 | I56: PPR (Premium to price Ratio) (100%일 때 적정) (100% 이상 : 과평가 (100% 이하 : 저평가)
B57: 39A㎡ | C57: - | D57: =E45 -> 0 | E57: =D57-C57 -> #VALUE! | F57: =G45 -> 0 | G57: =F57-C57 -> #VALUE!
B58: 59A㎡ | E58: =D58-C58 -> 0 | G58: =F58-C58 -> 0
B59: 59B㎡ | E59: =D59-C59 -> 0 | G59: =F59-C59 -> 0
B60: 74㎡ | E60: =D60-C60 -> 0 | G60: =F60-C60 -> 0
B61: 84A㎡ | C61: 380000000 | D61: =E49 -> 212500000 | E61: =D61-C61 -> -167500000 | F61: =G49 -> 280500000 | G61: =F61-C61 -> -99500000 | H61: =(C61+(C49*34))/34 -> 30426471 | I61: =H61/F49 -> 1.1064171
B62: 84B㎡ | E62: =D62-C62 -> 0 | G62: =F62-C62 -> 0
B63: 84T㎡ | E63: =D63-C63 -> 0 | G63: =F63-C63 -> 0
B64: 112㎡ | E64: =D64-C64 -> 0 | G64: =F64-C64 -> 0
A65: 총 프 리 미 엄 (비례율 100%기준) | B65: 135㎡ | E65: =D65-C65 -> 0 | G65: =F65-C65 -> 0
B66: 153㎡ | E66: =D66-C66 -> 0 | G66: =F66-C66 -> 0
A68: 시 세 T R E N D | B68: 기간 | C68: 총구매 평당가(만원) | D68: Graph
B69: 2018년 | C69: 1300
B70: 19년07월~19년09월 | C70: 1400
B71: 19년10월~19년12월 | C71: 1500
B72: 20년01월~20년03월 | C72: 1500
B73: 20년04월~20년06월 | C73: 1800
B74: 20년07월~20년09월 | C74: 2100
B75: 20년10월~20년12월 | C75: 3175
B76: 21년01월~21년03월 | C76: =H61/10000 -> 3042.6471
B77: 21년03월~21년06월
B78: 21년07월~21년09월
B79: 21년10월~21년12월
B80: 22년01월~22년03월
B81: 2026년(완공시)
A83: 특징 | B83: ♦ 4,900여세대의 메머드급 대단지로서 1군 GS건설의 최고급 브랜드인 '그랑자이' 아파트입니다.
B84: ♦ 내성초를 구역 내 품고 있는 초품아이고, 명장초, 동신중, 학산여고, 동래고등학교 등 동래구의 전통적 학군 보유하고 있음.
B85: ♦ 부산지하철 4호선 낙민역, 충렬사역, 수안역을 끼고 있는 트리플역세권입니다.
B86: 지하철 1호선 동래역과는 도보 10~15분으로 이용 가능하고, 수안역에서 1거장 거리로 환승 이용이 가능합니다.
B87: ♦ 부산의 중심인 동래구의 입지적 장점으로 단지 앞 충렬대로를 따라 만덕터널과 남해고속도로 이용이 편리하고,
B88: 인근의 원동IC를 이용하여 차량 3~5분대로 경부고속도로 이용이 편리하고 차량 10분대로 해운대 센텀으로 이동이 수월함.
B89: 명륜로를 따라 법원, 시청, 연산동으로 이동하여 서면으로 빠른 접근이 가능한 사통팔달 교통의 요지입니다.
B90: ♦ 역사적으로 명당 자리로 불리던 곳으로서 문화재를 품고 그에 어울리는 외관으로 기대가 높은 품격이 남다른 아파트.
B91: ♦ 1~1.5km 내 롯데백화점 동래와 동래 온천, 동래 메가마트가 근거리에 위치하고 있어 편리한 생활 환경을 갖추고 있습니다.

Sheet 우동3구역
A1: 우동3구역
A2: 사 업 개 요 | B2: 단지명 | C2: 센트럴푸르지오아이파크
B3: 구역명 | C3: 우동3주택재개발
B4: 위치 | C4: 부산시 해운대구 우1동 299번지 일원
B5: 용도지역 | C5: 제3종일반주거지역
B6: 대지면적 ㎡ | C6: 108578
B7: 구역면적 ㎡ | C7: 160727 | D7: 조합원세대당 대지지분 (평) | F7: =C7*0.3025/C9 -> 44.199925 | G7: 기준 : 25평 이상일 것.
B8: 동수 | C8: 28
B9: 조합원세대수(약) | C9: 1100 | D9: 조합원분양률 | E9: =C9/C11 -> 0.36654449
B10: 일반분양세대수 | C10: =C11-C9 -> 1901 | D10: 일반분양률 | E10: =C10/C11 -> 0.63345551 | F10: 기준 : 50% 이상일 것. (재건축 30% 이상)
B11: 총세대수(약) | C11: 3001
B12: 건페율 | C12: 0.1293 | D12: 건축면적 ㎡ | E12: =C7*C12 -> 20782.001 | F12: 계산 층수 | G12: =E13/E12 -> 22.275329
B13: 용적률 | C13: 2.8802 | D13: 연면적 ㎡ | E13: =C7*C13 -> 462925.91 | F13: 전용면적 기준 | G13: =E13*76% -> 351823.69
B14: 건축규모 | C14: 지하3층 / 지상 최고 39층 | F14: 세대구성 총연면적 대비 | H14: =G13/C43 -> 1.5615164
B15: 시공사 | C15: 대우 + 현대산업개발 컨소시엄 | F15: 기준 : 세대구성 총연면적보다 클 것.
B16: 비례율(임의) | C16: %
B17: 비고
A20: 추 진 현 황 | B20: 최조 구역지정 | C20: 2007.09.21
B21: 조합설립 | C21: 2015.07.31
B22: 시공사선정 | C22: 2016.12.18
B23: 건축심의통과 | C23: 2018.12.11
B24: 사업시행인가 | C24: 2019년 예정
B25: 관리처분계획 | C25: 2020년 예정
B26: 이주.철거 | C26: 2022년 예정
B27: 일반분양 | C27: 2023년 예정
B28: 준공 | C28: 2025년 예정
A30: 세 대 구 성 | B30: 평형별(전용) | C30: 총연면적 | D30: 총세대수 | E30: 일반 | F30: 조합원 | G30: 점유율 | H30: 비고
B31: 39㎡ | C31: =39*D31 -> 4446 | D31: 114 | E31: - | F31: - | G31: =D31/$D$43 -> 0.037748344 | H31: 임대
B32: 50㎡ | C32: =50*D32 -> 2200 | D32: 44 | E32: - | F32: - | G32: =D32/$D$43 -> 0.014569536 | H32: 임대
B33: 59A㎡ | C33: =59*D33 -> 7139 | D33: 121 | G33: =D33/$D$43 -> 0.040066225
B34: 59B㎡ | C34: =59*D34 -> 55755 | D34: 945 | G34: =D34/$D$43 -> 0.31291391
B35: 71A㎡ | C35: =71*D35 -> 14697 | D35: 207 | G35: =D35/$D$43 -> 0.068543046
B36: 84A㎡ | C36: =84*D36 -> 21336 | D36: 254 | G36: =D36/$D$43 -> 0.08410596
B37: 84B㎡ | C37: =84*D37 -> 11844 | D37: 141 | G37: =D37/$D$43 -> 0.046688742
B38: 84C㎡ | C38: =84*D38 -> 18564 | D38: 221 | G38: =D38/$D$43 -> 0.073178808
B39: 84D㎡ | C39: =84*D39 -> 49812 | D39: 593 | G39: =D39/$D$43 -> 0.19635762
B40: 95A㎡ | C40: =95*D40 -> 17480 | D40: 184 | G40: =D40/$D$43 -> 0.060927152
B41: 107A㎡ | C41: =107*D41 -> 12840 | D41: 120 | G41: =D41/$D$43 -> 0.039735099
B42: 121A㎡ | C42: =121*D42 -> 9196 | D42: 76 | G42: =D42/$D$43 -> 0.025165563
B43: SUM | C43: =SUM(C31:C42) -> 225309 | D43: =SUM(D31:D42) -> 3020 | E43: =SUM(E33:E42) -> 0 | F43: =SUM(F33:F42) -> 0 | G43: =SUM(G31:G42) -> 1
A45: (예상) 총 프 리 미 엄 (비례율 100%기준) | B45: 평형별(전용)\ | C45: (예상)조합원평당분양가 | D45: (예상)일반평당분양가 | E45: 일반분양가대비 | F45: 현재 인근평당시세 | G45: 인근시세대비 | H45: 비고
B46: 59A㎡ | E46: =(D46-C46)*25 -> 0 | G46: =(F46-C46)*25 -> 0
B47: 59B㎡ | E47: =(D47-C47)*25 -> 0 | G47: =(F47-C47)*25 -> 0
B48: 71A㎡ | E48: =(D48-C48)*29 -> 0 | G48: =(F48-C48)*29 -> 0
B49: 84A㎡ | C49: =F49*70% -> 27755000 | D49: =F49-2000000 -> 37650000 | E49: =(D49-C49)*34 -> 336430000 | F49: 39650000 | G49: =(F49-C49)*34 -> 404430000 | H49: 해운대센트럴푸르지오
B50: 84B㎡ | E50: =(D50-C50)*34 -> 0 | G50: =(F50-C50)*34 -> 0
B51: 84C㎡ | E51: =(D51-C51)*34 -> 0 | G51: =(F51-C51)*34 -> 0
B52: 84D㎡ | E52: =(D52-C52)*34 -> 0 | G52: =(F52-C52)*34 -> 0
B53: 95A㎡ | E53: =(D53-C53)*38 -> 0 | G53: =(F53-C53)*38 -> 0
A54: 총 프 리 미 엄 (비례율 100%기준) | B54: 107A㎡ | E54: =(D54-C54)*43 -> 0 | G54: =(F54-C54)*43 -> 0
B55: 121A㎡ | E55: =(D55-C55)*76 -> 0 | G55: =(F55-C55)*76 -> 0
A57: 수 익 (현재기준) | B57: 평형별(전용) | C57: (예상)매매프리미엄 (대지 : 공시지가x130%) (건물 : 연면적평x130만원) (공동주택 : 공동주택가격x150%) | D57: 일반분양가 대비 총 프리미엄 | E57: 가상일반분양가 대비 수익 | F57: 인근시세 대비 총프리미엄 | G57: 인근시세 대비 수익 | H57: 총구매평당가 | I57: PPR (Premium to price Ratio) (100%일 때 적정) (100% 이상 : 과평가 (100% 이하 : 저평가)
B58: 59A㎡ | D58: =E46 -> 0 | E58: =D58-C58 -> 0 | F58: =G46 -> 0 | G58: =F58-C58 -> 0
B59: 59B㎡ | D59: =E47 -> 0 | E59: =D59-C59 -> 0 | F59: =G47 -> 0 | G59: =F59-C59 -> 0
B60: 71A㎡ | D60: =E48 -> 0 | E60: =D60-C60 -> 0 | F60: =G48 -> 0 | G60: =F60-C60 -> 0
B61: 84A㎡ | C61: 790000000 | D61: =E49 -> 336430000 | E61: =D61-C61 -> -453570000 | F61: =G49 -> 404430000 | G61: =F61-C61 -> -385570000 | H61: =(C61+(C49*34))/34 -> 50990294 | I61: =H61/F49 -> 1.2860099
B62: 84B㎡ | D62: =E50 -> 0 | E62: =D62-C62 -> 0 | F62: =G50 -> 0 | G62: =F62-C62 -> 0
B63: 84C㎡ | D63: =E51 -> 0 | E63: =D63-C63 -> 0 | F63: =G51 -> 0 | G63: =F63-C63 -> 0
B64: 84D㎡ | D64: =E52 -> 0 | E64: =D64-C64 -> 0 | F64: =G52 -> 0 | G64: =F64-C64 -> 0
B65: 95A㎡ | D65: =E53 -> 0 | E65: =D65-C65 -> 0 | F65: =G53 -> 0 | G65: =F65-C65 -> 0
B66: 107A㎡ | D66: =E54 -> 0 | E66: =D66-C66 -> 0 | F66: =G54 -> 0 | G66: =F66-C66 -> 0
B67: 121A㎡ | D67: =E55 -> 0 | F67: =G55 -> 0
A68: 시 세 T R E N D | B68: 기간 | C68: 총구매 평당가(만원) | D68: Graph
B69: 19년07월~19년09월 | C69: 3700
B70: 19년10월~19년12월 | C70: 3700
B71: 20년01월~20년03월 | C71: 3700
B72: 20년04월~20년06월 | C72: 3700
B73: 20년07월~20년09월 | C73: 3700
B74: 20년10월~20년12월 | C74: 4834
B75: 21년01월~21년03월 | C75: =H61/10000 -> 5099.0294
B76: 21년04월~21년06월
B77: 21년07월~21년09월
B78: 21년10월~21년12월
B79: 2027년(완공시)
A80: 특징

Sheet 광안2구역
A1: 광안2구역
A2: 사 업 개 요 | B2: 단지명 | C2: 광안SK뷰
B3: 구역명 | C3: 광안2주택재개발
B4: 위치 | C4: 부산 수영구 광안동 1240-38 | E4: 평당 공사비(건축비) | F4: 4500000
B5: 구역면적 ㎡ | C5: 53905 | D5: 조합원세대당 대지 평수 (평균분양평형) | F5: =C5*0.3025/C7 -> 27.405483 | G5: 기준 : 25평 이상일 것.
B6: 동수 | C6: 10 | D6: 기부체납면적 ㎡ | F6: 실사용 면적 ㎡ | G6: =C5-E6 -> 53905
B7: 조합원세대수 | C7: 595 | D7: 조합원분양률 | E7: =C7/C9 -> 0.48100243
B8: 일반분양세대수 | C8: =C9-C7 -> 642 | D8: 일반분양률 | E8: =C8/C9 -> 0.51899757 | F8: 기준 : 50% 이상일 것. (재건축 30% 이상)
B9: 총세대수 | C9: 1237 | D9: 보류지 17세대, 임대주택 238세대 포함
B10: 건페율 | C10: 0.1811 | D10: 건축면적 ㎡ | E10: =G6*C10 -> 9762.1955 | F10: 계산 층수 | G10: =E11/E10 -> 13.692987
B11: 용적률 | C11: 2.4798 | D11: 건축가능 연면적 ㎡ | E11: =G6*C11 -> 133673.62 | F11: 전용면적 기준 | G11: =E11*76% -> 101591.95
B12: 건축규모 | C12: 지하2층/지상31층 | D12: 세대당 평균 종전자산 평가액 | E12: - | F12: 세대구성 총연면적 대비 | G12: =G11/C38 -> 1.0311914
B13: 시공사 | C13: SK건설 | D13: 총 종전사산 평가액 | E13: =C7*E12 -> #VALUE! | F13: 총 건축가능세대 수 | G13: =E11*0.3025/F5 -> 1475.481
B14: 조합 비례율 | C14: 1.1 | D14: 계약면적 (평) | E14: - | F14: 총 시공 평수 | G14: =E14*G13 -> #VALUE!
B16: 총 사업비 | C16: =E16+G16 -> #VALUE! | D16: 총 공사비 | E16: =G14*F4 -> #VALUE! | F16: 기타사업비 | G16: =E16*30% -> #VALUE!
B17: 총 분양수입 | C17: =(E17*C7)+(G17*C8) -> #VALUE! | D17: (예상)평균조합원분양가 | E17: - | F17: (예상) 평균일반분양가 | G17: -
B18: 비례율 (사업성 검토용) | C18: =E18/E13 -> #VALUE! | D18: 순이익 | E18: =C17-C16 -> #VALUE! | F18: 조합원 세대당 평균 순이익 | G18: =E18/C7 -> #VALUE!
A20: 추 진 현 황 | B20: 구역지정 | C20: 2011.06.08
B21: 조합설립 | C21: 2013.03.14
B22: 사업시행 | C22: 2017.10.20
B23: 관리처분계획 | C23: 2019.04.05
B24: 이주 | C24: 2019년 08월 08일
B25: 철거 | C25: 2020년 예정
B26: 일반분양 | C26: 2021년 예정
B27: 준공 | C27: 2025년 예정
A29: 세 대 구 성 | B29: 평형별(전용) | C29: 총연면적 | D29: 총세대수 | E29: 조합원 | F29: 일반 | G29: 보류지 | H29: 점유율
B30: 38㎡ (임대) | C30: =38*D30 -> 2432 | D30: 64 | H30: =D30/$D$38 -> 0.051738076
B31: 59A㎡ | C31: =59*D31 -> 9617 | D31: 163 | E31: 74 | F31: =D31-E31 -> 89 | H31: =D31/$D$38 -> 0.13177041
B32: 84A㎡ | C32: =84*D32 -> 27972 | D32: 333 | E32: 263 | F32: =D32-E32 -> 70 | G32: 2 | H32: =D32/$D$38 -> 0.26919968
B33: 84B㎡ | C33: =84*D33 -> 28476 | D33: 339 | E33: 106 | F33: =D33-E33 -> 233 | G33: 1 | H33: =D33/$D$38 -> 0.27405012
B34: 78A㎡ | C34: =78*D34 -> 8346 | D34: 107 | E34: 29 | F34: =D34-E34 -> 78 | H34: =D34/$D$38 -> 0.086499596
B35: 78B㎡ | C35: =78*D35 -> 8346 | D35: 107 | E35: 0 | F35: =D35-E35 -> 107 | G35: 1 | H35: =D35/$D$38 -> 0.086499596
B36: 100㎡ | C36: =100*D36 -> 6200 | D36: 62 | E36: 61 | F36: =D36-E36 -> 1 | G36: 2 | H36: =D36/$D$38 -> 0.050121261
B37: 115㎡ | C37: =115*D37 -> 7130 | D37: 62 | E37: 62 | F37: =D37-E37 -> 0 | H37: =D37/$D$38 -> 0.050121261
B38: SUM | C38: =SUM(C30:C37) -> 98519 | D38: =SUM(D30:D37) -> 1237 | E38: =SUM(E30:E37) -> 595 | F38: =SUM(F30:F37) -> 578 | G38: =SUM(G30:G37) -> 6 | H38: =SUM(H30:H37) -> 1
A40: 총 프 리 미 엄 (비례율 100%기준) | B40: 평형별(전용) | C40: (예상)조합원평당분양가 | D40: (예상)일반평당분양가 | E40: 일반분양가대비 | F40: 현재 인근평당시세 | G40: 인근시세 대비 | H40: 비고
B41: 38㎡ (임대)
B42: 59A㎡ | C42: =288000000/25 -> 11520000 | D42: 16000000 | E42: =(D42-C42)*25 -> 112000000 | G42: =(F42-C42)*25 -> -288000000
B43: 84A㎡ | C43: =396000000/34 -> 11647059 | D43: 16000000 | E43: =(D43-C43)*25 -> 1.0882353e+08 | F43: 30290000 | G43: =(F43-C43)*25 -> 4.6607353e+08 | H43: 광안자이
B44: 84B㎡ | C44: =396000000/34 -> 11647059 | D44: 16000000 | E44: =(D44-C44)*34 -> 1.48e+08 | G44: =(F44-C44)*34 -> -396000000
B45: 78A㎡ | C45: =360000000/31 -> 11612903 | D45: 16000000 | E45: =(D45-C45)*34 -> 1.4916129e+08 | G45: =(F45-C45)*34 -> -3.9483871e+08
B46: 78B㎡ | C46: =360000000/31 -> 11612903 | D46: 16000000 | E46: =(D46-C46)*39 -> 1.7109677e+08 | G46: =(F46-C46)*39 -> -4.5290323e+08
B47: 100㎡ | C47: =468000000/40 -> 11700000 | D47: 16000000 | E47: =(D47-C47)*39 -> 167700000 | G47: =(F47-C47)*39 -> -456300000
B48: 115㎡ | C48: =516000000/44 -> 11727273 | D48: 16000000 | E48: =(D48-C48)*39 -> 1.6663636e+08 | G48: =(F48-C48)*39 -> -4.5736364e+08
A50: 수 익 (현재기준) | B50: 평형별(전용) | C50: (예상)매매프리미엄 (대지 : 공시지가x130%) (건물 : 연면적평x130만원) (공동주택 : 공동주택가격x150%) | D50: 일반분양가 대비 총 프리미엄 | E50: 일반분양가 대비 수익 | F50: 인근시세 대비 총프리미엄 | G50: 인근시세 대비 수익 | H50: 총구매평당가 | I50: PPR (Premium to price Ratio) (100%일 때 적정) (100% 이상 : 과평가 (100% 이하 : 저평가)
B51: 38㎡ (임대) | C51: - | D51: =E41 -> 0 | E51: =D51-C51 -> #VALUE! | F51: =G41 -> 0 | G51: =F51-C51 -> #VALUE!
B52: 59A㎡ | C52: - | D52: =E42 -> 112000000 | E52: =D52-C52 -> #VALUE! | F52: =G42 -> -288000000 | G52: =F52-C52 -> #VALUE!
B53: 84A㎡ | C53: 780000000 | D53: =E43 -> 1.0882353e+08 | E53: =D53-C53 -> -6.7117647e+08 | F53: =G43 -> 4.6607353e+08 | G53: =F53-C53 -> -3.1392647e+08 | H53: =(C53+(C43*34))/34 -> 34588235 | I53: =H53/F43 -> 1.1419028
B54: 84B㎡ | C54: - | D54: =E44 -> 1.48e+08 | E54: =D54-C54 -> #VALUE! | F54: =G44 -> -396000000 | G54: =F54-C54 -> #VALUE!
B55: 78A㎡ | C55: - | D55: =E45 -> 1.4916129e+08 | E55: =D55-C55 -> #VALUE! | F55: =G45 -> -3.9483871e+08 | G55: =F55-C55 -> #VALUE!
B56: 78B㎡ | C56: - | D56: =E46 -> 1.7109677e+08 | E56: =D56-C56 -> #VALUE! | F56: =G46 -> -4.5290323e+08 | G56: =F56-C56 -> #VALUE!
B57: 100B㎡ | C57: - | D57: =E47 -> 167700000 | E57: =D57-C57 -> #VALUE! | F57: =G47 -> -456300000 | G57: =F57-C57 -> #VALUE!
B58: 115㎡ | C58: - | D58: =E48 -> 1.6663636e+08 | E58: =D58-C58 -> #VALUE! | F58: =G48 -> -4.5736364e+08 | G58: =F58-C58 -> #VALUE!
A60: 시 세 T R E N D | B60: 기간 | C60: 평균 총구매 평당가(만원) | D60: Graph
B61: 2018년
B62: 19년07월~19년09월 | C62: 1605
B63: 19년10월~19년12월 | C63: 2047
B64: 20년01월~20년03월 | C64: 2300
B65: 20년04월~20년06월 | C65: 2400
B66: 20년07월~20년09월 | C66: 2694
B67: 20년10월~20년12월 | C67: 3459
B68: 21년01월~21년03월 | C68: =H53/10000 -> 3458.8235
B69: 21년04월~21년06월
B70: 21년07월~21년09월
B71: 21년10월~21년12월
B72: 2022년
B73: 2026년(완공시)
A74: 특징 | B74: ♦ 광안자이와 광안에일린의뜰 사이에 위치하고 있고 이중 가장 큰 단지입니다.
B75: ♦ 인근 재개발 모두 2,500여 세대의 대단지가 형성되면서 수영구 그리고 광안동의 새로운 대단지 아파트 주거타운이 형성될 예정입니다.
B76: ♦ 101동~104동까지는 단지의 앞쪽에 위치하여 고층의 경우는 조망과 지하철 접근이 용이하다는 장점이 있습니다.
B77: 105동 ~ 110동까지는 단지의 뒷편에 위치하여 황령산, 학교가 가깝고 초고층의 경우 바다 조망도 기대할 수 있습니다.
B78: ♦ 광안역 도보 5분 거리 역세권.
B79: ♦ 호암초, 동아중, 수영중학교가 바로 인근에 있습니다.
B80: ♦ 다수의 병.의원 및 광안동의 우수한 주거여건을 갖추고 있습니다.
B81: ♦ 인근의 호암공원, 금련산, 황령산 등산로을 이용할 수 있는 숲세권.
B82: ♦ 광안리해수욕장 도보 이용 가능합니다.

Sheet 서금사 재정비 촉진A
A1: 서금사 재정비 촉진A구역
A2: 사 업 개 요 | B2: 단지명
B3: 구역명 | C3: 서금사재정비촉진A구역
B4: 위치 | C4: 부산시 금정구 부곡동332-4
B5: 구역면적 ㎡ | C5: 119923 | D5: 조합원세대당 대지 평수 | F5: =C5*0.3025/C7 -> 40.262716 | G5: 기준 : 25평 이상일 것.
B6: 동수 | C6: 12
B7: 조합원세대수 | C7: 901 | D7: 조합원분양률 | E7: =C7/C9 -> 0.31058256
B8: 일반분양세대수 | C8: =C9-C7 -> 2000 | D8: 일반분양률 | E8: =C8/C9 -> 0.68941744 | F8: 기준 : 50% 이상일 것. (재건축 30% 이상)
B9: 총세대수 | C9: 2901
B10: 건페율 | C10: 0.1917 | D10: 건축면적 ㎡ | E10: =C5*C10 -> 22989.239 | F10: 계산 층수 | G10: =E11/E10 -> 19.941054
B11: 용적률 | C11: 3.8227 | D11: 연면적 ㎡ | E11: =C5*C11 -> 458429.65 | F11: 전용면적 기준 | G11: =E11*76% -> 348406.54
B12: 건축규모 | C12: 지하5층/지상45층 | F12: 세대구성 총연면적 대비 | H12: =G11/C38 -> 1.6735973
B13: 시공사 | C13: 롯데+현산업개발 | F13: 기준 : 세대구성 총연면적보다 클 것.
B14: 비례율
A17: 추 진 현 황 | B17: 구역지정 | C17: 2009.05.27
B18: 조합설립 | C18: 2018.09.11
B19: 시공사선정 | C19: 2018.12.23
B20: 경관심의 통과 | C20: 2020년 04월
B21: 사업시행 | C21: 2021년 예상
B22: 관리처분계획 | C22: 2023년 예상
B23: 이주 | C23: 2024년 예상
B24: 철거 | C24: 2025년 예상
B25: 일반분양 | C25: 2026년 예상
B26: 준공 | C26: 2030년 예상
A28: 세 대 구 성 | B28: 평형별(전용) | C28: 총연면적 | D28: 총세대수 | E28: 일반 | F28: 조합원 | G28: 점유율 | H28: 비고
B29: 39.75㎡ | C29: =39.75*D29 -> 6996 | D29: 176 | G29: =D29/$D$38 -> 0.060668735
B30: 59.98A㎡ | C30: =59.98*D30 -> 55181.6 | D30: 920 | G30: =D30/$D$38 -> 0.31713202
B31: 72.35B㎡ | C31: =72.35*D31 -> 56939.45 | D31: 787 | G31: =D31/$D$38 -> 0.27128576
B32: 84.99A㎡ | C32: =84.99*D32 -> 71816.55 | D32: 845 | G32: =D32/$D$38 -> 0.29127887
B33: 99.68㎡ | C33: =99.68*D33 -> 17244.64 | D33: 173 | G33: =D33/$D$38 -> 0.059634609
B38: SUM | C38: =SUM(C29:C37) -> 208178.24 | D38: =SUM(D29:D37) -> 2901 | E38: =SUM(E30:E37) -> 0 | F38: =SUM(F30:F37) -> 0 | G38: =SUM(G29:G37) -> 1
A40: 총 프 리 미 엄 (비례율 100%기준) | B40: 평형별(전용)\ | C40: (예상)조합원평당분양가 | D40: (예상)일반평당분양가 | E40: 일반분양가대비 | F40: 현재 인근평당시세 | G40: 인근시세대비 | H40: 비고
B41: 39.75㎡
B42: 59.98A㎡ | E42: =(D42-C42)*25 -> 0 | G42: =(F42-C42)*25 -> 0
B43: 72.35B㎡ | E43: =(D43-C43)*30 -> 0 | G43: =(F43-C43)*30 -> 0
B44: 84.99A㎡ | C44: =F44*70% -> 24087000 | D44: =F44-2000000 -> 32410000 | E44: =(D44-C44)*34 -> 282982000 | F44: 34410000 | G44: =(F44-C44)*34 -> 350982000 | H44: 레미안장전
B45: 99.68㎡ | E45: =(D45-C45)*39 -> 0 | G45: =(F45-C45)*39 -> 0
A49: 총 프 리 미 엄 (비례율 100%기준)
A51: 수 익 (현재기준) | B51: 평형별(전용) | C51: (예상)매매프리미엄 (대지 : 공시지가x130%) (건물 : 연면적평x130만원) (공동주택 : 공동주택가격x150%) | D51: 일반분양가 대비 총 프리미엄 | E51: 일반분양가 대비 수익 | F51: 인근시세 대비 총프리미엄 | G51: 인근시세 대비 수익 | H51: 총구매평당가 | I51: PPR (Premium to price Ratio) (100%일 때 적정) (100% 이상 : 과평가 (100% 이하 : 저평가)
B52: 39.75㎡
B53: 59.98A㎡ | C53: - | D53: =E42 -> 0 | E53: =D53-C53 -> #VALUE! | F53: =G42 -> 0 | G53: =F53-C53 -> #VALUE!
B54: 72.35B㎡ | C54: - | D54: =E43 -> 0 | E54: =D54-C54 -> #VALUE! | F54: =G43 -> 0 | G54: =F54-C54 -> #VALUE!
B55: 84.99A㎡ | C55: 770000000 | D55: =E44 -> 282982000 | E55: =D55-C55 -> -487018000 | F55: =G44 -> 350982000 | G55: =F55-C55 -> -419018000 | H55: =(C55+(C44*34))/34 -> 46734059 | I55: =H55/F44 -> 1.3581534
B56: 99.68㎡ | C56: - | D56: =E45 -> 0 | E56: =D56-C56 -> #VALUE! | F56: =G45 -> 0 | G56: =F56-C56 -> #VALUE!
A60: 시 세 T R E N D | B60: 기간 | C60: 평균 총구매 평당가(만원) | D60: Graph
B61: 2019년 | C61: 2000
B62: 20년01월~20년03월 | C62: 2300
B63: 20년04월~20년06월 | C63: 2300
B64: 20년07월~20년09월 | C64: 2500
B65: 20년10월~20년12월 | C65: 4673
B66: 21년01월~21년03월 | C66: =H55/10000 -> 4673.4059
B67: 21년04월~21년06월
B68: 21년07월~21년09월
B69: 21년10월~21년12월
B70: 2022년
B71: 2026년 준공예정
A72: 특징 | B72: ♦ 조합원은 계약금, 중도금 없이 입주시 전액 납부 (담보 대출로 전환됨.)
B73: ♦ 온천장역 도보 5분 거리
B74: ♦ 70% 가까운 일반분양율과, 예상일반분양가(평당 1,500만원 대비 +평당 1,000만원 차이로 비례율이 상당폭 높아질 것으로 예상됨
B75: ♦ 부산에서는 흔지 않은 평지에 위치하고 있어서 평지프리미엄이 있음.
B76: ♦ 인근에 레미안장전이 위치하고 있어서 시세는 레미안장전을 추종한다.
B77: ♦ 동래, 온천장, 부산대 상권을 도보 이용 가능함.

Sheet 서금사 재정비 촉진5
A1: 서금사 재정비 촉진5구역
A2: 사 업 개 요 | B2: 단지명
B3: 구역명 | C3: 서금사재정비촉진5구역
B4: 위치 | C4: 부산시 금정구 서동557-16번지
B5: 구역면적 ㎡ | C5: 194097 | D5: 조합원세대당 대지 평수 | F5: =C5*0.3025/C7 -> 25.145329 | G5: 기준 : 25평 이상일 것.
B6: 동수 | C6: 12
B7: 조합원세대수 | C7: 2335 | D7: 조합원분양률 | E7: =C7/C9 -> 0.53140646
B8: 일반분양세대수 | C8: =C9-C7 -> 2059 | D8: 일반분양률 | E8: =C8/C9 -> 0.46859354 | F8: 기준 : 50% 이상일 것. (재건축 30% 이상)
B9: 총세대수 | C9: 4394
B10: 건페율(임의) | C10: 0.19 | D10: 건축면적 ㎡ | E10: =C5*C10 -> 36878.43 | F10: 계산 층수 | G10: =E11/E10 -> 15.731579
B11: 용적률 | C11: 2.989 | D11: 연면적 ㎡ | E11: =C5*C11 -> 580155.93 | F11: 전용면적 기준 | G11: =E11*76% -> 440918.51
B12: 건축규모 | C12: 지하2층/지상49층 | F12: 세대구성 총연면적 대비 | H12: =G11/C38 -> 1.2897351
B13: 시공사 | C13: 대림, SK, 한화, 고려개발 | F13: 사업대행자 : 한국토지신탁 (19년2월13일 결정)
B14: 비례율
B15: 비고 | C15: 면적 대비 세입자 및 조합원 수가 많아서 이주.철거 및 보상관련 사업비의 과다 지출이 예상되고, 수익성이 떨어질 것으로 사료됨.
C16: 일반분양률이 50% 미만으로 낮고, 조합원세대당 대지 평수도 타 주택 재개발 대비 절반 수준임.
A18: 추 진 현 황 | B18: 구역지정 | C18: 2015.03.11
B19: 조합설립 | C19: 2018.06.25
B20: 시공사선정 | C20: 완료
B21: 사업시행 | C21: 2021년 예정
B22: 관리처분계획 | C22: 2023년 예정
B23: 이주 | C23: 2024년 예정
B24: 철거 | C24: 2025년 예정
B25: 일반분양 | C25: 2026년 예정
B26: 준공 | C26: 2030년 예정
A28: 세 대 구 성 (임의) | B28: 평형별(전용) | C28: 총연면적 | D28: 총세대수 | E28: 일반 | F28: 조합원 | G28: 점유율 | H28: 비고
B29: 39.75㎡ | C29: =39.75*D29 -> 7711.5 | D29: 194 | G29: =D29/$D$38 -> 0.044151115
B30: 59.98A㎡ | C30: =59.98*D30 -> 41986 | D30: 700 | G30: =D30/$D$38 -> 0.15930815
B31: 72.35B㎡ | C31: =72.35*D31 -> 72350 | D31: 1000 | G31: =D31/$D$38 -> 0.22758307
B32: 84.99A㎡ | C32: =84.99*D32 -> 169980 | D32: 2000 | G32: =D32/$D$38 -> 0.45516614
B33: 99.68㎡ | C33: =99.68*D33 -> 49840 | D33: 500 | G33: =D33/$D$38 -> 0.11379153
B38: SUM | C38: =SUM(C29:C37) -> 341867.5 | D38: =SUM(D29:D37) -> 4394 | E38: =SUM(E30:E37) -> 0 | F38: =SUM(F30:F37) -> 0 | G38: =SUM(G29:G37) -> 1
A40: 총 프 리 미 엄 (비례율 100%기준) | B40: 평형별(전용)\ | C40: (예상)조합원평당분양가 | D40: (예상)일반평당분양가 | E40: 일반분양가대비 | F40: 현재 인근평당시세 | G40: 인근시세대비 | H40: 비고
B41: 39.75㎡ | E41: =(D41-C41)*25 -> 0 | G41: =(F41-C41)*25 -> 0
B42: 59.98A㎡ | E42: =(D42-C42)*25 -> 0 | G42: =(F42-C42)*25 -> 0
B43: 72.35B㎡ | E43: =(D43-C43)*25 -> 0 | G43: =(F43-C43)*25 -> 0
B44: 84.99A㎡ | C44: =F44*70% -> 16261000 | D44: =F44-2000000 -> 21230000 | E44: =(D44-C44)*34 -> 1.68946e+08 | F44: 23230000 | G44: =(F44-C44)*34 -> 2.36946e+08 | H44: 명륜2차아이파크1단지
B45: 99.68㎡ | E45: =(D45-C45)*34 -> 0 | G45: =(F45-C45)*34 -> 0
E46: =(D46-C46)*39 -> 0 | G46: =(F46-C46)*39 -> 0
E47: =(D47-C47)*39 -> 0 | G47: =(F47-C47)*39 -> 0
A49: 총 프 리 미 엄 (비례율 100%기준)
A50: 수 익 (현재기준) | B50: 평형별(전용) | C50: (예상)매매프리미엄 (대지 : 공시지가x130%) (건물 : 연면적평x130만원) (공동주택 : 공동주택가격x150%) | D50: 일반분양가 대비 총 프리미엄 | E50: 일반분양가 대비 수익 | F50: 인근시세 대비 총프리미엄 | G50: 인근시세 대비 수익 | H50: 총구매평당가 | I50: PPR (Premium to price Ratio) (100%일 때 적정) (100% 이상 : 과평가 (100% 이하 : 저평가)
B51: 39.75㎡ | D51: =E41 -> 0 | E51: =D51-C51 -> 0 | F51: =G41 -> 0 | G51: =F51-C51 -> 0
B52: 59.98A㎡ | C52: - | D52: =E42 -> 0 | E52: =D52-C52 -> #VALUE! | F52: =G42 -> 0 | G52: =F52-C52 -> #VALUE!
B53: 72.35B㎡ | C53: - | D53: =E43 -> 0 | E53: =D53-C53 -> #VALUE! | F53: =G43 -> 0 | G53: =F53-C53 -> #VALUE!
B54: 84.99A㎡ | C54: 190000000 | D54: =E44 -> 1.68946e+08 | E54: =D54-C54 -> -21054000 | F54: =G44 -> 2.36946e+08 | G54: =F54-C54 -> 46946000 | H54: =(C54+(C44*34))/34 -> 21849235 | I54: =H54/F44 -> 0.94056114
B55: 99.68㎡ | C55: - | D55: =E45 -> 0 | E55: =D55-C55 -> #VALUE! | F55: =G45 -> 0 | G55: =F55-C55 -> #VALUE!
A59: 시 세 T R E N D | B59: 기간 | C59: 평균 총구매 평당가(만원) | D59: Graph
B60: 20년01월~20년03월 | C60: 1500
B61: 20년04월~20년06월 | C61: 1700
B62: 20년07월~20년09월 | C62: 1791
B63: 20년10월~20년12월 | C63: 2273
B64: 21년01월~21년03월 | C64: =H54/10000 -> 2184.9235
B65: 21년04월~21년06월
B66: 21년07월~21년09월
B67: 21년10월~21년12월
B68: 2022년
B69: 2023년
B70: 2030년 준공예정
A72: 특징

Sheet 온천4
A1: 온천4구역
A2: 사 업 개 요 | B2: 단지명 | C2: 온천장레미안포레스티지
B3: 구역명 | C3: 온천4구역 주택재개발
B4: 위치 | C4: 부산시 동래구 온천동 100-13번지 일원
B5: 용도지역 | C5: 제3종일반주거지역
B6: 대지면적 ㎡ | C6: =68800*3.3058 -> 227439.04
B7: 구역면적 ㎡ | C7: 228511 | D7: 조합원세대당 대지지분 (평) | F7: =C7*0.3025/C9 -> 47.969866 | G7: 기준 : 25평 이상일 것.
B8: 동수 | C8: 40
B9: 조합원세대수(약) | C9: 1441 | D9: 조합원분양률 | E9: =C9/C11 -> 0.3564185
B10: 일반분양세대수 | C10: =C11-C9 -> 2602 | D10: 일반분양률 | E10: =C10/C11 -> 0.6435815 | F10: 기준 : 50% 이상일 것. (재건축 30% 이상)
B11: 총세대수(약) | C11: 4043
B12: 건페율 | C12: 0.1723 | D12: 건축면적 ㎡ | E12: =C7*C12 -> 39372.445 | F12: 계산 층수 | G12: =E13/E12 -> 15.59141
B13: 용적률 | C13: 2.6864 | D13: 연면적 ㎡ | E13: =C7*C13 -> 613871.95 | F13: 전용면적 기준 | G13: =E13*76% -> 466542.68
B14: 건축규모 | C14: 지하4층 / 지상 최고 33층 | F14: 세대구성 총연면적 대비 | H14: =G13/C55 -> 1.5275646
B15: 시공사 | C15: 삼성물산 | F15: 기준 : 세대구성 총연면적보다 클 것.
B16: 비례율(임의) | C16: 109.25% -> 115%
B17: 비고
A20: 추 진 현 황 | B20: 최초 구역지정 | C20: 2010.06.16
B21: 최초 조합설립 | C21: 2012.03.29
B22: 사업시행인가 | C22: 2015.11.17
B23: 관리처분계획 | C23: 2018.07.05
B24: 이주.철거 | C24: 2019년 예정
B25: 일반분양 | C25: 2020년 예정
B26: 준공 | C26: 2024년 예정
A30: 세 대 구 성 | B30: 평형별(전용) | C30: 총연면적 | D30: 총세대수 | E30: 일반 | F30: 조합원 | G30: 점유율 | H30: 비고
B31: 49 | C31: =49*D31 -> 11466 | D31: 234 | E31: 210 | F31: =D31-E31 -> 24 | G31: =D31/$D$55 -> 0.061208475 | H31: 임대
B32: 59A1 | C32: =59*D32 -> 23128 | D32: 392 | E32: 201 | F32: =D32-E32 -> 191 | G32: =D32/$D$55 -> 0.10253727
B33: 59A2 | C33: =59*D33 -> 3658 | D33: 62 | E33: 59 | F33: =D33-E33 -> 3 | G33: =D33/$D$55 -> 0.01621763
B34: 59B1 | C34: =59*D34 -> 2891 | D34: 49 | E34: 44 | F34: =D34-E34 -> 5 | G34: =D34/$D$55 -> 0.012817159
B35: 59B2 | C35: =59*D35 -> 1888 | D35: 32 | E35: 29 | F35: =D35-E35 -> 3 | G35: =D35/$D$55 -> 0.0083703897
B36: 72A1 | C36: =72*D36 -> 10800 | D36: 150 | E36: 34 | F36: =D36-E36 -> 116 | G36: =D36/$D$55 -> 0.039236202
B37: 72A2 | C37: =72*D37 -> 7632 | D37: 106 | E37: 76 | F37: =D37-E37 -> 30 | G37: =D37/$D$55 -> 0.027726916
B38: 72A3 | C38: =72*D38 -> 4752 | D38: 66 | E38: 43 | F38: =D38-E38 -> 23 | G38: =D38/$D$55 -> 0.017263929
B39: 72B1 | C39: =72*D39 -> 3600 | D39: 50 | E39: 48 | F39: =D39-E39 -> 2 | G39: =D39/$D$55 -> 0.013078734
B40: 72B2 | C40: =72*D40 -> 2520 | D40: 35 | E40: 32 | F40: =D40-E40 -> 3 | G40: =D40/$D$55 -> 0.0091551138
B41: 84A1 | C41: =84*D41 -> 87696 | D41: 1044 | E41: 474 | F41: =D41-E41 -> 570 | G41: =D41/$D$55 -> 0.27308397
B42: 84A2 | C42: =84*D42 -> 19068 | D42: 227 | E42: 202 | F42: =D42-E42 -> 25 | G42: =D42/$D$55 -> 0.059377452
B43: 84B1 | C43: =84*D43 -> 40908 | D43: 487 | E43: 473 | F43: =D43-E43 -> 14 | G43: =D43/$D$55 -> 0.12738687
B44: 84B2 | C44: =84*D44 -> 11340 | D44: 135 | E44: 133 | F44: =D44-E44 -> 2 | G44: =D44/$D$55 -> 0.035312582
B45: 84C1 | C45: =84*D45 -> 18732 | D45: 223 | E45: 220 | F45: =D45-E45 -> 3 | G45: =D45/$D$55 -> 0.058331154
B46: 84C2 | C46: =84*D46 -> 2772 | D46: 33 | E46: 33 | F46: =D46-E46 -> 0 | G46: =D46/$D$55 -> 0.0086319644
B47: 97 | C47: =97*D47 -> 27257 | D47: 281 | E47: 9 | F47: =D47-E47 -> 272 | G47: =D47/$D$55 -> 0.073502485
B48: 115 | C48: =115*D48 -> 22655 | D48: 197 | E48: 0 | F48: =D48-E48 -> 197 | G48: =D48/$D$55 -> 0.051530212
B49: 120A1 | C49: =120*D49 -> 840 | D49: 7 | E49: 0 | F49: =D49-E49 -> 7 | G49: =D49/$D$55 -> 0.0018310228
B50: 120A2 | C50: =120*D50 -> 120 | D50: 1 | E50: 0 | F50: =D50-E50 -> 1 | G50: =D50/$D$55 -> 0.00026157468
B51: 132 | C51: =132*D51 -> 396 | D51: 3 | E51: 3 | F51: =D51-E51 -> 0 | G51: =D51/$D$55 -> 0.00078472404
B52: 135 | C52: =135*D52 -> 270 | D52: 2 | E52: 0 | F52: =D52-E52 -> 2 | G52: =D52/$D$55 -> 0.00052314936
B53: 145 | C53: =145*D53 -> 145 | D53: 1 | E53: 0 | F53: =D53-E53 -> 1 | G53: =D53/$D$55 -> 0.00026157468
B54: 147 | C54: =147*D54 -> 882 | D54: 6 | E54: 0 | F54: =D54-E54 -> 6 | G54: =D54/$D$55 -> 0.0015694481
B55: SUM | C55: =SUM(C31:C54) -> 305416 | D55: =SUM(D31:D54) -> 3823 | E55: =SUM(E31:E54) -> 2323 | F55: =SUM(F31:F54) -> 1500 | G55: =SUM(G31:G54) -> 1 | H55: =SUM(H31:H54) -> 0
A57: (예상) 총 프 리 미 엄 (비례율 100%기준) | B57: 평형별(전용)\ | C57: (예상)조합원평당분양가 | D57: (예상)일반평당분양가 | E57: 일반분양가대비 | F57: 현재 인근평당시세 | G57: 인근시세대비 | H57: 비고
B58: 49 | C58: 10337589 | E58: =(D58-C58)*22 -> -227426958 | G58: =(F58-C58)*22 -> -227426958
B59: 59A1 | C59: 10449137 | E59: =(D59-C59)*25 -> -261228425 | G59: =(F59-C59)*25 -> -261228425
B60: 59B1 | C60: 10577221 | E60: =(D60-C60)*25 -> -264430525 | G60: =(F60-C60)*25 -> -264430525
B61: 72A1 | C61: 10917007 | E61: =(D61-C61)*30 -> -327510210 | G61: =(F61-C61)*30 -> -327510210
B62: 72B1 | C62: 10713379 | E62: =(D62-C62)*30 -> -321401370 | G62: =(F62-C62)*30 -> -321401370
B63: 84A1 | C63: 10513263 | D63: =F63-2000000 -> 32410000 | E63: =(D63-C63)*34 -> 744489058 | F63: 34410000 | G63: =(F63-C63)*34 -> 812489058 | H63: 레미안아이파크
B64: 84B1 | C64: 10420911 | E64: =(D64-C64)*34 -> -354310974 | G64: =(F64-C64)*34 -> -354310974
B65: 84C1 | C65: 10190488 | E65: =(D65-C65)*34 -> -346476592 | G65: =(F65-C65)*34 -> -346476592
A66: 총 프 리 미 엄 (비례율 100%기준) | B66: 97 | C66: 10319276 | D66: =F66-2000000 -> 29690000 | E66: =(D66-C66)*39 -> 755458236 | F66: 31690000 | G66: =(F66-C66)*39 -> 833458236
B67: 115 | C67: 10589310 | D67: =F67-2000000 -> 29690000 | E67: =(D67-C67)*46 -> 878631740 | F67: 31690000 | G67: =(F67-C67)*46 -> 970631740
B68: 120A1 | C68: 8858511 | E68: =(D68-C68)*47 -> -416350017 | G68: =(F68-C68)*47 -> -416350017
B69: 132 | C69: 8642066 | E69: =(D69-C69)*48 -> -414819168 | G69: =(F69-C69)*48 -> -414819168
B70: 135 | C70: 20063052 | E70: =(D70-C70)*52 -> -1043278704 | G70: =(F70-C70)*52 -> -1043278704
B71: 145 | C71: 20112006 | E71: =(D71-C71)*55 -> -1106160330 | G71: =(F71-C71)*55 -> -1106160330
B72: 147 | C72: 20178013 | E72: =(D72-C72)*55 -> -1109790715 | G72: =(F72-C72)*55 -> -1109790715
A74: 수 익 (현재기준) | B74: 평형별(전용) | C74: (예상)매매프리미엄 (대지 : 공시지가x130%) (건물 : 연면적평x130만원) (공동주택 : 공동주택가격x150%) | D74: 일반분양가 대비 총 프리미엄 | E74: 일반분양가 대비 수익 | F74: 인근시세 대비 총프리미엄 | G74: 인근시세 대비 수익 | H74: 총구매평당가 | I74: PPR (Premium to price Ratio) (100%일 때 적정) (100% 이상 : 과평가 (100% 이하 : 저평가)
B75: 49 | C75: - | D75: =E58 -> -227426958 | E75: =D75-C75 -> #VALUE! | F75: =G58 -> -227426958 | G75: =F75-C75 -> #VALUE!
B76: 59A | C76: - | D76: =E59 -> -261228425 | E76: =D76-C76 -> #VALUE! | F76: =G59 -> -261228425 | G76: =F76-C76 -> #VALUE!
B77: 59B | C77: - | D77: =E60 -> -264430525 | E77: =D77-C77 -> #VALUE! | F77: =G60 -> -264430525 | G77: =F77-C77 -> #VALUE!
B78: 72A | C78: - | D78: =E61 -> -327510210 | E78: =D78-C78 -> #VALUE! | F78: =G61 -> -327510210 | G78: =F78-C78 -> #VALUE!
B79: 72B | C79: - | D79: =E62 -> -321401370 | E79: =D79-C79 -> #VALUE! | F79: =G62 -> -321401370 | G79: =F79-C79 -> #VALUE!
B80: 84A | C80: 740000000 | D80: =E63 -> 744489058 | E80: =D80-C80 -> 4489058 | F80: =G63 -> 812489058 | G80: =F80-C80 -> 72489058 | H80: =(C80+(C63*34))/34 -> 32277969 | I80: =H80/F63 -> 0.93804036
B81: 84B | C81: - | D81: =E64 -> -354310974 | E81: =D81-C81 -> #VALUE! | F81: =G64 -> -354310974 | G81: =F81-C81 -> #VALUE!
B82: 84C | C82: - | D82: =E65 -> -346476592 | E82: =D82-C82 -> #VALUE! | F82: =G65 -> -346476592 | G82: =F82-C82 -> #VALUE!
B83: 97 | C83: 1000000000 | D83: =E66 -> 755458236 | E83: =D83-C83 -> -244541764 | F83: =G66 -> 833458236 | G83: =F83-C83 -> -166541764 | H83: =(C83+(C66*34))/39 -> 34637318
B84: 115 | C84: 1200000000 | D84: =E67 -> 878631740 | E84: =D84-C84 -> -321368260 | F84: =G67 -> 970631740 | G84: =F84-C84 -> -229368260 | H84: =(C84+(C67*34))/46 -> 33913838
B85: 120 | C85: - | D85: =E68 -> -416350017 | E85: =D85-C85 -> #VALUE! | F85: =G68 -> -416350017 | G85: =F85-C85 -> #VALUE!
B86: 132 | C86: - | D86: =E69 -> -414819168 | E86: =D86-C86 -> #VALUE! | F86: =G69 -> -414819168 | G86: =F86-C86 -> #VALUE!
B87: 135 | C87: - | D87: =E70 -> -1043278704 | E87: =D87-C87 -> #VALUE! | F87: =G70 -> -1043278704 | G87: =F87-C87 -> #VALUE!
B88: 145 | C88: - | D88: =E71 -> -1106160330 | E88: =D88-C88 -> #VALUE! | F88: =G71 -> -1106160330 | G88: =F88-C88 -> #VALUE!
B89: 147 | C89: - | D89: =E72 -> -1109790715 | E89: =D89-C89 -> #VALUE! | F89: =G72 -> -1109790715 | G89: =F89-C89 -> #VALUE!
A90: 시 세 T R E N D | B90: 기간 | C90: 총구매 평당가(만원) | D90: Graph
B91: 2018년
B92: 19년07월~19년09월 | C92: 1727
B93: 19년10월~19년12월 | C93: 1800
B94: 20년01월~20년03월 | C94: 2036
B95: 20년04월~20년06월 | C95: 2200
B96: 20년07월~20년09월 | C96: 2581
B97: 20년10월~20년12월 | C97: 3228
B98: 21년01월~21년03월 | C98: =H80/10000 -> 3227.7969
B99: 21년03월~21년06월
B100: 21년07월~21년09월
B101: 21년10월~21년12월
B102: 22년01월~22년03월
B103: 2026년(완공시)
A105: 특징

Sheet 양정1구역
A1: 양정1구역
A2: 사 업 개 요 | B2: 단지명 | C2: 가칭 양정자이
B3: 구역명 | C3: 양정1주택재개발정비구역
B4: 위치 | C4: 부산진구 양정동 73-7번지 일원
B5: 용도지역 | C5: 제3종일반주거지역
B6: 대지면적 ㎡ | C6: 91103.1
B7: 구역면적 ㎡ | C7: 126834.1 | D7: 조합원세대당 대지지분 (평) | F7: =C7*0.3025/C9 -> 38.367315 | G7: 기준 : 25평 이상일 것.
B8: 동수 | C8: 27
B9: 조합원세대수(약) | C9: 1000 | D9: 조합원분양률 | E9: =C9/C11 -> 0.43936731
B10: 일반분양세대수 | C10: =C11-C9 -> 1276 | D10: 일반분양률 | E10: =C10/C11 -> 0.56063269 | F10: 기준 : 50% 이상일 것. (재건축 30% 이상)
B11: 총세대수(약) | C11: 2276 | D11: (공공임대포함)
B12: 건페율 | C12: 0.1756 | D12: 건축면적 ㎡ | E12: =C7*C12 -> 22272.068 | F12: 계산 층수 | G12: =E13/E12 -> 14.962984
B13: 용적률 | C13: 2.6275 | D13: 연면적 ㎡ | E13: =C7*C13 -> 333256.6 | F13: 전용면적 기준 | G13: =E13*76% -> 253275.01
B14: 건축규모 | C14: 지하5층 / 지상최고34층 | F14: 세대구성 총연면적 대비 | H14: =G13/C41 -> 1.5151652
B15: 시공사 | C15: GS + SK + 포스코 | F15: 기준 : 세대구성 총연면적보다 클 것.
B16: 비례율(임의) | C16: 1.03
B17: 비고
A20: 추 진 현 황 | B20: 최초 구역지정 | C20: 2005.06.22
B21: 최초 조합설립 | C21: 2005.06.29
B22: 사업시행인가 | C22: 2006.10.14
B23: 사업시행변경인가 | C23: 2017.06.28
B24: 관리처분변경인가 | C24: 2018.08.21
B25: 이주기간 | C25: 19년 1/1~3/30
B26: 철거 | C26: 2019년말 예정
B27: 일반분양 | C27: 2021년 예정
B28: 준공 | C28: 2024년 예정
A30: 세 대 구 성 | B30: 평형별(전용) | C30: 총연면적 | D30: 총세대수 | E30: 일반 | F30: 조합원 | G30: 점유율 | H30: 비고
B31: 39 | C31: =39*D31 -> 4485 | D31: 115 | E31: - | F31: - | G31: =D31/$D$41 -> 0.050527241 | H31: 임대
B32: 46 | C32: =46*D32 -> 1426 | D32: 31 | E32: =D32-F32 -> 20 | F32: 11 | G32: =D32/$D$41 -> 0.013620387
B33: 59 | C33: =59*D33 -> 24485 | D33: 415 | E33: =D33-F33 -> 217 | F33: 198 | G33: =D33/$D$41 -> 0.18233743
B34: 72A | C34: =72*D34 -> 28224 | D34: 392 | E34: =D34-F34 -> 296 | F34: 96 | G34: =D34/$D$41 -> 0.17223199
B35: 72B | C35: =72*D35 -> 19728 | D35: 274 | E35: =D35-F35 -> 260 | F35: 14 | G35: =D35/$D$41 -> 0.12038664
B36: 72C | C36: =72*D36 -> 7344 | D36: 102 | E36: =D36-F36 -> 97 | F36: 5 | G36: =D36/$D$41 -> 0.044815466
B37: 84A | C37: =84*D37 -> 55692 | D37: 663 | E37: =D37-F37 -> 166 | F37: 497 | G37: =D37/$D$41 -> 0.29130053
B38: 84B | C38: =84*D38 -> 9912 | D38: 118 | E38: =D38-F38 -> 87 | F38: 31 | G38: =D38/$D$41 -> 0.051845343
B39: 84C | C39: =84*D39 -> 3864 | D39: 46 | E39: =D39-F39 -> 17 | F39: 29 | G39: =D39/$D$41 -> 0.020210896
B40: 100 | C40: =100*D40 -> 12000 | D40: 120 | E40: =D40-F40 -> 0 | F40: 120 | G40: =D40/$D$41 -> 0.052724077
B41: SUM | C41: =SUM(C31:C40) -> 167160 | D41: =SUM(D31:D40) -> 2276 | E41: =SUM(E31:E40) -> 1160 | F41: =SUM(F31:F40) -> 1001 | G41: =SUM(G31:G40) -> 1 | H41: =SUM(H31:H36) -> 0
A43: (예상) 총 프 리 미 엄 (비례율 100%기준) | B43: 평형별 | C43: (예상)조합원평당분양가 | D43: (예상)일반평당분양가 | E43: 일반분양가대비 | F43: 현재 인근평당시세 | G43: 인근시세대비 | H43: 비고
B44: 39 | C44: - | D44: - | E44: =(D44-C44)*17 -> #VALUE! | F44: - | G44: =(F44-C44)*17 -> #VALUE! | H44: 임대
B45: 46 | C45: 10173000 | E45: =(D45-C45)*21 -> -213633000 | F45: - | G45: =(F45-C45)*21 -> #VALUE!
B46: 59 | C46: 10335000 | E46: =(D46-C46)*25 -> -258375000 | F46: - | G46: =(F46-C46)*25 -> #VALUE!
B47: 72A | C47: 10321000 | E47: =(D47-C47)*30 -> -309630000 | F47: - | G47: =(F47-C47)*30 -> #VALUE!
B48: 72B | C48: 10192000 | E48: =(D48-C48)*30 -> -305760000 | F48: - | G48: =(F48-C48)*30 -> #VALUE!
B49: 72C | C49: 9944000 | E49: =(D49-C49)*30 -> -298320000 | F49: - | G49: =(F49-C49)*30 -> #VALUE!
B50: 84A | C50: 10111000 | D50: =F50-2000000 -> 21520000 | E50: =(D50-C50)*34 -> 387906000 | F50: 23520000 | G50: =(F50-C50)*34 -> 455906000 | H50: 연산롯데캐슬골드포레
B51: 84B | C51: 10140000 | E51: =(D51-C51)*34 -> -344760000 | F51: - | G51: =(F51-C51)*34 -> #VALUE!
B52: 84C | C52: 10071000 | E52: =(D52-C52)*34 -> -342414000 | F52: - | G52: =(F52-C52)*34 -> #VALUE!
B53: 100 | C53: 10297000 | E53: =(D53-C53)*39 -> -401583000 | F53: - | G53: =(F53-C53)*39 -> #VALUE! | H53: 전량 조합원
A55: 수 익 (현재기준) | B55: 평형별(전용) | C55: (예상)매매프리미엄 (대지 : 공시지가x130%) (건물 : 연면적평x130만원) (공동주택 : 공동주택가격x150%) | D55: 일반분양가 대비 총 프리미엄 | E55: 일반분양가 대비 수익 | F55: 인근시세 대비 총프리미엄 | G55: 인근시세 대비 수익 | H55: 총구매평당가 | I55: PPR (Premium to price Ratio) (100%일 때 적정) (100% 이상 : 과평가 (100% 이하 : 저평가)
B56: 39 | C56: - | D56: =E44 -> #VALUE! | E56: =D56-C56 -> #VALUE! | F56: =G44 -> #VALUE! | G56: =F56-C56 -> #VALUE!
B57: 46 | C57: - | D57: =E45 -> -213633000 | E57: =D57-C57 -> #VALUE! | F57: =G45 -> #VALUE! | G57: =F57-C57 -> #VALUE!
B58: 59 | C58: - | D58: =E46 -> -258375000 | E58: =D58-C58 -> #VALUE! | F58: =G46 -> #VALUE! | G58: =F58-C58 -> #VALUE!
B59: 72A | C59: - | D59: =E47 -> -309630000 | E59: =D59-C59 -> #VALUE! | F59: =G47 -> #VALUE! | G59: =F59-C59 -> #VALUE!
B60: 72B | C60: - | D60: =E48 -> -305760000 | E60: =D60-C60 -> #VALUE! | F60: =G48 -> #VALUE! | G60: =F60-C60 -> #VALUE!
B61: 72C | C61: - | D61: =E49 -> -298320000 | E61: =D61-C61 -> #VALUE! | F61: =G49 -> #VALUE! | G61: =F61-C61 -> #VALUE!
B62: 84A | C62: 600000000 | D62: =E50 -> 387906000 | E62: =D62-C62 -> -212094000 | F62: =G50 -> 455906000 | G62: =F62-C62 -> -144094000 | H62: =(C62+(C50*34))/34 -> 27758059 | I62: =H62/F50 -> 1.1801896
B63: 84B | C63: - | D63: =E51 -> -344760000 | E63: =D63-C63 -> #VALUE! | F63: =G51 -> #VALUE! | G63: =F63-C63 -> #VALUE!
B64: 84C | C64: - | D64: =E52 -> -342414000 | E64: =D64-C64 -> #VALUE! | F64: =G52 -> #VALUE! | G64: =F64-C64 -> #VALUE!
B65: 100 | D65: =E53 -> -401583000 | E65: =D65-C65 -> -401583000 | F65: =G53 -> #VALUE! | G65: =F65-C65 -> #VALUE!
A66: 시 세 T R E N D | B66: 기간 | C66: 총구매 평당가(만원) | D66: Graph
B67: 2019년 | C67: 1600
B68: 20년01월~20년03월 | C68: 1700
B69: 20년04월~20년06월 | C69: 1900
B70: 20년07월~20년09월 | C70: 2000
B71: 20년10월~20년12월 | C71: 2776
B72: 21년01월~21년03월 | C72: =H62/10000 -> 2775.8059
B73: 21년04월~21년05월
B74: 21년06월~21년09월
B75: 2024년(완공시)
A76: 특징

Sheet 양정2구역
A1: 양정2구역
A2: 사 업 개 요 | B2: 단지명 | C2: 가칭 KCC스위첸
B3: 구역명 | C3: 양정2주택재개발정비구역
B4: 위치 | C4: 부산진구 양정동 12-6번지 일원
B5: 용도지역 | C5: 제3종일반주거지역
B6: 대지면적 ㎡
B7: 구역면적 ㎡ | C7: 66651 | D7: 조합원세대당 대지지분 (평) | F7: =C7*0.3025/C9 -> 40.003824 | G7: 기준 : 25평 이상일 것.
B8: 동수 | C8: 12
B9: 조합원세대수(약) | C9: 504 | D9: 조합원분양률 | E9: =C9/C11 -> 0.39936609
B10: 일반분양세대수 | C10: =C11-C9 -> 758 | D10: 일반분양률 | E10: =C10/C11 -> 0.60063391 | F10: 기준 : 50% 이상일 것. (재건축 30% 이상)
B11: 총세대수(약) | C11: 1262 | D11: (공공임대 포함 : 1338세대)
B12: 건페율 | C12: 0.1845 | D12: 건축면적 ㎡ | E12: =C7*C12 -> 12297.11 | F12: 계산 층수 | G12: =E13/E12 -> 13.81084
B13: 용적률 | C13: 2.5481 | D13: 연면적 ㎡ | E13: =C7*C13 -> 169833.41 | F13: 전용면적 기준 | G13: =E13*76% -> 129073.39
B14: 건축규모 | C14: 지하4층 / 지상최고35층 | F14: 세대구성 총연면적 대비 | H14: =G13/C41 -> 1.2862962
B15: 시공사 | C15: KCC | F15: 기준 : 세대구성 총연면적보다 클 것.
B16: 비례율(임의) | C16: 1.08
B17: 비고
A20: 추 진 현 황 | B20: 최초 구역지정 | C20: 2007.08.01
B21: 최초 조합설립 | C21: 2008.02.12
B22: 사업시행인가 | C22: 2009.05.25
B23: 관리처분인가 | C23: 2018.03.27
B24: 이주 | C24: 2019년 예정
B25: 철거 | C25: 2020년 예정
B26: 일반분양 | C26: 2021년 예정
B27: 준공 | C27: 2024년 예정
A30: 세 대 구 성 | B30: 평형별(전용) | C30: 총연면적 | D30: 총세대수 | E30: 일반 | F30: 조합원 | G30: 점유율 | H30: 비고
B31: 39 | C31: =39*D31 -> 1638 | D31: 42 | E31: - | F31: - | G31: =D31/$D$41 -> 0.031390135 | H31: 임대
B32: 47 | C32: =47*D32 -> 1598 | D32: 34 | E32: - | F32: - | G32: =D32/$D$41 -> 0.025411061 | H32: 임대
B33: 59A | C33: =59*D33 -> 16107 | D33: 273 | E33: =D33-F33 -> 111 | F33: 162 | G33: =D33/$D$41 -> 0.20403587
B34: 59B | C34: =59*D34 -> 4838 | D34: 82 | E34: =D34-F34 -> 74 | F34: 8 | G34: =D34/$D$41 -> 0.061285501
B35: 73A | C35: =73*D35 -> 9636 | D35: 132 | E35: =D35-F35 -> 45 | F35: 87 | G35: =D35/$D$41 -> 0.098654709
B36: 73B | C36: =73*D36 -> 1752 | D36: 24 | E36: =D36-F36 -> 18 | F36: 6 | G36: =D36/$D$41 -> 0.01793722
B37: 84A | C37: =84*D37 -> 41580 | D37: 495 | E37: =D37-F37 -> 347 | F37: 148 | G37: =D37/$D$41 -> 0.36995516
B38: 84B | C38: =84*D38 -> 13608 | D38: 162 | E38: =D38-F38 -> 132 | F38: 30 | G38: =D38/$D$41 -> 0.12107623
B39: 102A | C39: =102*D39 -> 7956 | D39: 78 | E39: =D39-F39 -> 16 | F39: 62 | G39: =D39/$D$41 -> 0.058295964
B40: 102B | C40: =102*D40 -> 1632 | D40: 16 | E40: =D40-F40 -> 15 | F40: 1 | G40: =D40/$D$41 -> 0.011958146
B41: SUM | C41: =SUM(C31:C40) -> 100345 | D41: =SUM(D31:D40) -> 1338 | E41: =SUM(E31:E40) -> 758 | F41: =SUM(F31:F40) -> 504 | G41: =SUM(G31:G40) -> 1 | H41: =SUM(H31:H36) -> 0
A43: (예상) 총 프 리 미 엄 (비례율 100%기준) | B43: 평형별 | C43: (예상)조합원평당분양가 | D43: (예상)일반평당분양가 | E43: 일반분양가대비 | F43: 현재 인근평당시세 | G43: 인근시세대비 | H43: 비고
B44: 39 | C44: - | D44: - | E44: =(D44-C44)*17 -> #VALUE! | F44: - | G44: =(F44-C44)*17 -> #VALUE! | H44: 임대
B45: 47 | C45: - | D45: - | E45: =(D45-C45)*20 -> #VALUE! | F45: - | G45: =(F45-C45)*20 -> #VALUE! | H45: 임대
B46: 59A | C46: =230593000/25 -> 9223720 | D46: =268949000/25 -> 10757960 | E46: =(D46-C46)*25 -> 38356000 | F46: - | G46: =(F46-C46)*25 -> #VALUE!
B47: 59B | C47: =231772000/25 -> 9270880 | D47: =271530000/25 -> 10861200 | E47: =(D47-C47)*25 -> 39758000 | F47: - | G47: =(F47-C47)*25 -> #VALUE!
B48: 73A | C48: =281543000/30 -> 9384766.7 | D48: =328523000/30 -> 10950767 | E48: =(D48-C48)*30 -> 46980000 | F48: - | G48: =(F48-C48)*30 -> #VALUE!
B49: 73B | C49: =281264000/30 -> 9375466.7 | D49: =327886000/30 -> 10929533 | E49: =(D49-C49)*30 -> 46622000 | F49: - | G49: =(F49-C49)*30 -> #VALUE!
B50: 84A | C50: =324896000/34 -> 9555764.7 | D50: 13000000 | E50: =(D50-C50)*34 -> 1.17104e+08 | F50: 23520000 | G50: =(F50-C50)*34 -> 474784000 | H50: 연산롯데캐슬골드포레
B51: 84B | C51: =319773000/34 -> 9405088.2 | D51: =371702000/34 -> 10932412 | E51: =(D51-C51)*34 -> 51929000 | F51: - | G51: =(F51-C51)*34 -> #VALUE!
B52: 102A | C52: =385777000/42 -> 9185166.7 | D52: =443337000/42 -> 10555643 | E52: =(D52-C52)*42 -> 57560000 | F52: - | G52: =(F52-C52)*42 -> #VALUE!
B53: 102B | C53: =377424000/42 -> 8986285.7 | D53: =439599000/42 -> 10466643 | E53: =(D53-C53)*42 -> 62175000 | F53: - | G53: =(F53-C53)*42 -> #VALUE!
A55: 수 익 (현재기준) | B55: 평형별(전용) | C55: (예상)매매프리미엄 (대지 : 공시지가x130%) (건물 : 연면적평x130만원) (공동주택 : 공동주택가격x150%) | D55: 일반분양가 대비 총 프리미엄 | E55: 일반분양가 대비 수익 | F55: 인근시세 대비 총프리미엄 | G55: 인근시세 대비 수익 | H55: 총구매평당가 | I55: PPR (Premium to price Ratio) (100%일 때 적정) (100% 이상 : 과평가 (100% 이하 : 저평가)
B56: 39 | C56: - | D56: =E44 -> #VALUE! | E56: =D56-C56 -> #VALUE! | F56: =G44 -> #VALUE! | G56: =F56-C56 -> #VALUE!
B57: 47 | C57: - | D57: =E45 -> #VALUE! | E57: =D57-C57 -> #VALUE! | F57: =G45 -> #VALUE! | G57: =F57-C57 -> #VALUE!
B58: 59A | C58: - | D58: =E46 -> 38356000 | E58: =D58-C58 -> #VALUE! | F58: =G46 -> #VALUE! | G58: =F58-C58 -> #VALUE!
B59: 59B | C59: - | D59: =E47 -> 39758000 | E59: =D59-C59 -> #VALUE! | F59: =G47 -> #VALUE! | G59: =F59-C59 -> #VALUE!
B60: 73A | C60: - | D60: =E48 -> 46980000 | E60: =D60-C60 -> #VALUE! | F60: =G48 -> #VALUE! | G60: =F60-C60 -> #VALUE!
B61: 73B | C61: - | D61: =E49 -> 46622000 | E61: =D61-C61 -> #VALUE! | F61: =G49 -> #VALUE! | G61: =F61-C61 -> #VALUE!
B62: 84A | C62: 600000000 | D62: =E50 -> 1.17104e+08 | E62: =D62-C62 -> -482896000 | F62: =G50 -> 474784000 | G62: =F62-C62 -> -125216000 | H62: =(C62+(C50*34))/34 -> 27202824 | I62: =H62/F50 -> 1.1565826
B63: 84B | C63: - | D63: =E51 -> 51929000 | E63: =D63-C63 -> #VALUE! | F63: =G51 -> #VALUE! | G63: =F63-C63 -> #VALUE!
B64: 102A | C64: - | D64: =E52 -> 57560000 | E64: =D64-C64 -> #VALUE! | F64: =G52 -> #VALUE! | G64: =F64-C64 -> #VALUE!
B65: 102B | D65: =E53 -> 62175000 | E65: =D65-C65 -> 62175000 | F65: =G53 -> #VALUE! | G65: =F65-C65 -> #VALUE!
A66: 시 세 T R E N D | B66: 기간 | C66: 총구매 평당가(만원) | D66: Graph
B67: 2019년 | C67: 1400
B68: 20년01월~20년03월 | C68: 1500
B69: 20년04월~20년06월 | C69: 1700
B70: 20년07월~20년09월 | C70: 1900
B71: 20년10월~20년12월 | C71: 2720
B72: 21년01월~21년03월 | C72: =H62/10000 -> 2720.2824
B73: 21년04월~21년05월
B74: 21년06월~21년09월
B75: 2024년(완공시)
A76: 특징

Sheet 양정3구역
A1: 양정3구역
A2: 사 업 개 요 | B2: 단지명 | C2: 가칭 양정롯데캐슬
B3: 구역명 | C3: 양정3주택재개발정비구역
B4: 위치 | C4: 부산진구 양정동 64-3번지 일원
B5: 용도지역 | C5: 제3종일반주거지역
B6: 대지면적 ㎡
B7: 구역면적 ㎡ | C7: 44278.8 | D7: 조합원세대당 대지지분 (평) | F7: =C7*0.3025/C9 -> 38.269534 | G7: 기준 : 25평 이상일 것.
B8: 동수 | C8: 10
B9: 조합원세대수(약) | C9: 350 | D9: 조합원분양률 | E9: =C9/C11 -> 0.3875969
B10: 일반분양세대수 | C10: =C11-C9 -> 553 | D10: 일반분양률 | E10: =C10/C11 -> 0.6124031 | F10: 기준 : 50% 이상일 것. (재건축 30% 이상)
B11: 총세대수(약) | C11: 903 | D11: (공공임대포함) | E11: (1단지 6개동 622세대 / 2단지 4개동 281세대)
B12: 건페율 | C12: 0.1741 | D12: 건축면적 ㎡ | E12: =C7*C12 -> 7708.9391 | F12: 계산 층수 | G12: =E13/E12 -> 15.522114
B13: 용적률 | C13: 2.7024 | D13: 연면적 ㎡ | E13: =C7*C13 -> 119659.03 | F13: 전용면적 기준 | G13: =E13*76% -> 90940.862
B14: 건축규모 | C14: 지하5층 / 지상최고28층 | F14: 세대구성 총연면적 대비 | H14: =G13/C37 -> 1.3510349
B15: 시공사 | C15: 롯데건설 | F15: 기준 : 세대구성 총연면적보다 클 것.
B16: 비례율(임의) | C16: 미정
B17: 비고 | C17: 이사비 : 500(무이자) + 1500(유이자)
C18: 이주비 : 70% / 중도금 없음.
A20: 추 진 현 황 | B20: 최초 구역지정 | C20: 2009.12.23
B21: 최초 조합설립 | C21: 2016.09.12
B22: 사업시행인가공람공고 | C22: ~2019년 1월 4일
B23: 사업시행인가 | C23: 2019년 1월 예정
B24: 관리처분인가 | C24: 2020년 예정
B25: 이주 | C25: 2021년 예정
B26: 철거 | C26: 2022년 예정
B27: 일반분양 | C27: 2023년 예정
B28: 준공 | C28: 2026년 예정
A30: 세 대 구 성 | B30: 평형별(전용) | C30: 총연면적 | D30: 총세대수 | E30: 일반 | F30: 조합원 | G30: 점유율 | H30: 비고
B31: 39 | C31: =39*D31 -> 2028 | D31: 52 | G31: =D31/$D$37 -> 0.057585825 | H31: 임대
B32: 59A | C32: =59*D32 -> 18113 | D32: 307 | G32: =D32/$D$37 -> 0.33997785
B33: 59B | C33: =59*D33 -> 2655 | D33: 45 | G33: =D33/$D$37 -> 0.049833887
B34: 84A | C34: =84*D34 -> 17052 | D34: 203 | G34: =D34/$D$37 -> 0.2248062
B35: 84B | C35: =84*D35 -> 16464 | D35: 196 | G35: =D35/$D$37 -> 0.21705426
B36: 110 | C36: =110*D36 -> 11000 | D36: 100 | G36: =D36/$D$37 -> 0.11074197
B37: SUM | C37: =SUM(C31:C36) -> 67312 | D37: =SUM(D31:D36) -> 903 | E37: =SUM(E31:E36) -> 0 | F37: =SUM(F31:F36) -> 0 | G37: =SUM(G31:G36) -> 1 | H37: =SUM(H31:H36) -> 0
A39: (예상) 총 프 리 미 엄 (비례율 100%기준) | B39: 평형별 | C39: (예상)조합원평당분양가 | D39: (예상)일반평당분양가 | E39: 일반분양가대비 | F39: 현재 인근평당시세 | G39: 인근시세대비 | H39: 비고
B40: 39 | C40: - | D40: - | E40: =(D40-C40)*17 -> #VALUE! | F40: - | G40: =(F40-C40)*17 -> #VALUE! | H40: 임대
B41: 59A | E41: =(D41-C41)*25 -> 0 | F41: - | G41: =(F41-C41)*25 -> #VALUE!
B42: 59B | E42: =(D42-C42)*25 -> 0 | F42: - | G42: =(F42-C42)*25 -> #VALUE!
B43: 84A (추정) | C43: 13300000 | D43: 14400000 | E43: =(D43-C43)*34 -> 37400000 | F43: 23520000 | G43: =(F43-C43)*34 -> 347480000 | H43: 연산롯데캐슬골드포레
B44: 84B | E44: =(D44-C44)*34 -> 0 | F44: - | G44: =(F44-C44)*34 -> #VALUE!
B45: 110 | E45: =(D45-C45)*45 -> 0 | F45: - | G45: =(F45-C45)*45 -> #VALUE!
A51: 수 익 (현재기준) | B51: 평형별(전용) | C51: (예상)매매프리미엄 (대지 : 공시지가x130%) (건물 : 연면적평x130만원) (공동주택 : 공동주택가격x150%) | D51: 일반분양가 대비 총 프리미엄 | E51: 일반분양가 대비 수익 | F51: 인근시세 대비 총프리미엄 | G51: 인근시세 대비 수익 | H51: 총구매평당가 | I51: PPR (Premium to price Ratio) (100%일 때 적정) (100% 이상 : 과평가 (100% 이하 : 저평가)
B52: 39 | C52: - | D52: =E40 -> #VALUE! | E52: =D52-C52 -> #VALUE! | F52: =G40 -> #VALUE! | G52: =F52-C52 -> #VALUE!
B53: 59A | C53: - | D53: =E41 -> 0 | E53: =D53-C53 -> #VALUE! | F53: =G41 -> #VALUE! | G53: =F53-C53 -> #VALUE!
B54: 59B | C54: - | D54: =E42 -> 0 | E54: =D54-C54 -> #VALUE! | F54: =G42 -> #VALUE! | G54: =F54-C54 -> #VALUE!
B55: 84A | C55: 570000000 | D55: =E43 -> 37400000 | E55: =D55-C55 -> -532600000 | F55: =G43 -> 347480000 | G55: =F55-C55 -> -222520000 | H55: =(C55+(C43*34))/34 -> 30064706 | I55: =H55/F43 -> 1.2782613
B56: 84B | C56: - | D56: =E44 -> 0 | E56: =D56-C56 -> #VALUE! | F56: =G44 -> #VALUE! | G56: =F56-C56 -> #VALUE!
B57: 110 | C57: - | D57: =E45 -> 0 | E57: =D57-C57 -> #VALUE! | F57: =G45 -> #VALUE! | G57: =F57-C57 -> #VALUE!
A58: 시 세 T R E N D | B58: 기간 | C58: 총구매 평당가(만원) | D58: Graph
B59: 2019년 | C59: 1700
B60: 20년01월~20년03월 | C60: 1800
B61: 20년04월~20년06월 | C61: 2065
B62: 20년07월~20년09월 | C62: 2447
B63: 20년10월~20년12월 | C63: 3006
B64: 21년01월~21년03월 | C64: =H55/10000 -> 3006.4706
B65: 21년04월~21년05월
B66: 21년06월~21년09월
B67: 21년10월~21년12월
B68: 22년01월~22년03월
B69: 2026년(완공시)
A70: 특징

Sheet 거제2구역
A1: 거제2구역
A2: 사 업 개 요 | B2: 단지명 | C2: 레미안거제
B3: 구역명 | C3: 거제2구역 주택재개발
B4: 위치 | C4: 부산시 연제구 거제동 802번지 일원
B5: 용도지역 | C5: 제3종일반주거지역
B6: 대지면적 ㎡ | C6: =56668*3.3058 -> 187333.07
B7: 구역면적 ㎡ | C7: 238764 | D7: 조합원세대당 대지지분 (평) | F7: =C7*0.3025/C9 -> 48.768474 | G7: 기준 : 25평 이상일 것.
B8: 동수 | C8: 34
B9: 조합원세대수(약) | C9: 1481 | D9: 조합원분양률 | E9: =C9/C11 -> 0.33131991
B10: 일반분양세대수 | C10: =C11-C9 -> 2989 | D10: 일반분양률 | E10: =C10/C11 -> 0.66868009 | F10: 기준 : 50% 이상일 것. (재건축 30% 이상)
B11: 총세대수(약) | C11: 4470 | D11: (공공임대포함)
B12: 건페율 | C12: 0.1348 | D12: 건축면적 ㎡ | E12: =C7*C12 -> 32185.387 | F12: 계산 층수 | G12: =E13/E12 -> 19.057864
B13: 용적률 | C13: 2.569 | D13: 연면적 ㎡ | E13: =C7*C13 -> 613384.72 | F13: 전용면적 기준 | G13: =E13*76% -> 466172.38
B14: 건축규모 | C14: 지하3층 / 지상 최고 35층 | F14: 세대구성 총연면적 대비 | H14: =G13/C43 -> 2.6411285
B15: 시공사 | C15: 삼성물산+대림산업+현대산업개발 컨소시엄 | F15: 기준 : 세대구성 총연면적보다 클 것.
B16: 비례율(임의) | C16: 1.5
B17: 비고
A20: 추 진 현 황 | B20: 최초 구역지정 | C20: 2005.11.16
B21: 최초 조합설립 | C21: 2006.06.09
B22: 사업시행인가 | C22: 2008.12.19
B23: 관리처분계획 | C23: 2016.05.11
B24: 이주.철거 | C24: 2016.12.26
B25: 일반분양 | C25: 2019년 예정
B26: 준공 | C26: 2022년 예정
A30: 세 대 구 성 | B30: 평형별(전용) | C30: 총연면적 | D30: 총세대수 | E30: 일반 | F30: 조합원 | G30: 점유율 | H30: 비고
B31: 49A | C31: =49*D31 -> 11466 | D31: 234 | E31: 210 | F31: =D31-E31 -> 24 | G31: =D31/$D$43 -> 0.1011236
B32: 49B | C32: =49*D32 -> 11466 | D32: 234 | E32: 210 | F32: =D32-E32 -> 24 | G32: =D32/$D$43 -> 0.1011236
B33: 59A | C33: =59*D33 -> 3658 | D33: 62 | E33: 59 | F33: =D33-E33 -> 3 | G33: =D33/$D$43 -> 0.026793431
B34: 59B | C34: =59*D34 -> 2891 | D34: 49 | E34: 44 | F34: =D34-E34 -> 5 | G34: =D34/$D$43 -> 0.021175454
B35: 75A | C35: =75*D35 -> 11250 | D35: 150 | E35: 34 | F35: =D35-E35 -> 116 | G35: =D35/$D$43 -> 0.064822818
B36: 75B | C36: =75*D36 -> 7950 | D36: 106 | E36: 76 | F36: =D36-E36 -> 30 | G36: =D36/$D$43 -> 0.045808124
B37: 84A | C37: =84*D37 -> 87696 | D37: 1044 | E37: 474 | F37: =D37-E37 -> 570 | G37: =D37/$D$43 -> 0.45116681
B38: 84B | C38: =84*D38 -> 19068 | D38: 227 | E38: 202 | F38: =D38-E38 -> 25 | G38: =D38/$D$43 -> 0.098098531
B39: 101A | C39: =101*D39 -> 19897 | D39: 197 | E39: 0 | F39: =D39-E39 -> 197 | G39: =D39/$D$43 -> 0.085133967
B40: 101B | C40: =101*D40 -> 707 | D40: 7 | E40: 0 | F40: =D40-E40 -> 7 | G40: =D40/$D$43 -> 0.0030250648
B41: 114A | C41: =114*D41 -> 114 | D41: 1 | E41: 0 | F41: =D41-E41 -> 1 | G41: =D41/$D$43 -> 0.00043215212
B42: 114B | C42: =114*D42 -> 342 | D42: 3 | E42: 3 | F42: =D42-E42 -> 0 | G42: =D42/$D$43 -> 0.0012964564
B43: SUM | C43: =SUM(C31:C42) -> 176505 | D43: =SUM(D31:D42) -> 2314 | E43: =SUM(E31:E42) -> 1312 | F43: =SUM(F31:F42) -> 1002 | G43: =SUM(G31:G42) -> 1 | H43: =SUM(H31:H42) -> 0
A45: (예상) 총 프 리 미 엄 (비례율 100%기준) | B45: 평형별(전용)\ | C45: (예상)조합원평당분양가 | D45: (예상)일반평당분양가 | E45: 일반분양가대비 | F45: 현재 인근평당시세 | G45: 인근시세대비 | H45: 비고
B46: 49A | D46: - | E46: =(D46-C46)*22 -> #VALUE! | F46: - | G46: =(F46-C46)*22 -> #VALUE!
B47: 49B | D47: - | E47: =(D47-C47)*22 -> #VALUE! | F47: - | G47: =(F47-C47)*22 -> #VALUE!
B48: 59A | E48: =(D48-C48)*25 -> 0 | G48: =(F48-C48)*25 -> 0
B49: 59B | E49: =(D49-C49)*25 -> 0 | G49: =(F49-C49)*25 -> 0
B50: 75A | E50: =(D50-C50)*31 -> 0 | G50: =(F50-C50)*31 -> 0
B51: 75B | E51: =(D51-C51)*31 -> 0 | G51: =(F51-C51)*31 -> 0
B52: 84A | C52: =321150000/34 -> 9445588.2 | D52: 20910000 | E52: =(D52-C52)*34 -> 389790000 | F52: 32940000 | G52: =(F52-C52)*34 -> 798810000 | H52: 사직롯데캐슬더클래식
B53: 84B | E53: =(D53-C53)*34 -> 0 | G53: =(F53-C53)*34 -> 0
A54: 총 프 리 미 엄 (비례율 100%기준) | B54: 101A | E54: =(D54-C54)*39 -> 0 | G54: =(F54-C54)*39 -> 0
B55: 101B | E55: =(D55-C55)*39 -> 0 | G55: =(F55-C55)*39 -> 0
B56: 114A | E56: =(D56-C56)*43 -> 0 | G56: =(F56-C56)*43 -> 0
B57: 114B | E57: =(D57-C57)*43 -> 0 | G57: =(F57-C57)*43 -> 0
A59: 수 익 (현재기준) | B59: 평형별(전용) | C59: (예상)매매프리미엄 (대지 : 공시지가x130%) (건물 : 연면적평x130만원) (공동주택 : 공동주택가격x150%) | D59: 일반분양가 대비 총 프리미엄 | E59: 일반분양가 대비 수익 | F59: 인근시세 대비 총프리미엄 | G59: 인근시세 대비 수익 | H59: 총구매평당가 | I59: PPR (Premium to price Ratio) (100%일 때 적정) (100% 이상 : 과평가 (100% 이하 : 저평가)
B60: 49A | C60: - | D60: =E46 -> #VALUE! | E60: =D60-C60 -> #VALUE! | F60: =G46 -> #VALUE! | G60: =F60-C60 -> #VALUE!
B61: 49B | C61: - | D61: =E47 -> #VALUE! | E61: =D61-C61 -> #VALUE! | F61: =G47 -> #VALUE! | G61: =F61-C61 -> #VALUE!
B62: 59A | D62: =E48 -> 0 | E62: =D62-C62 -> 0 | F62: =G48 -> 0 | G62: =F62-C62 -> 0
B63: 59B | C63: - | D63: =E49 -> 0 | E63: =D63-C63 -> #VALUE! | F63: =G49 -> 0 | G63: =F63-C63 -> #VALUE!
B64: 75A | D64: =E50 -> 0 | E64: =D64-C64 -> 0 | F64: =G50 -> 0 | G64: =F64-C64 -> 0
B65: 75B | D65: =E51 -> 0 | E65: =D65-C65 -> 0 | F65: =G51 -> 0 | G65: =F65-C65 -> 0
B66: 84A | C66: 1020000000 | D66: =E52 -> 389790000 | E66: =D66-C66 -> -630210000 | F66: =G52 -> 798810000 | G66: =F66-C66 -> -221190000 | H66: =(C66+(C52*34))/34 -> 39445588 | I66: =H66/F52 -> 1.1974981
B67: 84B | D67: =E53 -> 0 | E67: =D67-C67 -> 0 | F67: =G53 -> 0 | G67: =F67-C67 -> 0
B68: 101A | D68: =E54 -> 0 | E68: =D68-C68 -> 0 | F68: =G54 -> 0 | G68: =F68-C68 -> 0
B69: 101B | C69: - | D69: =E55 -> 0 | E69: =D69-C69 -> #VALUE! | F69: =G55 -> 0 | G69: =F69-C69 -> #VALUE!
B70: 114A | C70: - | D70: =E56 -> 0 | E70: =D70-C70 -> #VALUE! | F70: =G56 -> 0 | G70: =F70-C70 -> #VALUE!
B71: 114B | C71: - | D71: =E57 -> 0 | E71: =D71-C71 -> #VALUE! | F71: =G57 -> 0 | G71: =F71-C71 -> #VALUE!
A72: 시 세 T R E N D | B72: 기간 | C72: 총구매 평당가(만원) | D72: Graph
B73: 2018년 | C73: 1026
B74: 19년07월~19년09월 | C74: 1300
B75: 19년10월~19년12월 | C75: 1600
B76: 20년01월~20년03월 | C76: 2055
B77: 20년04월~20년06월 | C77: 2350
B78: 20년07월~20년09월 | C78: 3231
B79: 20년10월~20년12월 | C79: 3945
B80: 21년01월~21년03월 | C80: =H66/10000 -> 3944.5588
B81: 21년03월~21년06월
B82: 21년07월~21년09월
B83: 21년10월~21년12월
B84: 22년01월~22년03월
B85: 2026년(완공시)
A87: 특징

Sheet 시민공원촉진3구역
A1: 시민공원재정비촉진3구역
A2: 사 업 개 요 | B2: 단지명 | C2: 시민공원재정비촉진3구역
B3: 구역명 | C3: 촉진3주택재개발
B4: 위치 | E4: 평당 공사비(건축비) | F4: 4500000
B5: 구역면적 ㎡ | C5: 53905 | D5: 조합원세대당 대지 평수 (평균분양평형) | F5: =C5*0.3025/C7 -> 9.5919191 | G5: 기준 : 25평 이상일 것.
B6: 동수 | C6: 10 | D6: 기부체납면적 ㎡ | F6: 실사용 면적 ㎡ | G6: =C5-E6 -> 53905
B7: 조합원세대수 | C7: 1700 | D7: 조합원분양률 | E7: =C7/C9 -> 0.44584317
B8: 일반분양세대수 | C8: =C9-C7 -> 2113 | D8: 일반분양률 | E8: =C8/C9 -> 0.55415683 | F8: 기준 : 50% 이상일 것. (재건축 30% 이상)
B9: 총세대수 | C9: 3813
B10: 건페율 | C10: 0.1811 | D10: 건축면적 ㎡ | E10: =G6*C10 -> 9762.1955 | F10: 계산 층수 | G10: =E11/E10 -> 13.692987
B11: 용적률 | C11: 2.4798 | D11: 건축가능 연면적 ㎡ | E11: =G6*C11 -> 133673.62 | F11: 전용면적 기준 | G11: =E11*76% -> 101591.95
B12: 건축규모 | C12: 지하3층/지상 최고 60층 /23개동/평균 40층 이하 | D12: 세대당 평균 종전자산 평가액 | E12: - | F12: 세대구성 총연면적 대비 | G12: =G11/C35 -> 1.696479
B13: 시공사 | C13: 현대산업개발 | D13: 총 종전사산 평가액 | E13: =C7*E12 -> #VALUE! | F13: 총 건축가능세대 수 | G13: =E11*0.3025/F5 -> 4215.66
B14: 조합 비례율 | C14: 1.1 | D14: 계약면적 (평) | E14: - | F14: 총 시공 평수 | G14: =E14*G13 -> #VALUE!
B16: 총 사업비 | C16: =E16+G16 -> #VALUE! | D16: 총 공사비 | E16: =G14*F4 -> #VALUE! | F16: 기타사업비 | G16: =E16*30% -> #VALUE!
B17: 총 분양수입 | C17: =(E17*C7)+(G17*C8) -> #VALUE! | D17: (예상)평균조합원분양가 | E17: - | F17: (예상) 평균일반분양가 | G17: -
B18: 비례율 (사업성 검토용) | C18: =E18/E13 -> #VALUE! | D18: 순이익 | E18: =C17-C16 -> #VALUE! | F18: 조합원 세대당 평균 순이익 | G18: =E18/C7 -> #VALUE!
A20: 추 진 현 황 | B20: 구역지정 | C20: 2007.05.03
B21: 조합설립 | C21: 2013.03.14
B22: 사업시행 | C22: 2017.10.20
B23: 관리처분계획 | C23: 2019.04.05
B24: 이주 | C24: 2019년 08월 08일
B25: 철거 | C25: 2020년 예정
B26: 일반분양 | C26: 2021년 예정
B27: 준공 | C27: 2025년 예정
A29: 세 대 구 성 | B29: 평형별(전용) | C29: 총연면적 | D29: 총세대수 | E29: 조합원 | F29: 일반 | G29: 보류지 | H29: 점유율
B30: 38㎡ (임대) | C30: =38*D30 -> 2432 | D30: 64 | H30: =D30/$D$35 -> 0.073563218
B31: 59㎡ | C31: =59*D31 -> 23777 | D31: 403 | F31: =D31-E31 -> 403 | H31: =D31/$D$35 -> 0.46321839
B32: 84㎡ | C32: =84*D32 -> 18480 | D32: 220 | F32: =D32-E32 -> 220 | H32: =D32/$D$35 -> 0.25287356
B33: 75㎡ | C33: =75*D33 -> 10575 | D33: 141 | F33: =D33-E33 -> 141 | H33: =D33/$D$35 -> 0.16206897
B34: 110㎡ | C34: =110*D34 -> 4620 | D34: 42 | F34: =D34-E34 -> 42 | H34: =D34/$D$35 -> 0.048275862
B35: SUM | C35: =SUM(C30:C34) -> 59884 | D35: =SUM(D30:D34) -> 870 | E35: =SUM(E30:E34) -> 0 | F35: =SUM(F30:F34) -> 806 | G35: =SUM(G30:G34) -> 0 | H35: =SUM(H30:H34) -> 1
A37: 총 프 리 미 엄 (비례율 100%기준) | B37: 평형별(전용) | C37: (예상)조합원평당분양가 | D37: (예상)일반평당분양가 | E37: 일반분양가대비 | F37: 현재 인근평당시세 | G37: 인근시세 대비 | H37: 비고
B38: 38㎡ (임대)
B39: 59㎡ | E39: =(D39-C39)*25 -> 0 | G39: =(F39-C39)*25 -> 0
B40: 84㎡ | C40: =F40*70% -> 19103000 | D40: =F40-2000000 -> 25290000 | E40: =(D40-C40)*25 -> 154675000 | F40: 27290000 | G40: =(F40-C40)*25 -> 204675000 | H40: 레미안어반파크
B41: 75㎡ | E41: =(D41-C41)*34 -> 0 | G41: =(F41-C41)*34 -> 0
B42: 110㎡ | E42: =(D42-C42)*34 -> 0 | G42: =(F42-C42)*34 -> 0
A44: 수 익 (현재기준) | B44: 평형별(전용) | C44: (예상)매매프리미엄 (대지 : 공시지가x130%) (건물 : 연면적평x130만원) (공동주택 : 공동주택가격x150%) | D44: 일반분양가 대비 총 프리미엄 | E44: 일반분양가 대비 수익 | F44: 인근시세 대비 총프리미엄 | G44: 인근시세 대비 수익 | H44: 총구매평당가 | I44: PPR (Premium to price Ratio) (100%일 때 적정) (100% 이상 : 과평가 (100% 이하 : 저평가)
B45: 38㎡ (임대) | C45: - | D45: =E38 -> 0 | E45: =D45-C45 -> #VALUE! | F45: =G38 -> 0 | G45: =F45-C45 -> #VALUE!
B46: 59㎡ | C46: - | D46: =E39 -> 0 | E46: =D46-C46 -> #VALUE! | F46: =G39 -> 0 | G46: =F46-C46 -> #VALUE!
B47: 84㎡ | C47: 870000000 | D47: =E40 -> 154675000 | E47: =D47-C47 -> -715325000 | F47: =G40 -> 204675000 | G47: =F47-C47 -> -665325000 | H47: =(C47+(C40*34))/34 -> 44691235 | I47: =H47/F40 -> 1.6376415
B48: 75㎡ | C48: - | D48: =E41 -> 0 | E48: =D48-C48 -> #VALUE! | F48: =G41 -> 0 | G48: =F48-C48 -> #VALUE!
B49: 110㎡ | C49: - | D49: =E42 -> 0 | E49: =D49-C49 -> #VALUE! | F49: =G42 -> 0 | G49: =F49-C49 -> #VALUE!
A51: 시 세 T R E N D | B51: 기간 | C51: 총구매평당가(만원) | D51: Graph
B52: 2019년 | C52: 2000
B53: 20년01월~20년03월 | C53: 2150
B54: 20년04월~20년06월 | C54: 2500
B55: 20년07월~20년09월 | C55: 2600
B56: 20년10월~20년12월 | C56: 4116
B57: 21년01월~21년03월 | C57: =H47/10000 -> 4469.1235
B58: 21년04월~21년06월
B59: 21년07월~21년09월
B60: 21년10월~21년12월
B61: 22년01월~22년03월
B62: 2026년(완공시)
A63: 특징 | B63: ♦ 특별건축구역으로 진행합니다.
B64: ♦ 시민공원주변재정비 구역 중 대장 단지이고, 부산진구 전체의 대장이며, 우동3구역/삼익비치재건축과 함께 부산을 대표하는 재개발단지입니다.
B65: ♦ 부전역복합환승센터 개발계획과 함께 미래가치가 높습니다.
B66: ♦ 사상~해운대 대심도 중간 진출입로 구간에 위치하여 교통이 편리하고 인근의 지가상승 또한 높습니다.
B67: ♦ 성지토등학교 이전과 함께 초품아 단지입니다.
B68: ♦ 도보 10분 거리로 서면상권의 이용이 편리합니다.

Sheet 시민공원촉진4구역
A1: 시민공원재정비촉진4구역
A2: 사 업 개 요 | B2: 단지명 | C2: 시민공원재정비촉진4구역
B3: 구역명 | C3: 촉진4주택재개발
B4: 위치 | C4: 부산진구 양정동 445-15번지 일원 | E4: 평당 공사비(건축비) | F4: 4500000
B5: 구역면적 ㎡ | C5: 39459 | D5: 조합원세대당 대지 평수 (평균분양평형) | F5: =C5*0.3025/C7 -> 14.556521 | G5: 기준 : 25평 이상일 것.
B6: 동수 | C6: 2 | D6: 기부체납면적 ㎡ | F6: 실사용 면적 ㎡ | G6: =C5-E6 -> 39459
B7: 조합원세대수 | C7: 820 | D7: 조합원분양률 | E7: =C7/C9 -> 0.97387173
B8: 일반분양세대수 | C8: =C9-C7 -> 22 | D8: 일반분양률 | E8: =C8/C9 -> 0.026128266 | F8: 기준 : 50% 이상일 것. (재건축 30% 이상)
B9: 총세대수 | C9: 842
B10: 건페율 | C10: 0.1584 | D10: 건축면적 ㎡ | E10: =G6*C10 -> 6250.3056 | F10: 계산 층수 | G10: =E11/E10 -> 19.554924
B11: 용적률 | C11: 3.0975 | D11: 건축가능 연면적 ㎡ | E11: =G6*C11 -> 122224.25 | F11: 전용면적 기준 | G11: =E11*76% -> 92890.432
B12: 건축규모 | C12: 지하3층/지상 최고 46층 /2개동 | D12: 세대당 평균 종전자산 평가액 | E12: - | F12: 세대구성 총연면적 대비 | G12: =G11/C36 -> 1.6700304
B13: 시공사 | C13: 현대산업개발 | D13: 총 종전사산 평가액 | E13: =C7*E12 -> #VALUE! | F13: 총 건축가능세대 수 | G13: =E11*0.3025/F5 -> 2539.95
B14: 조합 비례율 | C14: 1 | D14: 계약면적 (평) | E14: - | F14: 총 시공 평수 | G14: =E14*G13 -> #VALUE!
B16: 총 사업비 | C16: =E16+G16 -> #VALUE! | D16: 총 공사비 | E16: =G14*F4 -> #VALUE! | F16: 기타사업비 | G16: =E16*30% -> #VALUE!
B17: 총 분양수입 | C17: =(E17*C7)+(G17*C8) -> #VALUE! | D17: (예상)평균조합원분양가 | E17: - | F17: (예상) 평균일반분양가 | G17: -
B18: 비례율 (사업성 검토용) | C18: =E18/E13 -> #VALUE! | D18: 순이익 | E18: =C17-C16 -> #VALUE! | F18: 조합원 세대당 평균 순이익 | G18: =E18/C7 -> #VALUE!
A20: 추 진 현 황 | B20: 구역지정 | C20: 2007.05.23
B21: 조합설립 | C21: 2016.02.05
B22: 사업시행 | C22: 2021년 예정
B23: 관리처분계획 | C23: 2023년 예정
B24: 이주 | C24: 2024년예정
B25: 철거 | C25: 2025년 예정
B26: 일반분양 | C26: 2026년 예정
B27: 준공 | C27: 2030년 예정
A29: 세 대 구 성 | B29: 평형별(전용) | C29: 총연면적 | D29: 총세대수 | E29: 조합원 | F29: 일반 | G29: 보류지 | H29: 점유율
B30: 36㎡ (임대) | C30: =36*D30 -> 1512 | D30: 42 | H30: =D30/$D$36 -> 0.049881235
B31: 45㎡ | C31: =45*D31 -> 3690 | D31: 82 | F31: =D31-E31 -> 82 | H31: =D31/$D$36 -> 0.097387173
B32: 59㎡ | C32: =59*D32 -> 20296 | D32: 344 | F32: =D32-E32 -> 344 | H32: =D32/$D$36 -> 0.40855107
B33: 65㎡ | C33: =65*D33 -> 6240 | D33: 96 | F33: =D33-E33 -> 96 | H33: =D33/$D$36 -> 0.11401425
B34: 84㎡ | C34: =84*D34 -> 20160 | D34: 240 | F34: =D34-E34 -> 240 | H34: =D34/$D$36 -> 0.28503563
B35: 98㎡ | C35: =98*D35 -> 3724 | D35: 38 | F35: =D35-E35 -> 38 | H35: =D35/$D$36 -> 0.045130641
B36: SUM | C36: =SUM(C30:C35) -> 55622 | D36: =SUM(D30:D35) -> 842 | E36: =SUM(E30:E35) -> 0 | F36: =SUM(F30:F35) -> 800 | G36: =SUM(G30:G35) -> 0 | H36: =SUM(H30:H35) -> 1
A38: 총 프 리 미 엄 (비례율 100%기준) | B38: 평형별(전용) | C38: (예상)조합원평당분양가 | D38: (예상)일반평당분양가 | E38: 일반분양가대비 | F38: 현재 인근평당시세 | G38: 인근시세 대비 | H38: 비고
B39: 36㎡ (임대)
B40: 45㎡
B41: 59㎡
B42: 65㎡
B43: 84㎡ | C43: =F43*70% -> 19103000 | D43: =F43-2000000 -> 25290000 | E43: =(D43-C43)*34 -> 210358000 | F43: 27290000 | G43: =(F43-C43)*34 -> 278358000 | H43: 레미안아반파크
B44: 98㎡
A46: 수 익 (현재기준) | B46: 평형별(전용) | C46: (예상)매매프리미엄 (대지 : 공시지가x130%) (건물 : 연면적평x130만원) (공동주택 : 공동주택가격x150%) | D46: 일반분양가 대비 총 프리미엄 | E46: 일반분양가 대비 수익 | F46: 인근시세 대비 총프리미엄 | G46: 인근시세 대비 수익 | H46: 총구매평당가 | I46: PPR (Premium to price Ratio) (100%일 때 적정) (100% 이상 : 과평가 (100% 이하 : 저평가)
B47: 36㎡ (임대) | C47: - | D47: =E39 -> 0 | E47: =D47-C47 -> #VALUE! | F47: =G39 -> 0 | G47: =F47-C47 -> #VALUE!
B48: 45㎡ | C48: - | D48: =E40 -> 0 | E48: =D48-C48 -> #VALUE! | F48: =G40 -> 0 | G48: =F48-C48 -> #VALUE!
B49: 59㎡ | D49: =E41 -> 0 | E49: =D49-C49 -> 0 | F49: =G41 -> 0 | G49: =F49-C49 -> 0 | I49: =H51/F43 -> 1.1310995
B50: 65㎡ | E50: =D50-C50 -> 0 | F50: =G42 -> 0
B51: 84㎡ | C51: 400000000 | D51: =E43 -> 210358000 | E51: =D51-C51 -> -189642000 | F51: =G43 -> 278358000 | G51: =F51-C51 -> -121642000 | H51: =(C51+(C43*34))/34 -> 30867706
B52: 98㎡ | D52: =E44 -> 0 | E52: =D52-C52 -> 0 | F52: =G44 -> 0 | G52: =F52-C52 -> 0
A54: 시 세 T R E N D | B54: 기간 | C54: 총구매평당가(만원) | D54: Graph
B55: 2019년 | C55: 1700
B56: 20년01월~20년03월 | C56: 1710
B57: 20년04월~20년06월 | C57: 2200
B58: 20년07월~20년09월 | C58: 2300
B59: 20년10월~20년12월 | C59: 3322
B60: 21년01월~21년03월 | C60: =H51/10000 -> 3086.7706
B61: 21년04월~21년06월
B62: 21년07월~21년09월
B63: 21년10월~21년12월
B64: 22년01월~22년03월
B65: 2026년(완공시)
A66: 특징 | B66: ♦ 특별건축구역으로 진행합니다.
B67: ♦ 시민공원주변재정비 구역 중 사업성이 가장 부족한 구역입니다. (일반분양률 3%), 대신에 촉진3구역과 구역경계를 같이하므로 촉진3구역과 사업의 진행에는 무리 없음.
B68: ♦ 부전역복합환승센터 개발계획과 함께 미래가치가 높습니다.
B69: ♦ 사상~해운대 대심도 중간 진출입로 구간에 위치하여 교통이 편리하고 인근의 지가상승 또한 높습니다.
B70: ♦ 성지토등학교 이전과 함께 초품아 단지입니다.
B71: ♦ 도보 10분 거리로 서면상권의 이용이 편리합니다.

Sheet 가야1구역
A1: 가야1구역
A2: 사 업 개 요 | B2: 단지명 | C2: -
B3: 구역명 | C3: 가야1구역 주택재개발정비사업
B4: 위치 | C4: 부산 부산진구 가야동 410일원 | E4: 평당 공사비(건축비) | F4: 4500000
B5: 구역면적 ㎡ | C5: 76022 | D5: 조합원세대당 대지 평수 (평균분양평형) | F5: =C5*0.3025/C7 -> #DIV/0! | G5: 기준 : 25평 이상일 것.
B6: 동수 | C6: 18 | D6: 기부체납면적 ㎡ | F6: 실사용 면적 ㎡ | G6: =C5-E6 -> 76022
B7: 조합원세대수 | D7: 조합원분양률 | E7: =C7/C9 -> 0
B8: 일반분양세대수 | C8: =C9-C7 -> 2001 | D8: 일반분양률 | E8: =C8/C9 -> 1 | F8: 기준 : 50% 이상일 것. (재건축 30% 이상)
B9: 총세대수 | C9: 2001 | D9: 임대주택 24세대 포함
B10: 건페율 | C10: 0.171 | D10: 건축면적 ㎡ | E10: =G6*C10 -> 12999.762 | F10: 계산 층수 | G10: =E11/E10 -> 15.469006
B11: 용적률 | C11: 2.6452 | D11: 건축가능 연면적 ㎡ | E11: =G6*C11 -> 201093.39 | F11: 전용면적 기준 | G11: =E11*76% -> 152830.98
B12: 건축규모 | C12: 지하5층/지상21층 | D12: 세대당 평균 종전자산 평가액 | E12: - | F12: 세대구성 총연면적 대비 | G12: =G11/C37 -> #DIV/0!
B13: 시공사 | C13: 현대산업개발+대우건설 | D13: 총 종전사산 평가액 | E13: =C7*E12 -> #VALUE! | F13: 총 건축가능세대 수 | G13: =E11*0.3025/F5 -> #DIV/0!
B14: 조합 비례율 | C14: 1 | D14: 계약면적 (평) | E14: - | F14: 총 시공 평수 | G14: =E14*G13 -> #VALUE!
B16: 총 사업비 | C16: =E16+G16 -> #VALUE! | D16: 총 공사비 | E16: =G14*F4 -> #VALUE! | F16: 기타사업비 | G16: =E16*30% -> #VALUE!
B17: 총 분양수입 | C17: =(E17*C7)+(G17*C8) -> #VALUE! | D17: (예상)평균조합원분양가 | E17: - | F17: (예상) 평균일반분양가 | G17: -
B18: 비례율 (사업성 검토용) | C18: =E18/E13 -> #VALUE! | D18: 순이익 | E18: =C17-C16 -> #VALUE! | F18: 조합원 세대당 평균 순이익 | G18: =E18/C7 -> #VALUE!
A20: 추 진 현 황 | B20: 구역지정 | C20: 2008.04.09
B21: 조합설립 | C21: 2016.01.05
B22: 건축심의 | C22: 2020.03.10 조건부 ok
B23: 사업시행 | C23: 2021년 상반기
B24: 관리처분계획 | C24: 2023년 예정
B25: 이주 | C25: 2024년 예정
B26: 철거 | C26: 2025년 예정
B27: 일반분양 | C27: 2026년 예정
B28: 준공 | C28: 2029년 예정
A30: 세 대 구 성 | B30: 평형별(전용) | C30: 총연면적 | D30: 총세대수 | E30: 조합원 | F30: 일반 | G30: 보류지 | H30: 점유율
C31: =39*D31 -> 0 | H31: =D31/$D$37 -> #DIV/0!
C32: =59*D32 -> 0 | H32: =D32/$D$37 -> #DIV/0!
C33: =59*D33 -> 0 | H33: =D33/$D$37 -> #DIV/0!
B34: 84A | C34: =70*D34 -> 0 | H34: =D34/$D$37 -> #DIV/0!
C35: =74*D35 -> 0 | H35: =D35/$D$37 -> #DIV/0!
C36: =84*D36 -> 0 | H36: =D36/$D$37 -> #DIV/0!
B37: SUM | C37: =SUM(C31:C36) -> 0 | E37: =SUM(E31:E36) -> 0 | F37: =SUM(F31:F36) -> 0 | G37: =SUM(G31:G36) -> 0 | H37: =SUM(H31:H36) -> #DIV/0!
A39: 총 프 리 미 엄 (비례율 100%기준) | B39: 평형별(전용) | C39: (예상)조합원평당분양가 | D39: (예상)일반평당분양가 | E39: 일반분양가대비 | F39: 현재 인근평당시세 | G39: 인근시세 대비 | H39: 비고
E41: =(D41-C41)*25 -> 0 | G41: =(F41-C41)*25 -> 0
E42: =(D42-C42)*25 -> 0 | G42: =(F42-C42)*25 -> 0
B43: 84A | C43: =F43*70% -> 16996000 | D43: =F43-2000000 -> 22280000 | E43: =(D43-C43)*34 -> 179656000 | F43: 24280000 | G43: =(F43-C43)*34 -> 247656000 | H43: 롯데개슬골드아너
E44: =(D44-C44)*34 -> 0 | G44: =(F44-C44)*34 -> 0
E45: =(D45-C45)*39 -> 0 | G45: =(F45-C45)*39 -> 0
A47: 수 익 (현재기준) | B47: 평형별(전용) | C47: (예상)매매프리미엄 (대지 : 공시지가x130%) (건물 : 연면적평x130만원) (공동주택 : 공동주택가격x150%) | D47: 일반분양가 대비 총 프리미엄 | E47: 일반분양가 대비 수익 | F47: 인근시세 대비 총프리미엄 | G47: 인근시세 대비 수익 | H47: 비고 | I47: PPR (Premium to price Ratio) (100%일 때 적정) (100% 이상 : 과평가 (100% 이하 : 저평가)
C48: - | D48: =E40 -> 0 | E48: =D48-C48 -> #VALUE! | F48: =G40 -> 0 | G48: =F48-C48 -> #VALUE!
C49: - | D49: =E41 -> 0 | E49: =D49-C49 -> #VALUE! | F49: =G41 -> 0 | G49: =F49-C49 -> #VALUE!
C50: - | D50: =E42 -> 0 | E50: =D50-C50 -> #VALUE! | F50: =G42 -> 0 | G50: =F50-C50 -> #VALUE!
B51: 84A | C51: 340000000 | D51: =E43 -> 179656000 | E51: =D51-C51 -> -160344000 | F51: =G43 -> 247656000 | G51: =F51-C51 -> -92344000 | H51: =(C51+(C43*34))/34 -> 26996000 | I51: =H51/F43 -> 1.1118616
C52: - | D52: =E44 -> 0 | E52: =D52-C52 -> #VALUE! | F52: =G44 -> 0 | G52: =F52-C52 -> #VALUE!
C53: - | D53: =E45 -> 0 | E53: =D53-C53 -> #VALUE! | F53: =G45 -> 0 | G53: =F53-C53 -> #VALUE!
A55: 시 세 T R E N D | B55: 기간 | C55: 평균 총구매 평당가(만원) | D55: Graph
B56: 20년01월~20년03월 | C56: 1970
B57: 20년04월~20년06월 | C57: 2029
B58: 20년07월~20년09월 | C58: 2088
B59: 20년10월~20년12월 | C59: 2464
B60: 21년01월~21년03월 | C60: =H51/10000 -> 2699.6
B61: 21년04월~21년06월
B62: 21년07월~21년09월
B63: 21년10월~21년12월
B64: 22년01월~22년03월
B65: 2023년
B66: 2024년
B67: 2025년
B68: 2029년(완공시)
A69: 특징

Sheet 범천4구역
A1: 범천4구역
A2: 사 업 개 요 | B2: 단지명
B3: 구역명 | C3: 범천4주택재개발
B4: 위치 | C4: 범천동 1269-15번지 일원 | E4: 평당 공사비(건축비) | F4: 4500000
B5: 구역면적 ㎡ | C5: 91521 | D5: 조합원세대당 대지 평수 (평균분양평형) | F5: =C5*0.3025/C7 -> 32.456158 | G5: 기준 : 25평 이상일 것.
B6: 동수 | C6: 18 | D6: 기부체납면적 ㎡ | F6: 실사용 면적 ㎡ | G6: =C5-E6 -> 91521
B7: 조합원세대수 | C7: 853 | D7: 조합원분양률 | E7: =C7/C9 -> 0.32757296
B8: 일반분양세대수 | C8: =C9-C7 -> 1751 | D8: 일반분양률 | E8: =C8/C9 -> 0.67242704 | F8: 기준 : 50% 이상일 것. (재건축 30% 이상)
B9: 총세대수 | C9: 2604 | D9: 분양세대 2460 + O.T 144
B10: 건페율 | C10: 0.1501 | D10: 건축면적 ㎡ | E10: =G6*C10 -> 13737.302 | F10: 계산 층수 | G10: =E11/E10 -> 18.767488
B11: 용적률 | C11: 2.817 | D11: 건축가능 연면적 ㎡ | E11: =G6*C11 -> 257814.66 | F11: 전용면적 기준 | G11: =E11*76% -> 195939.14
B12: 건축규모 | C12: 지하7층/지상36 | D12: 세대당 평균 종전자산 평가액 | E12: - | F12: 세대구성 총연면적 대비 | G12: =G11/C37 -> 1.1135879
B13: 시공사 | C13: 대림사업단 (대림산업+호반건설+한진중공업) | D13: 총 종전사산 평가액 | E13: =C7*E12 -> #VALUE! | F13: 총 건축가능세대 수 | G13: =E11*0.3025/F5 -> 2402.901
B14: 조합 비례율 | C14: 1.1 | D14: 계약면적 (평) | E14: - | F14: 총 시공 평수 | G14: =E14*G13 -> #VALUE!
B16: 총 사업비 | C16: =E16+G16 -> #VALUE! | D16: 총 공사비 | E16: =G14*F4 -> #VALUE! | F16: 기타사업비 | G16: =E16*30% -> #VALUE!
B17: 총 분양수입 | C17: =(E17*C7)+(G17*C8) -> #VALUE! | D17: (예상)평균조합원분양가 | E17: - | F17: (예상) 평균일반분양가 | G17: -
B18: 비례율 (사업성 검토용) | C18: =E18/E13 -> #VALUE! | D18: 순이익 | E18: =C17-C16 -> #VALUE! | F18: 조합원 세대당 평균 순이익 | G18: =E18/C7 -> #VALUE!
A20: 추 진 현 황 | B20: 구역지정 | C20: 2007.04.11
B21: 조합설립 | C21: 2007.07.24
B22: 시공사선정 | C22: 2016.07.09
B23: 사업시행 | C23: 2022년 예정
B24: 관리처분계획 | C24: 2024년 예정
B25: 이주 | C25: 2025년 예정
B26: 철거 | C26: 2026년 예정
B27: 일반분양 | C27: 2027년 예정
B28: 준공 | C28: 2028년 예정
A30: 세 대 구 성 (미정) | B30: 평형별(전용) | C30: 총연면적 | D30: 총세대수 | E30: 조합원 | F30: 일반 | G30: 보류지 | H30: 점유율
B31: 39㎡ (임대) | C31: =38*D31 -> 6802 | D31: 179 | H31: =D31/$D$37 -> 0.072764228
B32: 39㎡ (임대) | C32: =38*D32 -> 3724 | D32: 98 | H32: =D32/$D$37 -> 0.039837398
B33: 59㎡(25py) | C33: =59*D33 -> 46551 | D33: 789 | H33: =D33/$D$37 -> 0.32073171
B34: 74㎡(30py) | C34: =74*D34 -> 15688 | D34: 212 | H34: =D34/$D$37 -> 0.086178862
B35: 84㎡(34py) | C35: =84*D35 -> 82908 | D35: 987 | H35: =D35/$D$37 -> 0.40121951
B36: 112㎡(42py) | C36: =104*D36 -> 20280 | D36: 195 | H36: =D36/$D$37 -> 0.079268293
B37: SUM | C37: =SUM(C31:C36) -> 175953 | D37: =SUM(D31:D36) -> 2460 | E37: =SUM(E31:E36) -> 0 | F37: =SUM(F31:F36) -> 0 | G37: =SUM(G31:G36) -> 0 | H37: =SUM(H31:H36) -> 1
A39: 총 프 리 미 엄 (비례율 100%기준) | B39: 평형별(전용) | C39: (예상)조합원평당분양가 | D39: (예상)일반평당분양가 | E39: 일반분양가대비 | F39: 현재 인근평당시세 | G39: 인근시세 대비 | H39: 비고
E41: =(D41-C41)*25 -> 0 | G41: =(F41-C41)*25 -> 0
E42: =(D42-C42)*31 -> 0 | G42: =(F42-C42)*31 -> 0
E43: =(D43-C43)*31 -> 0 | G43: =(F43-C43)*31 -> 0
B44: 84A㎡ | C44: =F44*70% -> 18557000 | D44: =F44-2000000 -> 24510000 | E44: =(D44-C44)*34 -> 202402000 | F44: 26510000 | G44: =(F44-C44)*34 -> 270402000 | H44: 서면롯데캐슬엘루체
E45: =(D45-C45)*34 -> 0 | G45: =(F45-C45)*34 -> 0
E46: =(D46-C46)*39 -> 0 | G46: =(F46-C46)*39 -> 0
E47: =(D47-C47)*45 -> 0 | G47: =(F47-C47)*45 -> 0
A49: 수 익 (현재기준) | B49: 평형별(전용) | C49: (예상)매매프리미엄 (대지 : 공시지가x130%) (건물 : 연면적평x130만원) (공동주택 : 공동주택가격x150%) | D49: 일반분양가 대비 총 프리미엄 | E49: 일반분양가 대비 수익 | F49: 인근시세 대비 총프리미엄 | G49: 인근시세 대비 수익 | H49: 총구매평당가 | I49: PPR (Premium to price Ratio) (100%일 때 적정) (100% 이상 : 과평가 (100% 이하 : 저평가)
B50: 38㎡ (임대) | C50: - | D50: =E40 -> 0 | E50: =D50-C50 -> #VALUE! | F50: =G40 -> 0 | G50: =F50-C50 -> #VALUE!
B51: 59A㎡ | C51: - | D51: =E41 -> 0 | E51: =D51-C51 -> #VALUE! | F51: =G41 -> 0 | G51: =F51-C51 -> #VALUE!
B52: 78A㎡ | D52: =E42 -> 0 | E52: =D52-C52 -> 0 | F52: =G42 -> 0 | G52: =F52-C52 -> 0
B53: 78B㎡ | C53: - | D53: =E43 -> 0 | E53: =D53-C53 -> #VALUE! | F53: =G43 -> 0 | G53: =F53-C53 -> #VALUE!
B54: 84A㎡ | C54: 290000000 | D54: =E44 -> 202402000 | E54: =D54-C54 -> -87598000 | F54: =G44 -> 270402000 | G54: =F54-C54 -> -19598000 | H54: =(C54+(C44*34))/34 -> 27086412 | I54: =H54/F44 -> 1.0217432
B55: 84B㎡ | C55: - | D55: =E45 -> 0 | E55: =D55-C55 -> #VALUE! | F55: =G45 -> 0 | G55: =F55-C55 -> #VALUE!
B56: 100B㎡ | C56: - | D56: =E46 -> 0 | E56: =D56-C56 -> #VALUE! | F56: =G46 -> 0 | G56: =F56-C56 -> #VALUE!
B57: 115㎡ | C57: - | D57: =E47 -> 0 | E57: =D57-C57 -> #VALUE! | F57: =G47 -> 0 | G57: =F57-C57 -> #VALUE!
A59: 시 세 T R E N D | B59: 기간 | C59: 총구매평당가(만원) | D59: Graph
B60: 19년07월~19년09월 | C60: 1000
B61: 19년10월~19년12월 | C61: 1100
B62: 20년01월~20년03월 | C62: 1200
B63: 20년04월~20년06월 | C63: 1335
B64: 20년07월~20년09월 | C64: 2170
B65: 20년10월~20년12월 | C65: 2738
B66: 21년01월~21년03월 | C66: =H54/10000 -> 2708.6412
B67: 21년04월~21년06월
B68: 21년07월~21년09월
B69: 21년10월~21년12월
B70: 2028년(완공시)
A72: 특징 | B72: 범천동 차량정비단 이전 (전체 면적 : 209,700m2 (6만3천평), 시민공원의 2배 면적임)
B73: - 도심기능을 재편하는 목적으로 도시기능 활성화에 기틀을 마련
B74: - 정부 예산을 투입하는 재정비 사업으로 진행하기로 함.
B75: - 항노화 생명공학연구 단지 등의 조성예정으로 인프라 시설 확충
B76: - 서면지역과 연계된 업무시설, 상업문화시설 유치
B77: - 범천 차량정비창 개발 이슈와 함께 지속적인 관심을 받을 수밖에 없는 재개발 구역임.
B79: 계획 중인 부산 철도시설 재배치 계획
B80: - 2027년까지 범천차량정비단 부산신항역 통합이전 (6,293억 원), 정부사업으로 진행함
B81: - 부산역을 고속철도 전용역으로 하고, 정거장 및 시설 변경 (1,782억 원)
B82: - 부전역을 일반철도 통합역으로 하고, 서울 코엑스처럼 복합 계발 예정
B83: - 부산진 CY 부산신항역 이전 (2,024억 원)
B84: - 경부선 철도지하화
B85: - 총 1조 2,156억원의 사업으로 추진하고 있으며 2030년까지 완료를 목표로 진행하고 있슴.
B86: - 2019.10.18 범천기지이전, 공공기관 예비타당성조사 대상 사업 최종 선정. (2020년 6월중 예타 결과 나올 예정)

Sheet 범천1-1구역
A1: 범천1-1구역
A2: 사 업 개 요 | B2: 단지명 | C2: 미정 | D2: 중흥 S틀레스
B3: 구역명 | C3: 범천1-1구역
B4: 위치 | C4: 범천동 850-1번지 일월
B5: 용도지역 | C5: 일반상업지역
B6: 대지면적 ㎡
B7: 구역면적 ㎡ | C7: 20766.4 | D7: 조합원세대당 대지지분 (평) | F7: =C7*0.3025/C9 -> 13.365609 | G7: 기준 : 25평 이상일 것.
B8: 동수 | C8: 28
B9: 조합원세대수(약) | C9: 470 | D9: 조합원분양률 | E9: =C9/C11 -> 0.31105228
B10: 일반분양세대수 | C10: =C11-C9 -> 1041 | D10: 일반분양률 | E10: =C10/C11 -> 0.68894772 | F10: 기준 : 50% 이상일 것. (재건축 30% 이상)
B11: 총세대수(약) | C11: 1511 | D11: 공공임대 188
B12: 건페율 | C12: 0.5573 | D12: 건축면적 ㎡ | E12: =C7*C12 -> 11573.115 | F12: 계산 층수 | G12: =E13/E12 -> 15.246008
B13: 용적률 | C13: 8.4966 | D13: 연면적 ㎡ | E13: =C7*C13 -> 176443.79 | F13: 전용면적 기준 | G13: =E13*76% -> 134097.28
B14: 건축규모 | C14: 지하4층 / 지상 최고 45층 | F14: 세대구성 총연면적 대비 | H14: =G13/C42 -> 1.2769832
B15: 시공사 | C15: 중흥토건 ->현대건설 | F15: 기준 : 세대구성 총연면적보다 클 것.
B16: 비례율(임의) | C16: 1.2255
B17: 비고
A20: 추 진 현 황 | B20: 최초 구역지정 | C20: 2005.03.30
B21: 최초 조합설립 | C21: 2005.06.17
B22: 사업시행인가 | C22: 2018.06.18
B23: 관리처분총회 | C23: 2019.02.21
B24: 관리처분계획 | C24: 2019년 예정
B25: 이주.철거 | C25: 2020년 예정
B26: 일반분양 | C26: 2021년 예정
B27: 준공 | C27: 2024년 예정
A30: 세 대 구 성 | B30: 평형별(전용) | C30: 총연면적 | D30: 총세대수 | E30: 일반 | F30: 조합원 | G30: 점유율 | H30: 비고
B31: 28㎡ (O/T) | C31: =28*D31 -> 4928 | D31: 176 | E31: - | F31: - | G31: =D31/$D$42 -> 0.11647915
B32: 54㎡ (O/T) | C32: =54*D32 -> 648 | D32: 12 | E32: - | F32: - | G32: =D32/$D$42 -> 0.0079417604
B33: 59A㎡ | C33: =59*D33 -> 10797 | D33: 183 | E33: =D33-F33 -> 0 | F33: 183 | G33: =D33/$D$42 -> 0.12111185 | H33: 전체
B34: 59B㎡ | C34: =59*D34 -> 10679 | D34: 181 | F34: 12 | G34: =D34/$D$42 -> 0.11978822 | H34: 10~35층
B35: 59C㎡ | C35: =59*D35 -> 8142 | D35: 138 | F35: 5 | G35: =D35/$D$42 -> 0.091330245 | H35: 30~34층
B36: 59D㎡ | C36: =59*D36 -> 5369 | D36: 91 | F36: 6 | G36: =D36/$D$42 -> 0.060225017 | H36: 30~35층
B37: 84A㎡ | C37: =84*D37 -> 15120 | D37: 180 | E37: =D37-F37 -> 0 | F37: 180 | G37: =D37/$D$42 -> 0.11912641 | H37: 전체
B38: 84B㎡ | C38: =84*D38 -> 15456 | D38: 184 | F38: 41 | G38: =D38/$D$42 -> 0.12177366 | H38: 24~44층
B39: 84C㎡ | C39: =84*D39 -> 11424 | D39: 136 | F39: 4 | G39: =D39/$D$42 -> 0.090006618 | H39: 30~33층
B40: 84D㎡ | C40: =84*D40 -> 3864 | D40: 46 | F40: 13 | G40: =D40/$D$42 -> 0.030443415 | H40: 30~42층
B41: 101㎡ | C41: =101*D41 -> 18584 | D41: 184 | F41: 22 | G41: =D41/$D$42 -> 0.12177366 | H41: 30~40층
B42: SUM | C42: =SUM(C31:C41) -> 105011 | D42: =SUM(D31:D41) -> 1511 | E42: =SUM(E33:E41) -> 0 | F42: =SUM(F33:F41) -> 466 | G42: =SUM(G31:G41) -> 1 | H42: 30~40층
A44: (현재기준) 총 프 리 미 엄 (비례율 100%기준) | B44: 평형별(전용)\ | C44: (예상)조합원평당분양가 | D44: (예상)일반평당분양가 | E44: 일반분양가대비 | F44: 현재 인근평당시세 | G44: 인근시세대비 | H44: 비고
B45: 28㎡ (O/T) | C45: =105754000/17 -> 6220823.5
B46: 54㎡ (O/T) | C46: =196035000/23 -> 8523260.9
B47: 59A㎡ | C47: =277618579/25 -> 11104743 | E47: =(D47-C47)*25 -> -277618579 | G47: =(F47-C47)*25 -> -277618579
B48: 59B㎡ | C48: =284950000/25 -> 11398000
B49: 59C㎡ | C49: =287700000/25 -> 11508000
B50: 59D㎡ | C50: =276700000/25 -> 11068000
B51: 84A㎡ | C51: =386555000/34 -> 11369265 | D51: =F51-2000000 -> 20020000 | E51: =(D51-C51)*34 -> 294125000 | F51: 22020000 | G51: =(F51-C51)*34 -> 362125000 | H51: 서면아이파크1단지
B52: 84B㎡ | C52: =401950000/34 -> 11822059
A53: 총 프 리 미 엄 (비례율 100%기준) | B53: 84C㎡ | C53: =3963000000/34 -> 1.1655882e+08
B54: 84D㎡ | C54: =383850000/34 -> 11289706
B55: 101㎡ | C55: =455650000/39 -> 11683333
A57: 수 익 (현재기준) | B57: 평형별(전용) | C57: (예상)매매프리미엄 (대지 : 공시지가x130%) (건물 : 연면적평x130만원) (공동주택 : 공동주택가격x150%) | D57: 일반분양가 대비 총 프리미엄 | E57: 일반분양가 대비 수익 | F57: 인근시세 대비 총프리미엄 | G57: 인근시세 대비 수익 | H57: 총구매평당가 | I57: PPR (Premium to price Ratio) (100%일 때 적정) (100% 이상 : 과평가 (100% 이하 : 저평가)
B58: 28㎡ (O/T) | C58: - | D58: =E45 -> 0 | E58: =D58-C58 -> #VALUE! | F58: =G45 -> 0 | G58: =F58-C58 -> #VALUE!
B59: 54㎡ (O/T) | C59: - | D59: =E46 -> 0 | E59: =D59-C59 -> #VALUE! | F59: =G46 -> 0 | G59: =F59-C59 -> #VALUE!
B60: 59A㎡ | C60: - | D60: =E47 -> -277618579 | E60: =D60-C60 -> #VALUE! | F60: =G47 -> -277618579 | G60: =F60-C60 -> #VALUE!
B61: 59B㎡ | C61: - | D61: =E48 -> 0 | E61: =D61-C61 -> #VALUE! | F61: =G48 -> 0 | G61: =F61-C61 -> #VALUE!
B62: 59C㎡ | C62: - | D62: =E49 -> 0 | E62: =D62-C62 -> #VALUE! | F62: =G49 -> 0 | G62: =F62-C62 -> #VALUE!
B63: 59D㎡ | C63: - | D63: =E50 -> 0 | E63: =D63-C63 -> #VALUE! | F63: =G50 -> 0 | G63: =F63-C63 -> #VALUE!
B64: 84A㎡ | C64: 620000000 | D64: =E51 -> 294125000 | E64: =D64-C64 -> -325875000 | F64: =G51 -> 362125000 | G64: =F64-C64 -> -257875000 | H64: =(C64+(C51*34))/34 -> 29604559 | I64: =H64/F51 -> 1.3444395
B65: 84B㎡ | C65: - | D65: =E52 -> 0 | E65: =D65-C65 -> #VALUE! | F65: =G52 -> 0 | G65: =F65-C65 -> #VALUE!
B66: 84C㎡ | C66: - | D66: =E53 -> 0 | E66: =D66-C66 -> #VALUE! | F66: =G53 -> 0 | G66: =F66-C66 -> #VALUE!
B67: 84D㎡ | C67: - | D67: =E54 -> 0 | E67: =D67-C67 -> #VALUE! | F67: =G54 -> 0 | G67: =F67-C67 -> #VALUE!
B68: 101㎡ | C68: - | D68: =E55 -> 0 | E68: =D68-C68 -> #VALUE! | F68: =G55 -> 0 | G68: =F68-C68 -> #VALUE!
A69: 시 세 T R E N D | B69: 기간 | C69: 총구매 평당가(만원) | D69: Graph
B70: 19년07월~19년09월 | C70: 1400
B71: 19년10월~19년12월 | C71: 1500
B72: 20년01월~20년03월 | C72: 1600
B73: 20년04월~20년06월 | C73: 1900
B74: 20년07월~20년09월 | C74: 2300
B75: 20년10월~20년12월 | C75: 2960
B76: 21년01월~21년03월 | C76: =H64/10000 -> 2960.4559
B77: 21년04월~21년06월
B78: 21년07월~21년09월
B79: 21년10월~21년12월
B80: 2027년(완공시)
A81: 특징

Sheet 문현1구역
A1: 문현1구역
A2: 사 업 개 요 | B2: 단지명 | C2: 가칭 IFC자이더스카이
B3: 구역명 | C3: 문현1구역 도시환경정비사업
B4: 위치 | C4: 문현2동 765번지 일원
B5: 용도지역 | C5: 일반상업지역
B6: 대지면적 ㎡ | C6: 68160
B7: 구역면적 ㎡ | C7: 43506 | D7: 조합원세대당 대지지분 (평) | G7: 기준 : 25평 이상일 것.
B8: 동수 | C8: 7
B9: 조합원세대수(약) | C9: 801 | D9: 조합원분양률 | E9: =C9/C11 -> 0.35887097
B10: 일반분양세대수 | C10: =C11-C9 -> 1431 | D10: 일반분양률 | E10: =C10/C11 -> 0.64112903 | F10: 기준 : 50% 이상일 것. (재건축 30% 이상)
B11: 총세대수(약) | C11: 2232 | D11: (임대 세대 별도)
B12: 건페율 | C12: 0.5928 | D12: 건축면적 ㎡ | E12: =C7*C12 -> 25790.357 | F12: 계산 층수 | G12: =E13/E12 -> 13.150472
B13: 용적률 | C13: 7.7956 | D13: 연면적 ㎡ | E13: =C7*C13 -> 339155.37 | F13: 전용면적 기준 | G13: =E13*76% -> 257758.08
B14: 건축규모 | C14: 지하4층 / 지상65층 | F14: 세대구성 총연면적 대비 | H14: =G13/C46 -> 1.1966802
B15: 시공사 | C15: GS건설 (예정) | F15: 기준 : 세대구성 총연면적보다 클 것.
B16: 비례율 | C16: 1.035
B17: 비고 | C17: 추진위원회 | D17: 남구 자유평화로 59번길 6 리버빌 3층
D18: T) 051-631-4608 ~ 9 F) 051-631-4610
A20: 추 진 현 황 | B20: 최초 구역지정 | C20: 08' 5/21
B21: 최초 조합설립 | C21: 2019.09.05
B22: 시공사 선정 | C22: 2020년
B23: 사업시행인가 | C23: 2021년
B24: 관리처분인가 | C24: 2023년
B25: 이주 | C25: 2024년
B26: 철거 | C26: 2025년
B27: 일반분양 | C27: 2026년
B28: 준공 | C28: 2030년
A30: 세 대 구 성 | B30: 평형별(전용) | C30: 총연면적 | D30: 총세대수 | E30: 일반 | F30: 조합원 | G30: 보류 | H30: 점유율
B31: 84A/34 | C31: =84*D31 -> 10248 | D31: 122 | E31: 78 | F31: =D31-E31 -> 44 | H31: =D31/$D$46 -> 0.054659498
B32: 84B/34 | C32: =84*D32 -> 27384 | D32: 326 | E32: 209 | F32: =D32-E32 -> 117 | H32: =D32/$D$46 -> 0.14605735
B33: 84C/34 | C33: =84*D33 -> 15792 | D33: 188 | E33: 121 | F33: =D33-E33 -> 67 | H33: =D33/$D$46 -> 0.084229391
B34: 84D/34 | C34: =84*D34 -> 15792 | D34: 188 | E34: 121 | F34: =D34-E34 -> 67 | H34: =D34/$D$46 -> 0.084229391
B35: 84E/34 | C35: =84*D35 -> 8736 | D35: 104 | E35: 67 | F35: =D35-E35 -> 37 | H35: =D35/$D$46 -> 0.046594982
B36: 84F/34 | C36: =84*D36 -> 10920 | D36: 130 | E36: 82 | F36: =D36-E36 -> 48 | H36: =D36/$D$46 -> 0.058243728
B37: 93A | C37: =93*D37 -> 16554 | D37: 178 | E37: 114 | F37: =D37-E37 -> 64 | H37: =D37/$D$46 -> 0.079749104
B38: 93B | C38: =93*D38 -> 17670 | D38: 190 | E38: 122 | F38: =D38-E38 -> 68 | H38: =D38/$D$46 -> 0.085125448
B39: 109.8A | C39: =109.8*D39 -> 39088.8 | D39: 356 | E39: 228 | F39: =D39-E39 -> 128 | H39: =D39/$D$46 -> 0.15949821
B40: 109.8B | C40: =109.8*D40 -> 20752.2 | D40: 189 | E40: 121 | F40: =D40-E40 -> 68 | H40: =D40/$D$46 -> 0.084677419
B41: 109.8C | C41: =109.8*D41 -> 17128.8 | D41: 156 | E41: 100 | F41: =D41-E41 -> 56 | H41: =D41/$D$46 -> 0.069892473
B42: 132.2A | C42: =132.2*D42 -> 3966 | D42: 30 | E42: 19 | F42: =D42-E42 -> 11 | H42: =D42/$D$46 -> 0.01344086
B43: 132.2B | C43: =132.2*D43 -> 5288 | D43: 40 | E43: 26 | F43: =D43-E43 -> 14 | H43: =D43/$D$46 -> 0.017921147
B44: 158.7 | C44: =158.7*D44 -> 2380.5 | D44: 15 | E44: 10 | F44: =D44-E44 -> 5 | H44: =D44/$D$46 -> 0.0067204301
B45: 184.7 | C45: =184.7*D45 -> 3694 | D45: 20 | E45: 13 | F45: =D45-E45 -> 7 | H45: =D45/$D$46 -> 0.0089605735
B46: SUM | C46: =SUM(C31:C45) -> 215394.3 | D46: =SUM(D31:D45) -> 2232 | E46: =SUM(E31:E45) -> 1431 | F46: =SUM(F31:F45) -> 801 | G46: =SUM(G31:G45) -> 0 | H46: =SUM(H31:H45) -> 1
A48: (현재 예상) 총 프 리 미 엄 (비례율 100%기준) | B48: 평형별 | C48: (예상)조합원평당분양가 | D48: (예상)일반평당분양가 | E48: 일반분양가대비 | F48: 현재 인근평당시세 | G48: 인근시세대비 | H48: 비고
B49: 84A/34 | C49: =F49*70% -> 15414000 | D49: =F49-2000000 -> 20020000 | E49: =(D49-C49)*34 -> 1.56604e+08 | F49: 22020000 | G49: =(F49-C49)*34 -> 2.24604e+08 | H49: 서면아이파크1단지
B50: 84B/34
B51: 84C/34
B52: 84D/34
B53: 84E/34
B54: 84F/34
B55: 93A
B56: 93B
B57: 109.8A
B58: 109.8B
A60: 수 익 (현재기준) | B60: 평형별(전용) | C60: (예상)매매프리미엄 (대지 : 공시지가x130%) (건물 : 연면적평x130만원) (공동주택 : 공동주택가격x150%) | D60: 일반분양가 대비 총 프리미엄 | E60: 일반분양가 대비 수익 | F60: 인근시세 대비 총프리미엄 | G60: 인근시세 대비 수익 | H60: 총구매평당가 | I60: PPR (Premium to price Ratio) (100%일 때 적정) (100% 이상 : 과평가 (100% 이하 : 저평가)
B61: 84A/34 | C61: 520000000 | D61: =E49 -> 1.56604e+08 | E61: =D61-C61 -> -3.63396e+08 | F61: =G49 -> 2.24604e+08 | G61: =F61-C61 -> -2.95396e+08 | H61: =(C61+(C49*34))/34 -> 30708118 | I61: =H61/F49 -> 1.3945558
B62: 84B/34 | E62: =D62-C62 -> 0 | F62: =G50 -> 0 | G62: =F62-C62 -> 0
B63: 84C/34 | E63: =D63-C63 -> 0 | F63: =G51 -> 0 | G63: =F63-C63 -> 0
B64: 84D/34 | E64: =D64-C64 -> 0 | F64: =G52 -> 0 | G64: =F64-C64 -> 0
B65: 84E/34 | E65: =D65-C65 -> 0 | F65: =G53 -> 0 | G65: =F65-C65 -> 0
B66: 84F/34 | E66: =D66-C66 -> 0 | F66: =G54 -> 0 | G66: =F66-C66 -> 0
B67: 93A | E67: =D67-C67 -> 0 | F67: =G55 -> 0 | G67: =F67-C67 -> 0
B68: 93B | E68: =D68-C68 -> 0 | F68: =G56 -> 0 | G68: =F68-C68 -> 0
B69: 109.8A | E69: =D69-C69 -> 0 | F69: =G57 -> 0 | G69: =F69-C69 -> 0
B70: 109.8B | E70: =D70-C70 -> 0 | F70: =G58 -> 0 | G70: =F70-C70 -> 0
B71: 109.8C | E71: =D71-C71 -> 0 | F71: =#REF! -> #REF! | G71: =F71-C71 -> #REF!
A73: 시 세 T R E N D | B73: 기간 | C73: 총구매 평당가(만원) | D73: Graph
B74: 2019년 | C74: 1600
B75: 20년01월~20년03월 | C75: 1650
B76: 20년04월~20년06월 | C76: 1900
B77: 20년07월~20년09월 | C77: 2000
B78: 20년10월~20년12월 | C78: 3159
B79: 21년01월~21년03월 | C79: =H61/10000 -> 3070.8118
B80: 21년04월~21년06월
B81: 21년07월~21년09월
B82: 21년10월~21년12월
B83: 2030년(준공시)
A85: 특징
B86: 소개 동영상
B87: https://vimeo.com/441201522/0c64dff02f

Sheet 문현3구역
A1: 문현3구역
A2: 사 업 개 요 | B2: 단지명 | C2: 힐스테이트위브
B3: 구역명 | C3: 문현3주택재개발
B4: 위치 | C4: 부산시 남구 문현동 557번지 일원 | E4: 평당 공사비(건축비) | F4: 4500000
B5: 구역면적 ㎡ | C5: 138570 | D5: 조합원세대당 대지 평수 (평균분양평형) | F5: =C5*0.3025/C7 -> 43.618548 | G5: 기준 : 25평 이상일 것.
B6: 동수 | C6: 33 | D6: 기부체납면적 ㎡ | F6: 실사용 면적 ㎡ | G6: =C5-E6 -> 138570
B7: 조합원세대수 | C7: 961 | D7: 조합원분양률 | E7: =C7/C9 -> 0.3466811
B8: 일반분양세대수 | C8: =C9-C7 -> 1811 | D8: 일반분양률 | E8: =C8/C9 -> 0.6533189 | F8: 기준 : 50% 이상일 것. (재건축 30% 이상)
B9: 총세대수 | C9: 2772
B10: 건페율 | C10: 0.2059 | D10: 건축면적 ㎡ | E10: =G6*C10 -> 28531.563 | F10: 계산 층수 | G10: =E11/E10 -> 12.614376
B11: 용적률 | C11: 2.5973 | D11: 건축가능 연면적 ㎡ | E11: =G6*C11 -> 359907.86 | F11: 전용면적 기준 | G11: =E11*76% -> 273529.97
B12: 건축규모 | C12: 지하5층, 지상27층 | D12: 세대당 평균 종전자산 평가액 | E12: - | F12: 세대구성 총연면적 대비 | G12: =G11/C39 -> 1.4732526
B13: 시공사 | C13: 현대엔지니어링+두산건설 | D13: 총 종전사산 평가액 | E13: =C7*E12 -> #VALUE! | F13: 총 건축가능세대 수 | G13: =E11*0.3025/F5 -> 2496.0053
B14: 조합 비례율 | C14: 미정 | D14: 계약면적 (평) | E14: - | F14: 총 시공 평수 | G14: =E14*G13 -> #VALUE!
B16: 총 사업비 | C16: =E16+G16 -> #VALUE! | D16: 총 공사비 | E16: =G14*F4 -> #VALUE! | F16: 기타사업비 | G16: =E16*30% -> #VALUE!
B17: 총 분양수입 | C17: =(E17*C7)+(G17*C8) -> #VALUE! | D17: (예상)평균조합원분양가 | E17: - | F17: (예상) 평균일반분양가 | G17: -
B18: 비례율 (사업성 검토용) | C18: =E18/E13 -> #VALUE! | D18: 순이익 | E18: =C17-C16 -> #VALUE! | F18: 조합원 세대당 평균 순이익 | G18: =E18/C7 -> #VALUE!
A20: 추 진 현 황 | B20: 구역지정 | C20: 2006.01.11
B21: 조합설립 | C21: 2015.12.23
B22: 사업시행 | C22: 2019년 하반기
B23: 관리처분계획 | C23: 2021년 하반기
B24: 이주 | C24: 2022년 예정
B25: 철거 | C25: 2023년 예정
B26: 일반분양 | C26: 2024년 예정
B27: 준공 | C27: 2028년 예정
A29: 세 대 구 성 | B29: 평형별(전용) | C29: 총연면적 | D29: 총세대수 | E29: 조합원 | F29: 일반 | G29: 보류지 | H29: 점유율
B30: 38㎡ (임대) | C30: =38*D30 -> 5852 | D30: 154 | H30: =D30/$D$39 -> 0.055555556
B31: 44A㎡ | C31: =44*D31 -> 14740 | D31: 335 | H31: =D31/$D$39 -> 0.12085137
B32: 44B㎡ | C32: =44*D32 -> 0 | H32: =D32/$D$39 -> 0
B33: 59A㎡ | C33: =59*D33 -> 34456 | D33: 584 | H33: =D33/$D$39 -> 0.21067821
B34: 59B㎡ | C34: =59*D34 -> 0 | H34: =D34/$D$39 -> 0
B35: 74A㎡ | C35: =74*D35 -> 89540 | D35: 1210 | H35: =D35/$D$39 -> 0.43650794
B36: 74B㎡ | C36: =74*D36 -> 0 | H36: =D36/$D$39 -> 0
B37: 84A㎡ | C37: =84*D37 -> 41076 | D37: 489 | H37: =D37/$D$39 -> 0.17640693
B38: 84B㎡ | C38: =84*D38 -> 0 | H38: =D38/$D$39 -> 0
B39: SUM | C39: =SUM(C30:C38) -> 185664 | D39: =SUM(D30:D38) -> 2772 | E39: =SUM(E30:E38) -> 0 | F39: =SUM(F30:F38) -> 0 | G39: =SUM(G30:G38) -> 0 | H39: =SUM(H30:H38) -> 1
A41: 총 프 리 미 엄 (비례율 100%기준) | B41: 평형별(전용) | C41: (예상)조합원평당분양가 | D41: (예상)일반평당분양가 | E41: 일반분양가대비 | F41: 현재 인근평당시세 | G41: 인근시세 대비 | H41: 비고
B42: 38㎡ (임대)
B43: 44A㎡ | E43: =(D43-C43)*25 -> 0 | G43: =(F43-C43)*25 -> 0
B44: 44B㎡ | E44: =(D44-C44)*25 -> 0 | G44: =(F44-C44)*25 -> 0
B45: 59A㎡ | E45: =(D45-C45)*34 -> 0 | G45: =(F45-C45)*34 -> 0
B46: 59B㎡ | E46: =(D46-C46)*34 -> 0 | G46: =(F46-C46)*34 -> 0
B47: 74A㎡ | E47: =(D47-C47)*39 -> 0 | G47: =(F47-C47)*39 -> 0
B48: 74B㎡ | E48: =(D48-C48)*39 -> 0 | G48: =(F48-C48)*39 -> 0
B49: 84A㎡ | C49: =F49*70% -> 15414000 | D49: =F49-2000000 -> 20020000 | E49: =(D49-C49)*39 -> 1.79634e+08 | F49: 22020000 | G49: =(F49-C49)*39 -> 2.57634e+08 | H49: 서면아이파크1단지
B50: 84B㎡ | E50: =(D50-C50)*39 -> 0 | G50: =(F50-C50)*39 -> 0
A52: 수 익 (현재기준) | B52: 평형별(전용) | C52: (예상)매매프리미엄 (대지 : 공시지가x130%) (건물 : 연면적평x130만원) (공동주택 : 공동주택가격x150%) | D52: 일반분양가 대비 총 프리미엄 | E52: 일반분양가 대비 수익 | F52: 인근시세 대비 총프리미엄 | G52: 인근시세 대비 수익 | H52: 비고 | I52: PPR (Premium to price Ratio) (100%일 때 적정) (100% 이상 : 과평가 (100% 이하 : 저평가)
B53: 38㎡ (임대) | D53: =E42 -> 0 | E53: =D53-C53 -> 0 | F53: =G42 -> 0 | G53: =F53-C53 -> 0
B54: 44A㎡ | D54: =E43 -> 0 | E54: =D54-C54 -> 0 | F54: =G43 -> 0 | G54: =F54-C54 -> 0
B55: 44B㎡ | D55: =E44 -> 0 | E55: =D55-C55 -> 0 | F55: =G44 -> 0 | G55: =F55-C55 -> 0
B56: 59A㎡ | D56: =E45 -> 0 | E56: =D56-C56 -> 0 | F56: =G45 -> 0 | G56: =F56-C56 -> 0
B57: 59B㎡ | D57: =E46 -> 0 | E57: =D57-C57 -> 0 | F57: =G46 -> 0 | G57: =F57-C57 -> 0
B58: 74A㎡ | D58: =E47 -> 0 | E58: =D58-C58 -> 0 | F58: =G47 -> 0 | G58: =F58-C58 -> 0
B59: 74B㎡ | D59: =E48 -> 0 | E59: =D59-C59 -> 0 | F59: =G48 -> 0 | G59: =F59-C59 -> 0
B60: 84A㎡ | C60: 270000000 | D60: =E49 -> 1.79634e+08 | E60: =D60-C60 -> -90366000 | F60: =G49 -> 2.57634e+08 | G60: =F60-C60 -> -12366000 | H60: =(C60+(C49*34))/34 -> 23355176 | I60: =H60/F49 -> 1.0606347
B61: 84B㎡ | D61: =E50 -> 0 | E61: =D61-C61 -> 0 | F61: =G50 -> 0 | G61: =F61-C61 -> 0
A63: 시 세 T R E N D | B63: 기간 | C63: 총구매 평당가(만원) | D63: Graph
B64: 2019년 | C64: 1100
B65: 20년01월~20년03월 | C65: 1300
B66: 20년04월~20년06월 | C66: 1700
B67: 20년07월~20년09월 | C67: 2058
B68: 20년10월~20년12월 | C68: 2512
B69: 21년01월~21년03월 | C69: =H60/10000 -> 2335.5176
B70: 21년04월~21년06월
B71: 21년07월~21년09월
B72: 21년10월~21년12월
B73: 2022년
B74: 2026년(완공시)
A76: 특징 | B76: ♦ 부산지하철 2호선 부산국제금융센터역과 문현역 2개를 곁에 둔 더블 역세권
B77: ♦ 부산국제금융센터역과 연결되는 신규도로 개설로 도보 5분 거리로 지하철 이용 가능
B78: ♦ 성동초등학교, 문현초등학교를 끼고 있는 더블 초품아아파트.
B79: ♦ 행정적 위치는 남구이지만 지리적 위치는 진구에 가까이 있어서 서면 상권이용이 편리하고 부산진구, 부산역 방면으로 접근이 용이합니다.

Sheet 좌천범일통합2지구
A1: 좌천범일통합2지구
A2: 사 업 개 요 | B2: 단지명
B3: 구역명 | C3: 좌천범일통합2 도시환경정비구역
B4: 위치 | C4: 동구 범일동 68-119번지 일원
B5: 구역면적 ㎡ | C5: 46610.5 | D5: 조합원세대당 대지 평수 | F5: =C5*0.3025/C7 -> #DIV/0! | G5: 기준 : 25평 이상일 것.
B6: 동수 | C6: 4
B7: 조합원세대수 | D7: 조합원분양률 | E7: =C7/C9 -> 0
B8: 일반분양세대수 | D8: 일반분양률 | E8: =C8/C9 -> 0 | F8: 기준 : 50% 이상일 것. (재건축 30% 이상)
B9: 총세대수 | C9: 1750
B10: 건페율 | C10: % | D10: 건축면적 ㎡ | E10: =C5*C10 -> #VALUE! | F10: 계산 층수 | G10: =E11/E10 -> #VALUE!
B11: 용적률 | C11: % | D11: 연면적 ㎡ | E11: =C5*C11 -> #VALUE! | F11: 전용면적 기준 | G11: =E11*76% -> #VALUE!
B12: 건축규모 | C12: 지하4층/지상60층 | F12: 세대구성 총연면적 대비 | H12: =G11/C35 -> #VALUE!
B13: 시공사 | F13: 기준 : 세대구성 총연면적보다 클 것.
B14: 비례율 | C14: %
A17: 추 진 현 황 | B17: 구역지정 | C17: 1990.05.08
B18: 조합설립 | C18: 2018.04.17
B19: 사업시행 | C19: 2022년 예정
B20: 관리처분계획 | C20: 2024년 예정
B21: 이주 | C21: 2025년 예정
B22: 철거 | C22: 2026년 예정
B23: 일반분양 | C23: 2027년 예정
B24: 준공 | C24: 2030년 예정
A26: 세 대 구 성 | B26: 평형별(전용) | C26: 총연면적 | D26: 총세대수 | E26: 일반 | F26: 조합원 | G26: 점유율 | H26: 비고
B27: 59㎡ | C27: =59*D27 -> 0 | G27: =D27/$D$35 -> #DIV/0!
B28: 75A㎡ | C28: =75*D28 -> 0 | G28: =D28/$D$35 -> #DIV/0!
B29: 75B㎡ | C29: =75*D29 -> 0 | G29: =D29/$D$35 -> #DIV/0!
B30: 75C㎡ | C30: =75*D30 -> 0 | G30: =D30/$D$35 -> #DIV/0!
B31: 84A㎡ | C31: =84*D31 -> 0 | G31: =D31/$D$35 -> #DIV/0!
B32: 84B㎡ | C32: =84*D32 -> 0 | G32: =D32/$D$35 -> #DIV/0!
B35: SUM | C35: =SUM(C27:C34) -> 0 | D35: =SUM(D27:D34) -> 0 | E35: =SUM(E27:E34) -> 0 | F35: =SUM(F27:F34) -> 0 | G35: =SUM(G27:G34) -> #DIV/0!
A37: 총 프 리 미 엄 (비례율 100%기준) | B37: 평형별(전용)\ | C37: (예상)조합원평당분양가 | D37: (예상)일반평당분양가 | E37: 일반분양가대비 | F37: 현재 인근평당시세 | G37: 인근시세대비 | H37: 비고
B38: 59㎡ | E38: =(D38-C38)*25 -> 0 | G38: =(F38-C38)*25 -> 0
B39: 75A㎡ | E39: =(D39-C39)*31 -> 0 | G39: =(F39-C39)*31 -> 0
B40: 75B㎡ | E40: =(D40-C40)*31 -> 0 | G40: =(F40-C40)*31 -> 0
B41: 75C㎡ | E41: =(D41-C41)*31 -> 0 | G41: =(F41-C41)*31 -> 0
B42: 84A㎡ | C42: =F42*70% -> 15008000 | D42: =F42-2000000 -> 19440000 | E42: =(D42-C42)*34 -> 1.50688e+08 | F42: 21440000 | G42: =(F42-C42)*34 -> 2.18688e+08 | H42: 하버시티
B43: 84B㎡ | E43: =(D43-C43)*34 -> 0 | G43: =(F43-C43)*34 -> 0
A47: 수 익 (현재기준) | B47: 평형별(전용) | C47: (예상)매매프리미엄 (대지 : 공시지가x130%) (건물 : 연면적평x130만원) (공동주택 : 공동주택가격x150%) | D47: 일반분양가 대비 총 프리미엄 | E47: 일반분양가 대비 수익 | F47: 인근시세 대비 총프리미엄 | G47: 인근시세 대비 수익 | H47: 총구매평당가 | I47: PPR (Premium to price Ratio) (100%일 때 적정) (100% 이상 : 과평가 (100% 이하 : 저평가)
B48: 59㎡ | C48: - | D48: =E38 -> 0 | E48: =D48-C48 -> #VALUE! | F48: =G38 -> 0 | G48: =F48-C48 -> #VALUE!
B49: 75A㎡ | C49: - | D49: =E39 -> 0 | E49: =D49-C49 -> #VALUE! | F49: =G39 -> 0 | G49: =F49-C49 -> #VALUE!
B50: 75B㎡ | C50: - | D50: =E40 -> 0 | E50: =D50-C50 -> #VALUE! | F50: =G40 -> 0 | G50: =F50-C50 -> #VALUE!
B51: 75C㎡ | C51: - | D51: =E41 -> 0 | E51: =D51-C51 -> #VALUE! | F51: =G41 -> 0 | G51: =F51-C51 -> #VALUE!
B52: 84A㎡ | C52: 360000000 | D52: =E42 -> 1.50688e+08 | E52: =D52-C52 -> -2.09312e+08 | F52: =G42 -> 2.18688e+08 | G52: =F52-C52 -> -1.41312e+08 | H52: =(C52+(C42*34))/34 -> 25596235 | I52: =H52/F42 -> 1.1938543
B53: 84B㎡ | C53: - | D53: =E43 -> 0 | E53: =D53-C53 -> #VALUE! | F53: =G43 -> 0 | G53: =F53-C53 -> #VALUE!
A56: 시 세 T R E N D | B56: 기간 | C56: 평균 총구매 평당가(만원) | D56: Graph
B57: 2019년 | C57: 1300
B58: 20년04월~20년06월 | C58: 1600
B59: 20년07월~20년09월 | C59: 1800
B60: 20년10월~20년12월 | C60: 2383
B61: 21년01월~21년03월 | C61: =H52/10000 -> 2559.6235
B62: 21년04월~21년06월
B63: 21년07월~21년09월
B64: 21년10월~21년12월
B65: 2022년
B66: 2023년
B67: 2030년 준공예정
A68: 특징

Sheet 좌천범일통합3지구
A1: 좌천범일통합3지구
A2: 사 업 개 요 | B2: 단지명 | C2: 위브
B3: 구역명 | C3: 좌천범일통합3 도시환경정비구역
B4: 위치 | C4: 동구 범일5동 252-1562번지 일원
B5: 구역면적 ㎡ | C5: 44432 | D5: 조합원세대당 대지 평수 | F5: =C5*0.3025/C7 -> 16.927809 | G5: 기준 : 25평 이상일 것.
B6: 동수 | C6: 4
B7: 조합원세대수 | C7: 794 | D7: 조합원분양률 | E7: =C7/C9 -> 0.39074803
B8: 일반분양세대수 | C8: =C9-C7 -> 1238 | D8: 일반분양률 | E8: =C8/C9 -> 0.60925197 | F8: 기준 : 50% 이상일 것. (재건축 30% 이상)
B9: 총세대수 | C9: 2032
B10: 건페율 | C10: 0.2992 | D10: 건축면적 ㎡ | E10: =C5*C10 -> 13294.054 | F10: 계산 층수 | G10: =E11/E10 -> 30.90742
B11: 용적률 | C11: 9.2475 | D11: 연면적 ㎡ | E11: =C5*C11 -> 410884.92 | F11: 전용면적 기준 | G11: =E11*76% -> 312272.54
B12: 건축규모 | C12: 지하4층/지상60층 | F12: 세대구성 총연면적 대비 | H12: =G11/C35 -> 2.0512533
B13: 시공사 | C13: 두산건설 | F13: 기준 : 세대구성 총연면적보다 클 것.
B14: 비례율 | C14: 1.3
A17: 추 진 현 황 | B17: 구역지정 | C17: 2017.06.07
B18: 조합설립 | C18: 2018.11.02
B19: 사업시행 | C19: 2017.07.12
B20: 관리처분계획 | C20: 2018.02.14
B21: 이주 | C21: 2018년 12월
B22: 철거 | C22: 2019년 예정
B23: 일반분양 | C23: 2020년 예정
B24: 준공 | C24: 2023년 예정
A26: 세 대 구 성 | B26: 평형별(전용) | C26: 총연면적 | D26: 총세대수 | E26: 일반 | F26: 조합원 | G26: 점유율 | H26: 비고
B27: 59㎡ | C27: =59*D27 -> 23010 | D27: =E27+F27 -> 390 | E27: 268 | F27: 122 | G27: =D27/$D$35 -> 0.19192913
B28: 75A㎡ | C28: =75*D28 -> 36600 | D28: =E28+F28 -> 488 | E28: 365 | F28: 123 | G28: =D28/$D$35 -> 0.24015748
B29: 75B㎡ | C29: =75*D29 -> 14100 | D29: =E29+F29 -> 188 | E29: 0 | F29: 188 | G29: =D29/$D$35 -> 0.092519685
B30: 75C㎡ | C30: =75*D30 -> 21825 | D30: =E30+F30 -> 291 | E30: 174 | F30: 117 | G30: =D30/$D$35 -> 0.14320866
B31: 84A㎡ | C31: =84*D31 -> 32676 | D31: =E31+F31 -> 389 | E31: 263 | F31: 126 | G31: =D31/$D$35 -> 0.19143701
B32: 84B㎡ | C32: =84*D32 -> 24024 | D32: =E32+F32 -> 286 | E32: 168 | F32: 118 | G32: =D32/$D$35 -> 0.14074803
B35: SUM | C35: =SUM(C27:C34) -> 152235 | D35: =SUM(D27:D34) -> 2032 | E35: =SUM(E27:E34) -> 1238 | F35: =SUM(F27:F34) -> 794 | G35: =SUM(G27:G34) -> 1
A37: 총 프 리 미 엄 (비례율 100%기준) | B37: 평형별(전용)\ | C37: (예상)조합원평당분양가 | D37: (예상)일반평당분양가 | E37: 일반분양가대비 | F37: 현재 인근평당시세 | G37: 인근시세대비 | H37: 비고
B38: 59㎡ | C38: =251800000/25 -> 10072000 | D38: 11100000 | E38: =(D38-C38)*25 -> 25700000 | F38: 14500000 | G38: =(F38-C38)*25 -> 110700000
B39: 75A㎡ | C39: =317716000/31 -> 10248903 | D39: 11100000 | E39: =(D39-C39)*31 -> 26384000 | F39: 14500000 | G39: =(F39-C39)*31 -> 1.31784e+08
B40: 75B㎡ | C40: =323673000/31 -> 10441065 | D40: 11100000 | E40: =(D40-C40)*31 -> 20427000 | F40: 14500000 | G40: =(F40-C40)*31 -> 1.25827e+08
B41: 75C㎡ | C41: =312156000/31 -> 10069548 | D41: 11100000 | E41: =(D41-C41)*31 -> 31944000 | F41: 14500000 | G41: =(F41-C41)*31 -> 137344000
B42: 84A㎡ | C42: =340817000/34 -> 10024029 | D42: 11100000 | E42: =(D42-C42)*34 -> 36583000 | F42: 14500000 | G42: =(F42-C42)*34 -> 152183000 | J42: 분양권 총 프리미엄 (31평기준)
B43: 84B㎡ | C43: =344097000/34 -> 10120500 | D43: 11100000 | E43: =(D43-C43)*34 -> 33303000 | F43: 14500000 | G43: =(F43-C43)*34 -> 148903000 | J43: =(F42-D42)*31 -> 105400000
A47: 수 익 (현재기준) | B47: 평형별(전용) | C47: (예상)매매프리미엄 (대지 : 공시지가x150%) (건물 : 연면적평x150만원) | D47: 일반분양가 대비 총 프리미엄 | E47: 일반분양가 대비 수익 | F47: 인근시세 대비 총프리미엄 | G47: 인근시세 대비 수익 | H47: 비고
B48: 59㎡ | C48: - | D48: =E38 -> 25700000 | E48: =D48-C48 -> #VALUE! | F48: =G38 -> 110700000 | G48: =F48-C48 -> #VALUE!
B49: 75A㎡ | C49: - | D49: =E39 -> 26384000 | E49: =D49-C49 -> #VALUE! | F49: =G39 -> 1.31784e+08 | G49: =F49-C49 -> #VALUE!
B50: 75B㎡ | C50: 90000000 | D50: =E40 -> 20427000 | E50: =D50-C50 -> -69573000 | F50: =G40 -> 1.25827e+08 | G50: =F50-C50 -> 35827000
B51: 75C㎡ | C51: - | D51: =E41 -> 31944000 | E51: =D51-C51 -> #VALUE! | F51: =G41 -> 137344000 | G51: =F51-C51 -> #VALUE!
B52: 84A㎡ | C52: 120000000 | D52: =E42 -> 36583000 | E52: =D52-C52 -> -83417000 | F52: =G42 -> 152183000 | G52: =F52-C52 -> 32183000
B53: 84B㎡ | C53: - | D53: =E43 -> 33303000 | E53: =D53-C53 -> #VALUE! | F53: =G43 -> 148903000 | G53: =F53-C53 -> #VALUE!

Sheet 초량2구역
A1: 초량2구역
A2: 사 업 개 요 | B2: 단지명 | C2: -
B3: 구역명 | C3: 초량2주택재개발
B4: 위치 | C4: 동구 초량동 754-137번지 일원 | E4: 평당 공사비(건축비) | F4: 4500000
B5: 구역면적 ㎡ | C5: 87304.8 | D5: 조합원세대당 대지 평수 (평균분양평형) | F5: =C5*0.3025/C7 -> 33.219751 | G5: 기준 : 25평 이상일 것.
B6: 동수 | C6: 27 | D6: 기부체납면적 ㎡ | F6: 실사용 면적 ㎡ | G6: =C5-E6 -> 87304.8
B7: 조합원세대수 | C7: 795 | D7: 조합원분양률 | E7: =C7/C9 -> 0.43159609
B8: 일반분양세대수 | C8: =C9-C7 -> 1047 | D8: 일반분양률 | E8: =C8/C9 -> 0.56840391 | F8: 기준 : 50% 이상일 것. (재건축 30% 이상)
B9: 총세대수 | C9: 1842 | D9: 임대주택 20세대 포함
B10: 건페율 | C10: 0.2738 | D10: 건축면적 ㎡ | E10: =G6*C10 -> 23904.054 | F10: 계산 층수 | G10: =E11/E10 -> 8.6570489
B11: 용적률 | C11: 2.3703 | D11: 건축가능 연면적 ㎡ | E11: =G6*C11 -> 206938.57 | F11: 전용면적 기준 | G11: =E11*76% -> 157273.31
B12: 건축규모 | C12: 지하5층/지상21층 | D12: 세대당 평균 종전자산 평가액 | E12: - | F12: 세대구성 총연면적 대비 | G12: =G11/C38 -> 86.319051
B13: 시공사 | C13: 호반견설 | D13: 총 종전사산 평가액 | E13: =C7*E12 -> #VALUE! | F13: 총 건축가능세대 수 | G13: =E11*0.3025/F5 -> 1884.3885
B14: 조합 비례율 | C14: 1 | D14: 계약면적 (평) | E14: - | F14: 총 시공 평수 | G14: =E14*G13 -> #VALUE!
B16: 총 사업비 | C16: =E16+G16 -> #VALUE! | D16: 총 공사비 | E16: =G14*F4 -> #VALUE! | F16: 기타사업비 | G16: =E16*30% -> #VALUE!
B17: 총 분양수입 | C17: =(E17*C7)+(G17*C8) -> #VALUE! | D17: (예상)평균조합원분양가 | E17: - | F17: (예상) 평균일반분양가 | G17: -
B18: 비례율 (사업성 검토용) | C18: =E18/E13 -> #VALUE! | D18: 순이익 | E18: =C17-C16 -> #VALUE! | F18: 조합원 세대당 평균 순이익 | G18: =E18/C7 -> #VALUE!
A20: 추 진 현 황 | B20: 구역지정 | C20: 2008.04.09
B21: 조합설립 | C21: 2016.11.16
B22: 특별건축구역 | C22: 2020.04.08
B23: 사업시행 | C23: 2021년 예정
B24: 관리처분계획 | C24: 2022년 예정
B25: 이주 | C25: 2023년 예정
B26: 철거 | C26: 2024년 예정
B27: 일반분양 | C27: 2025년 예정
B28: 준공 | C28: 2029년 예정
A30: 세 대 구 성 | B30: 평형별(전용) | C30: 총연면적 | D30: 총세대수 | E30: 조합원 | F30: 일반 | G30: 보류지 | H30: 점유율
B31: 39 | C31: 126 | H31: =D31/$D$38 -> #DIV/0!
B32: 68T | C32: 10 | H32: =D32/$D$38 -> #DIV/0!
B33: 59 | C33: 841 | H33: =D33/$D$38 -> #DIV/0!
B34: 68A | C34: 161 | H34: =D34/$D$38 -> #DIV/0!
B35: 74 | C35: 582 | H35: =D35/$D$38 -> #DIV/0!
B36: 84A | C36: 81 | H36: =D36/$D$38 -> #DIV/0!
B37: 84B | C37: 21 | H37: =D37/$D$38 -> #DIV/0!
B38: SUM | C38: =SUM(C31:C37) -> 1822 | D38: =SUM(D31:D36) -> 0 | E38: =SUM(E31:E36) -> 0 | F38: =SUM(F31:F36) -> 0 | G38: =SUM(G31:G36) -> 0 | H38: =SUM(H31:H36) -> #DIV/0!
A40: 총 프 리 미 엄 (비례율 100%기준) | B40: 평형별(전용) | C40: (예상)조합원평당분양가 | D40: (예상)일반평당분양가 | E40: 일반분양가대비 | F40: 현재 인근평당시세 | G40: 인근시세 대비 | H40: 비고
B41: 39
B42: 68T | E42: =(D42-C42)*25 -> 0 | G42: =(F42-C42)*25 -> 0
B43: 59 | E43: =(D43-C43)*25 -> 0 | G43: =(F43-C43)*25 -> 0
B44: 68A | E44: =(D44-C44)*34 -> 0 | G44: =(F44-C44)*34 -> 0
B45: 74
B46: 84A | C46: =F46*70% -> 14819000 | D46: =F46-2000000 -> 19170000 | E46: =(D46-C46)*34 -> 1.47934e+08 | F46: 21170000 | G46: =(F46-C46)*34 -> 2.15934e+08 | H46: 이편한세상부산항
B47: 84B | E47: =(D47-C47)*39 -> 0 | G47: =(F47-C47)*39 -> 0
A49: 수 익 (현재기준) | B49: 평형별(전용) | C49: (예상)매매프리미엄 (대지 : 공시지가x130%) (건물 : 연면적평x130만원) (공동주택 : 공동주택가격x150%) | D49: 일반분양가 대비 총 프리미엄 | E49: 일반분양가 대비 수익 | F49: 인근시세 대비 총프리미엄 | G49: 인근시세 대비 수익 | H49: 총구매평당가 | I49: PPR (Premium to price Ratio) (100%일 때 적정) (100% 이상 : 과평가 (100% 이하 : 저평가)
B50: 39 | C50: - | D50: =E41 -> 0 | E50: =D50-C50 -> #VALUE! | F50: =G41 -> 0 | G50: =F50-C50 -> #VALUE!
B51: 68T | C51: - | D51: =E42 -> 0 | E51: =D51-C51 -> #VALUE! | F51: =G42 -> 0 | G51: =F51-C51 -> #VALUE!
B52: 59 | D52: =E43 -> 0 | E52: =D52-C52 -> 0 | F52: =G43 -> 0 | G52: =F52-C52 -> 0
B53: 68A | C53: - | D53: =E44 -> 0 | E53: =D53-C53 -> #VALUE! | F53: =G44 -> 0 | G53: =F53-C53 -> #VALUE!
B54: 74
B55: 84A | C55: 190000000 | D55: =E46 -> 1.47934e+08 | E55: =D55-C55 -> -42066000 | F55: =G46 -> 2.15934e+08 | G55: =F55-C55 -> 25934000 | H55: =(C55+(C46*34))/34 -> 20407235 | I55: =H55/F46 -> 0.96396955
B56: 84B | C56: - | D56: =E47 -> 0 | E56: =D56-C56 -> #VALUE! | F56: =G47 -> 0 | G56: =F56-C56 -> #VALUE!
A58: 시 세 T R E N D | B58: 기간 | C58: 평균 총구매 평당가(만원) | D58: Graph
B59: 20년01월~20년03월 | C59: 1100
B60: 20년04월~20년06월 | C60: 1400
B61: 20년07월~20년09월 | C61: 1400
B62: 20년10월~20년12월 | C62: 2217
B63: 21년01월~21년03월 | C63: =H55/10000 -> 2040.7235
B64: 21년04월~21년06월
B65: 21년07월~21년09월
B66: 21년10월~21년12월
B67: 22년01월~22년03월
B68: 22년04월~22년06월
B69: 22년07월~22년09월
B70: 22년10월~22년12월
B71: 2029년(완공시)
A72: 특징 | B72: ♦ 북항재개발 배후 단지
B73: ♦ 산복도로르네상스 도시재정비사업 진행
B74: ♦ 부산 제1호 주거형 특별건축구역 지정
B75: ♦ 고지대로 인하 북항 조망권 확보

Sheet 초량3구역
A1: 초량3구역
A2: 사 업 개 요 | B2: 단지명 | C2: -
B3: 구역명 | C3: 초량3주택재개발
B4: 위치 | C4: 동구 초량동 659번지 일원 | E4: 평당 공사비(건축비) | F4: 4500000
B5: 구역면적 ㎡ | C5: 17460 | D5: 조합원세대당 대지 평수 (평균분양평형) | F5: =C5*0.3025/C7 -> 21.91556 | G5: 기준 : 25평 이상일 것.
B6: 동수 | C6: 5 | D6: 기부체납면적 ㎡ | F6: 실사용 면적 ㎡ | G6: =C5-E6 -> 17460
B7: 조합원세대수 | C7: 241 | D7: 조합원분양률 | E7: =C7/C9 -> 0.54648526
B8: 일반분양세대수 | C8: =C9-C7 -> 200 | D8: 일반분양률 | E8: =C8/C9 -> 0.45351474 | F8: 기준 : 50% 이상일 것. (재건축 30% 이상)
B9: 총세대수 | C9: 441 | D9: 임대주택 24세대 포함
B10: 건페율 | C10: 0.1967 | D10: 건축면적 ㎡ | E10: =G6*C10 -> 3434.382 | F10: 계산 층수 | G10: =E11/E10 -> 14.169293
B11: 용적률 | C11: 2.7871 | D11: 건축가능 연면적 ㎡ | E11: =G6*C11 -> 48662.766 | F11: 전용면적 기준 | G11: =E11*76% -> 36983.702
B12: 건축규모 | C12: 지하3층/지상24층 | D12: 세대당 평균 종전자산 평가액 | E12: - | F12: 세대구성 총연면적 대비 | G12: =G11/C36 -> 1.203309
B13: 시공사 | C13: 호반견설 | D13: 총 종전사산 평가액 | E13: =C7*E12 -> #VALUE! | F13: 총 건축가능세대 수 | G13: =E11*0.3025/F5 -> 671.6911
B14: 조합 비례율 | C14: 1 | D14: 계약면적 (평) | E14: - | F14: 총 시공 평수 | G14: =E14*G13 -> #VALUE!
B16: 총 사업비 | C16: =E16+G16 -> #VALUE! | D16: 총 공사비 | E16: =G14*F4 -> #VALUE! | F16: 기타사업비 | G16: =E16*30% -> #VALUE!
B17: 총 분양수입 | C17: =(E17*C7)+(G17*C8) -> #VALUE! | D17: (예상)평균조합원분양가 | E17: - | F17: (예상) 평균일반분양가 | G17: -
B18: 비례율 (사업성 검토용) | C18: =E18/E13 -> #VALUE! | D18: 순이익 | E18: =C17-C16 -> #VALUE! | F18: 조합원 세대당 평균 순이익 | G18: =E18/C7 -> #VALUE!
A20: 추 진 현 황 | B20: 구역지정 | C20: 2008.04.09
B21: 조합설립 | C21: 2016.01.05
B22: 사업시행 | C22: 2020년 예정 (건축심의 완)
B23: 관리처분계획 | C23: 2021년 예정
B24: 이주 | C24: 2022년 예정
B25: 철거 | C25: 2023년 예정
B26: 일반분양 | C26: 2024년 예정
B27: 준공 | C27: 2028년 예정
A29: 세 대 구 성 | B29: 평형별(전용) | C29: 총연면적 | D29: 총세대수 | E29: 조합원 | F29: 일반 | G29: 보류지 | H29: 점유율
B30: 39㎡ (임대) | C30: =39*D30 -> 936 | D30: 24 | H30: =D30/$D$36 -> 0.054421769
B31: 59A㎡ | C31: =59*D31 -> 5133 | D31: 87 | H31: =D31/$D$36 -> 0.19727891
B32: 59B㎡ | C32: =59*D32 -> 1416 | D32: 24 | H32: =D32/$D$36 -> 0.054421769
B33: 70A㎡ (28평) | C33: =70*D33 -> 9870 | D33: 141 | H33: =D33/$D$36 -> 0.31972789
B34: 74A㎡ (29평) | C34: =74*D34 -> 3552 | D34: 48 | H34: =D34/$D$36 -> 0.10884354
B35: 84A㎡ | C35: =84*D35 -> 9828 | D35: 117 | H35: =D35/$D$36 -> 0.26530612
B36: SUM | C36: =SUM(C30:C35) -> 30735 | D36: =SUM(D30:D35) -> 441 | E36: =SUM(E30:E35) -> 0 | F36: =SUM(F30:F35) -> 0 | G36: =SUM(G30:G35) -> 0 | H36: =SUM(H30:H35) -> 1
A38: 총 프 리 미 엄 (비례율 100%기준) | B38: 평형별(전용) | C38: (예상)조합원평당분양가 | D38: (예상)일반평당분양가 | E38: 일반분양가대비 | F38: 현재 인근평당시세 | G38: 인근시세 대비 | H38: 비고
B39: 39㎡ (임대)
B40: 59A㎡ | E40: =(D40-C40)*25 -> 0 | G40: =(F40-C40)*25 -> 0
B41: 59B㎡ | E41: =(D41-C41)*25 -> 0 | G41: =(F41-C41)*25 -> 0
B42: 70A㎡ (28평) | E42: =(D42-C42)*34 -> 0 | G42: =(F42-C42)*34 -> 0
B43: 74A㎡ (29평) | E43: =(D43-C43)*34 -> 0 | G43: =(F43-C43)*34 -> 0
B44: 84A㎡ | C44: =F44*70% -> 14819000 | D44: =F44-2000000 -> 19170000 | E44: =(D44-C44)*39 -> 1.69689e+08 | F44: 21170000 | G44: =(F44-C44)*39 -> 2.47689e+08 | H44: 이편한세상부산항
A46: 수 익 (현재기준) | B46: 평형별(전용) | C46: (예상)매매프리미엄 (대지 : 공시지가x130%) (건물 : 연면적평x130만원) (공동주택 : 공동주택가격x150%) | D46: 일반분양가 대비 총 프리미엄 | E46: 일반분양가 대비 수익 | F46: 인근시세 대비 총프리미엄 | G46: 인근시세 대비 수익 | H46: 총구매평당가 | I46: PPR (Premium to price Ratio) (100%일 때 적정) (100% 이상 : 과평가 (100% 이하 : 저평가)
B47: 39㎡ (임대) | C47: - | D47: =E39 -> 0 | E47: =D47-C47 -> #VALUE! | F47: =G39 -> 0 | G47: =F47-C47 -> #VALUE!
B48: 59A㎡ | C48: - | D48: =E40 -> 0 | E48: =D48-C48 -> #VALUE! | F48: =G40 -> 0 | G48: =F48-C48 -> #VALUE!
B49: 59B㎡ | C49: - | D49: =E41 -> 0 | E49: =D49-C49 -> #VALUE! | F49: =G41 -> 0 | G49: =F49-C49 -> #VALUE!
B50: 70A㎡ (28평) | C50: - | D50: =E42 -> 0 | E50: =D50-C50 -> #VALUE! | F50: =G42 -> 0 | G50: =F50-C50 -> #VALUE!
B51: 74A㎡ (29평) | C51: - | D51: =E43 -> 0 | E51: =D51-C51 -> #VALUE! | F51: =G43 -> 0 | G51: =F51-C51 -> #VALUE!
B52: 84A㎡ | C52: 310000000 | D52: =E44 -> 1.69689e+08 | E52: =D52-C52 -> -1.40311e+08 | F52: =G44 -> 2.47689e+08 | G52: =F52-C52 -> -62311000 | H52: =(C52+(C44*34))/34 -> 23936647 | I52: =H52/F44 -> 1.1306872
A54: 시 세 T R E N D | B54: 기간 | C54: 평균 총구매 평당가(만원) | D54: Graph
B55: 20년01월~20년03월 | C55: 1350
B56: 20년04월~20년06월 | C56: 1600
B57: 20년07월~20년09월 | C57: 1900
B58: 20년10월~20년12월 | C58: 2364
B59: 21년01월~21년03월 | C59: =H52/10000 -> 2393.6647
B60: 21년04월~21년06월
B61: 21년07월~21년09월
B62: 21년10월~21년12월
B63: 22년01월~22년03월
B64: 22년04월~22년06월
B65: 22년07월~22년09월
B66: 22년10월~22년12월
B67: 2029년(완공시)
A68: 특징 | B68: ♦ 북항재개발 배후 단지
B69: ♦ 인근 재개발 모두 3,920여 세대의 대단지가 형성되면서동구 초량동의 새로운 대단지 아파트 주거타운이 형성될 예정입니다.
B70: ♦ 70A형은 타워형이면서 정남향 배치, 외 타입은 모두 4BAY 남동향 및 남서향으로 배치됨.
B71: ♦ 59형 드레스룸 제공, 74A, 84A 알파룸 제공.
B72: ♦ 초량역 1호선 도보 5분 거리 역세권.
B73: ♦ 동일중앙초, 부산중, 경남여중, 부산고등학교가 바로 인근에 있습니다.
B74: ♦ 일반상업지를 경계로 하고 있어서 편리한 근린생활 환경을 갖추고 있음.

Sheet 괴정5구역
A1: 괴정5구역
A2: 사 업 개 요 | B2: 단지명 | C2: 더샵캐슬
B3: 구역명 | C3: 괴정5주택재개발정비구역
B4: 위치 | C4: 부산 사하구 괴정동 656-7번지 일원
B5: 용도지역 | C5: 제3종일반주거지역, 준주거지역
B6: 대지면적 ㎡ | C6: 130369
B7: 구역면적 ㎡ | C7: 163896 | D7: 조합원세대당 대지지분 (평) | F7: =C7*0.3025/C9 -> 27.543633 | G7: 기준 : 25평 이상일 것.
B8: 동수 | C8: 26
B9: 조합원세대수(약) | C9: 1800 | D9: 조합원분양률 | E9: =C9/C11 -> 0.49382716
B10: 일반분양세대수 | C10: =C11-C9 -> 1845 | D10: 일반분양률 | E10: =C10/C11 -> 0.50617284 | F10: 기준 : 50% 이상일 것. (재건축 30% 이상)
B11: 총세대수(약) | C11: 3645
B12: 건페율 | C12: 0.2435 | D12: 건축면적 ㎡ | E12: =C7*C12 -> 39908.676 | F12: 계산 층수 | G12: =E13/E12 -> 14.898152
B13: 용적률 | C13: 3.6277 | D13: 연면적 ㎡ | E13: =C7*C13 -> 594565.52 | F13: 전용면적 기준 | G13: =E13*76% -> 451869.79
B14: 건축규모 | C14: 지하4층 / 지상최고55층 | F14: 세대구성 총연면적 대비 | H14: =G13/C47 -> 1.4569912
B15: 시공사 | C15: 포스코 + 롯데 | F15: 기준 : 세대구성 총연면적보다 클 것.
B16: 비례율(임의) | C16: 미정
B17: 비고 | D17: 계약금 10% 잔금 90% (중도금x)
A20: 추 진 현 황 | B20: 최초 구역지정 | C20: 2017.09.13
B21: 최초 조합설립 | C21: 2018.05.18
B22: 사업시행인가 | C22: 2019년예정
B23: 관리처분인가 | C23: 2021년 예정
B24: 이주 | C24: 2022년 예정
B25: 철거 | C25: 2023년 예정
B26: 일반분양 | C26: 2024년 예정
B27: 준공 | C27: 2027년 예정
A30: 세 대 구 성 | B30: 평형별(전용) | C30: 총연면적 | D30: 총세대수 | E30: 일반 | F30: 조합원 | G30: 점유율 | H30: 비고
B31: 39/18 (도시형) | C31: =39*D31 -> 8736 | D31: 224 | E31: - | F31: - | G31: =D31/$D$47 -> 0.061454047
B32: 39/18 (o/t) | C32: =47*D32 -> 10528 | D32: 224 | E32: - | F32: - | G32: =D32/$D$47 -> 0.061454047
B33: 39/18 (임대) | C33: =59*D33 -> 14160 | D33: 240 | G33: =D33/$D$47 -> 0.065843621
B34: 52/22 | C34: =52*D34 -> 2496 | D34: 48 | G34: =D34/$D$47 -> 0.013168724
B35: 59A/25 | C35: =59*D35 -> 13924 | D35: 236 | G35: =D35/$D$47 -> 0.064746228
B36: 59B/25 | C36: =59*D36 -> 10797 | D36: 183 | G36: =D36/$D$47 -> 0.050205761
B37: 67A/28 | C37: =67*D37 -> 5829 | D37: 87 | G37: =D37/$D$47 -> 0.023868313
B38: 67B/28 | C38: =67*D38 -> 1943 | D38: 29 | G38: =D38/$D$47 -> 0.0079561043
B39: 84A/33 | C39: =84*D39 -> 98784 | D39: 1176 | G39: =D39/$D$47 -> 0.32263374
B40: 84B/33 | C40: =84*D40 -> 12096 | D40: 144 | G40: =D40/$D$47 -> 0.039506173
B41: 101A/38 | C41: =101*D41 -> 24644 | D41: 244 | G41: =D41/$D$47 -> 0.066941015
B42: 101B/38 | C42: =101*D42 -> 23230 | D42: 230 | G42: =D42/$D$47 -> 0.063100137
B43: 121A/45 | C43: =121*D43 -> 24321 | D43: 201 | G43: =D43/$D$47 -> 0.055144033
B44: 121B/45 | C44: =121*D44 -> 8107 | D44: 67 | G44: =D44/$D$47 -> 0.018381344
B45: 159/64 | C45: =159*D45 -> 12402 | D45: 78 | G45: =D45/$D$47 -> 0.021399177
B46: 163/66 | C46: =163*D46 -> 38142 | D46: 234 | G46: =D46/$D$47 -> 0.064197531
B47: SUM | C47: =SUM(C31:C46) -> 310139 | D47: =SUM(D31:D46) -> 3645 | E47: =SUM(E31:E46) -> 0 | F47: =SUM(F31:F46) -> 0 | G47: =SUM(G31:G46) -> 1 | H47: =SUM(H31:H36) -> 0
A49: (현재기준) 예 상 총 프 리 미 엄 (비례율 100%기준) | B49: 평형별 | C49: (예상)조합원평당분양가 | D49: (예상)일반평당분양가 | E49: 일반분양가대비 | F49: 현재 인근평당시세 | G49: 인근시세대비 | H49: 비고
B50: 39/18 (도시형) | C50: - | D50: - | E50: =(D50-C50)*17 -> #VALUE! | F50: - | G50: =(F50-C50)*17 -> #VALUE!
B51: 39/18 (o/t) | C51: - | D51: - | E51: =(D51-C51)*20 -> #VALUE! | F51: - | G51: =(F51-C51)*20 -> #VALUE!
B52: 39/18 (임대) | C52: - | D52: - | E52: =(D52-C52)*20 -> #VALUE! | F52: - | G52: =(F52-C52)*25 -> #VALUE!
B53: 52/22 | E53: =(D53-C53)*22 -> 0 | G53: =(F53-C53)*22 -> 0
B54: 59A/25 | E54: =(D54-C54)*25 -> 0 | G54: =(F54-C54)*25 -> 0
B55: 59B/25 | E55: =(D55-C55)*25 -> 0 | G55: =(F55-C55)*25 -> 0
B56: 67A/28 | E56: =(D56-C56)*28 -> 0 | G56: =(F56-C56)*28 -> 0
B57: 67B/28 | E57: =(D57-C57)*28 -> 0 | G57: =(F57-C57)*28 -> 0
B58: 84A/33 | C58: 10515000 | D58: =F58-2000000 -> 18580000 | E58: =(D58-C58)*33 -> 266145000 | F58: 20580000 | G58: =(F58-C58)*33 -> 332145000 | H58: 힐스테이트사하역
B59: 84B/33 | E59: =(D59-C59)*33 -> 0 | G59: =(F59-C59)*33 -> 0
B60: 101A/38 | E60: =(D60-C60)*38 -> 0 | G60: =(F60-C60)*38 -> 0
B61: 101B/38 | E61: =(D61-C61)*38 -> 0 | G61: =(F61-C61)*38 -> 0
B62: 121A/45 | E62: =(D62-C62)*45 -> 0 | G62: =(F62-C62)*45 -> 0
B63: 121B/45 | E63: =(D63-C63)*45 -> 0 | G63: =(F63-C63)*45 -> 0
B64: 159/64 | E64: =(D64-C64)*64 -> 0 | G64: =(F64-C64)*64 -> 0
B65: 163/66 | E65: =(D65-C65)*66 -> 0 | G65: =(F65-C65)*66 -> 0
A67: 수 익 (현재기준) | B67: 평형별(전용) | C67: (예상)매매프리미엄 (대지 : 공시지가x130%) (건물 : 연면적평x130만원) (공동주택 : 공동주택가격x150%) | D67: 일반분양가 대비 총 프리미엄 | E67: 일반분양가 대비 수익 | F67: 인근시세 대비 총프리미엄 | G67: 인근시세 대비 수익 | H67: 총구매평당가 | I67: PPR (Premium to price Ratio) (100%일 때 적정) (100% 이상 : 과평가 (100% 이하 : 저평가)
B68: 39/18 (도시형) | C68: - | D68: =E50 -> #VALUE! | E68: =D68-C68 -> #VALUE! | F68: =G50 -> #VALUE! | G68: =F68-C68 -> #VALUE!
B69: 39/18 (o/t) | C69: - | D69: =E51 -> #VALUE! | E69: =D69-C69 -> #VALUE! | F69: =G51 -> #VALUE! | G69: =F69-C69 -> #VALUE!
B70: 39/18 (임대) | C70: - | D70: =E52 -> #VALUE! | E70: =D70-C70 -> #VALUE! | F70: =G52 -> #VALUE! | G70: =F70-C70 -> #VALUE!
B71: 52/22 | C71: - | D71: =E53 -> 0 | E71: =D71-C71 -> #VALUE! | F71: =G53 -> 0 | G71: =F71-C71 -> #VALUE!
B72: 59A/25 | C72: - | D72: =E54 -> 0 | E72: =D72-C72 -> #VALUE! | F72: =G54 -> 0 | G72: =F72-C72 -> #VALUE!
B73: 59B/25 | C73: - | D73: =E55 -> 0 | E73: =D73-C73 -> #VALUE! | F73: =G55 -> 0 | G73: =F73-C73 -> #VALUE!
B74: 67A/28 | C74: - | D74: =E56 -> 0 | E74: =D74-C74 -> #VALUE! | F74: =G56 -> 0 | G74: =F74-C74 -> #VALUE!
B75: 67B/28 | C75: - | D75: =E57 -> 0 | E75: =D75-C75 -> #VALUE! | F75: =G57 -> 0 | G75: =F75-C75 -> #VALUE!
B76: 84A/33 | C76: 320000000 | D76: =E58 -> 266145000 | E76: =D76-C76 -> -53855000 | F76: =G58 -> 332145000 | G76: =F76-C76 -> 12145000 | H76: =(C76+(C58*34))/34 -> 19926765 | I76: =H76/F58 -> 0.96825873
B77: 84B/33 | C77: - | D77: =E59 -> 0 | E77: =D77-C77 -> #VALUE! | F77: =G59 -> 0 | G77: =F77-C77 -> #VALUE!
B78: 101A/38 | C78: - | D78: =E60 -> 0 | E78: =D78-C78 -> #VALUE! | F78: =G60 -> 0 | G78: =F78-C78 -> #VALUE!
B79: 101B/38 | C79: - | D79: =E61 -> 0 | E79: =D79-C79 -> #VALUE! | F79: =G61 -> 0 | G79: =F79-C79 -> #VALUE!
B80: 121A/45 | C80: - | D80: =E62 -> 0 | E80: =D80-C80 -> #VALUE! | F80: =G62 -> 0 | G80: =F80-C80 -> #VALUE!
B81: 121B/45 | C81: - | D81: =E63 -> 0 | E81: =D81-C81 -> #VALUE! | F81: =G63 -> 0 | G81: =F81-C81 -> #VALUE!
B82: 159/64 | C82: - | D82: =E64 -> 0 | E82: =D82-C82 -> #VALUE! | F82: =G64 -> 0 | G82: =F82-C82 -> #VALUE!
B83: 163/66 | C83: - | D83: =E65 -> 0 | E83: =D83-C83 -> #VALUE! | F83: =G65 -> 0 | G83: =F83-C83 -> #VALUE!
A85: 시 세 T R E N D | B85: 기간 | C85: 총구매 평당가(만원) | D85: Graph
B86: 2019년 | C86: 1329
B87: 20년01월~20년03월 | C87: 1404
B88: 20년04월~20년06월 | C88: 1580
B89: 20년07월~20년09월 | C89: 1600
B90: 20년10월~20년12월 | C90: 1984
B91: 21년01월~21년03월 | C91: =H76/10000 -> 1992.6765
B92: 21년04월~21년05월
B93: 21년06월~21년09월
B94: 21년10월~21년12월
B95: 2027년(완공시)
A97: 특징 | B97: ♦ 괴정5구역 인근으로 대단위 재개발,재건축 진행으로 신주거타운 형성.
B98: (힐스테이트사하역, 당리2구역 재개발, 당리2 재건축, 괴정2 재건축, 괴정3 재건축)
B99: ♦ 도시철도1호선 사하역 역세권.
B100: ♦ 낙동대로의 편리한 교통, 제2대티터널과 사상~하단선(예정), 하단~녹산선(예정)으로 접근성이 용이합니다.
B101: ♦ 사남초, 사하중 등 도보통학이 가능한 학군과 동아고, 해동고 가 1km 안팎에 위치하고 있습니다.
B102: ♦ 뉴코아아울렛, 대형마트 등 완성된 생활인프라와 동매산, 승학산을 뒤로 하고 있어서 숲세권 생활이 가능합니다.

Sheet 괴정6구역
A1: 괴정6구역
A2: 사 업 개 요 | B2: 단지명 | C2: 미정
B3: 구역명 | C3: 괴정5주택재개발정비구역
B4: 위치 | C4: 부산 사하구 괴정동 486-20번지 일원
B5: 용도지역 | C5: 제3종일반주거지역
B6: 대지면적 ㎡ | C6: 30370.6
B7: 구역면적 ㎡ | C7: 30370.6 | D7: 조합원세대당 대지지분 (평) | F7: =C7*0.3025/C9 -> 17.80447 | G7: 기준 : 25평 이상일 것.
B8: 동수
B9: 조합원세대수(약) | C9: 516 | D9: 조합원분양률 | E9: =C9/C11 -> 0.74566474
B10: 일반분양세대수 | C10: =C11-C9 -> 176 | D10: 일반분양률 | E10: =C10/C11 -> 0.25433526 | F10: 기준 : 50% 이상일 것. (재건축 30% 이상)
B11: 총세대수(약) | C11: 692
B12: 건페율 | C12: 0.3 | D12: 건축면적 ㎡ | E12: =C7*C12 -> 9111.18 | F12: 계산 층수 | G12: =E13/E12 -> 8.7666667
B13: 용적률 | C13: 2.63 | D13: 연면적 ㎡ | E13: =C7*C13 -> 79874.678 | F13: 전용면적 기준 | G13: =E13*76% -> 60704.755
B14: 건축규모 | C14: 미정 | F14: 세대구성 총연면적 대비 | H14: =G13/C34 -> 1.304693
B15: 시공사 | C15: 미정 | F15: 기준 : 세대구성 총연면적보다 클 것.
B16: 비례율(임의) | C16: 미정
B17: 비고 | D17: 세대 전체 85m2 이하 국민주택규모로 건축 예정. (임대비율 5.2%, 36세대는 39m2 이하로 건축!)
A20: 추 진 현 황 | B20: 최초 구역지정 | C20: 2020.07.22
B21: 최초 조합설립 | C21: 2021년 예정
B22: 시공사선정 | C22: 2022년 예정
B23: 사업시행인가 | C23: 2024년 예정
B24: 관리처분인가 | C24: 2026년 예정
B25: 이주 | C25: 2027년 예정
B26: 철거 | C26: 2028년 예정
B27: 일반분양 | C27: 2029년 예정
B28: 준공 | C28: 2032년 예정
A30: 세 대 구 성 | B30: 평형별(전용) | C30: 총연면적 | D30: 총세대수 | E30: 일반 | F30: 조합원 | G30: 점유율 | H30: 비고
B31: 39/18 (임대) | C31: =59*D31 -> 2124 | D31: 36 | G31: =D31/$D$34 -> 0.052023121
B32: 59A/25 | C32: =59*D32 -> 25252 | D32: 428 | G32: =D32/$D$34 -> 0.61849711
B33: 84A/33 | C33: =84*D33 -> 19152 | D33: 228 | G33: =D33/$D$34 -> 0.32947977
B34: SUM | C34: =SUM(C31:C33) -> 46528 | D34: =SUM(D31:D33) -> 692 | E34: =SUM(E31:E33) -> 0 | F34: =SUM(F31:F33) -> 0 | G34: =SUM(G31:G33) -> 1 | H34: =SUM(H31:H32) -> 0
A36: (현재기준) 예 상 총 프 리 미 엄 (비례율 100%기준) | B36: 평형별 | C36: (예상)조합원평당분양가 | D36: (예상)일반평당분양가 | E36: 일반분양가대비 | F36: 현재 인근평당시세 | G36: 인근시세대비 | H36: 비고
B37: 39/18 (임대) | C37: - | D37: - | E37: =(D37-C37)*20 -> #VALUE! | F37: - | G37: =(F37-C37)*25 -> #VALUE!
B38: 59A/25 | E38: =(D38-C38)*25 -> 0 | G38: =(F38-C38)*25 -> 0
B39: 84A/33 | C39: =F39*70% -> 14406000 | D39: =F39-2000000 -> 18580000 | E39: =(D39-C39)*33 -> 137742000 | F39: 20580000 | G39: =(F39-C39)*33 -> 203742000 | H39: 힐스테이트사하역
A41: 수 익 (현재기준) | B41: 평형별(전용) | C41: (예상)매매프리미엄 (대지 : 공시지가x130%) (건물 : 연면적평x130만원) (공동주택 : 공동주택가격x150%) | D41: 일반분양가 대비 총 프리미엄 | E41: 일반분양가 대비 수익 | F41: 인근시세 대비 총프리미엄 | G41: 인근시세 대비 수익 | H41: 총구매평당가 | I41: PPR (Premium to price Ratio) (100%일 때 적정) (100% 이상 : 과평가 (100% 이하 : 저평가)
B42: 39/18 (임대) | C42: - | D42: =E37 -> #VALUE! | E42: =D42-C42 -> #VALUE! | F42: =G37 -> #VALUE! | G42: =F42-C42 -> #VALUE!
B43: 59A/25 | C43: - | D43: =E38 -> 0 | E43: =D43-C43 -> #VALUE! | F43: =G38 -> 0 | G43: =F43-C43 -> #VALUE!
B44: 84A/33 | C44: 110000000 | D44: =E39 -> 137742000 | E44: =D44-C44 -> 27742000 | F44: =G39 -> 203742000 | G44: =F44-C44 -> 93742000 | H44: =(C44+(C39*34))/34 -> 17641294 | I44: =H44/F39 -> 0.85720574
A46: 시 세 T R E N D | B46: 기간 | C46: 총구매 평당가(만원) | D46: Graph
B47: 20년10월~20년12월 | C47: =(C44+(C39*34))/34/10000 -> 1764.1294
B48: 21년01월~21년03월 | C48: =H44/10000 -> 1764.1294
B49: 21년04월~21년05월
B50: 21년06월~21년09월
B51: 21년10월~21년12월
B52: 22년01월~22년03월
B53: 22년04월~22년05월
B54: 22년06월~22년09월
B55: 22년10월~22년12월
B56: 2032년(완공시)
A58: 특징

Sheet 엄궁3구역
A1: 엄궁3구역
A2: 사 업 개 요 | B2: 단지명 | C2: 포스코더샵
B3: 구역명 | C3: 엄궁3구역
B4: 위치 | C4: 부산 사상구 엄궁동 132번지 일원
B5: 용도지역 | C5: 제3종일반주거지역
B6: 대지면적 ㎡ | C6: =15558*3.3058 -> 51431.636
B7: 구역면적 ㎡ | C7: =18692*3.3058 -> 61792.014 | D7: 조합원세대당 대지지분 (평) | F7: =C7*0.3025/C9 -> 42.578779 | G7: 기준 : 25평 이상일 것.
B8: 동수 | C8: 11
B9: 조합원세대수(약) | C9: =C11-C10 -> 439 | D9: 조합원분양률 | E9: =C9/C11 -> 0.33639847
B10: 일반분양세대수 | C10: 866 | D10: 일반분양률 | E10: =C10/C11 -> 0.66360153 | F10: 기준 : 50% 이상일 것. (재건축 30% 이상)
B11: 총세대수(약) | C11: 1305 | D11: (임대 66세대 별도)
B12: 건페율 | C12: 0.1619 | D12: 건축면적 ㎡ | E12: =C7*C12 -> 10004.127 | F12: 계산 층수 | G12: =E13/E12 -> 15.435454
B13: 용적률 | C13: 2.499 | D13: 연면적 ㎡ | E13: =C7*C13 -> 154418.24 | F13: 전용면적 기준 | G13: =E13*76% -> 117357.86
B14: 건축규모 | C14: 지하2층 / 지상25~29층 | F14: 세대구성 총연면적 대비 | H14: =G13/C36 -> 1.2829361
B15: 시공사 | C15: 포스코건설 | F15: 기준 : 세대구성 총연면적보다 클 것.
B16: 비례율 | C16: 1.03
B17: 비고
A20: 추 진 현 황 | B20: 최초 구역지정 | C20: 2006.12.20
B21: 최초 조합설립 | C21: 2007.01.19
B22: 사업시행인가 | C22: 2008.08.05
B23: 관리처분인가 | C23: 2019.05.31
B24: 이주 | C24: 2019년 8월 5일~ 10월 31일
B25: 철거 | C25: 2020년 예정
B26: 일반분양 | C26: 2021년 예정
B27: 준공 | C27: 2024년 예정
A30: 세 대 구 성 | B30: 평형별(전용) | C30: 총연면적 | D30: 총세대수 | E30: 일반 | F30: 조합원 | G30: 보류 | H30: 점유율
B31: 39/18(임대) | C31: =39*D31 -> 2574 | D31: 66 | H31: =D31/$D$36 -> 0.053268765
B32: 59A/25 | C32: =59*D32 -> 22184 | D32: 376 | E32: 280 | F32: 96 | H32: =D32/$D$36 -> 0.30347054
B33: 72/30 | C33: =74*D33 -> 23680 | D33: 320 | E33: 245 | F33: 74 | G33: 1 | H33: =D33/$D$36 -> 0.2582728
B34: 84A/34 | C34: =84*D34 -> 34692 | D34: 413 | E34: 98 | F34: 101 | G34: 1 | H34: =D34/$D$36 -> 0.33333333
B35: 84B/34 | C35: =84*D35 -> 10920 | D35: 130 | E35: 30 | F35: 99 | G35: 1 | H35: =D35/$D$36 -> 0.10492333
B36: SUM | C36: =SUM(C32:C35) -> 91476 | D36: =SUM(D32:D35) -> 1239 | E36: =SUM(E32:E35) -> 653 | F36: =SUM(F32:F35) -> 370 | G36: =SUM(G32:G35) -> 3 | H36: =SUM(H32:H35) -> 1
A38: (현재 예상) 총 프 리 미 엄 (비례율 100%기준) | B38: 평형별 | C38: (예상)조합원평당분양가 | D38: (예상)일반평당분양가 | E38: 일반분양가대비 | F38: 현재 인근평당시세 | G38: 인근시세대비 | H38: 비고 (조합원 배정 층)
B39: 39/18(임대) | C39: - | D39: - | E39: =(D39-C39)*17 -> #VALUE! | F39: - | G39: =(F39-C39)*17 -> #VALUE! | H39: 임대
B40: 59A/25 | C40: =204465957/25 -> 8178638.3 | D40: 10300000 | E40: =(D40-C40)*25 -> 53034043 | G40: =(F40-C40)*25 -> -204465957
B41: 72/30 | C41: =247800938/30 -> 8260031.3 | D41: 10300000 | E41: =(D41-C41)*30 -> 61199062 | G41: =(F41-C41)*30 -> -247800938
B42: 84A/34 | C42: =283447942/34 -> 8336704.2 | D42: 11000000 | E42: =(D42-C42)*34 -> 90552058 | F42: 10200000 | G42: =(F42-C42)*34 -> 63352058 | H42: 엄궁롯데캐슬리버,1852세대 (2010년 5월 준공) 평당가 대비
B43: 84B/34 | C43: =281386538/34 -> 8276074.6 | D43: 10300000 | E43: =(D43-C43)*34 -> 68813462 | G43: =(F43-C43)*34 -> -281386538
A45: 수 익 (현재기준) | B45: 평형별(전용) | C45: (예상)매매프리미엄 (대지 : 공시지가x130%) (건물 : 연면적평x130만원) (공동주택 : 공동주택가격x150%) | D45: 일반분양가 대비 총 프리미엄 | E45: 일반분양가 대비 수익 | F45: 인근시세 대비 총프리미엄 | G45: 인근시세 대비 수익 | H45: 비고 | I45: PPR (Premium to price Ratio) (100%일 때 적정) (100% 이상 : 과평가 (100% 이하 : 저평가)
B46: 39/18(임대) | C46: - | D46: =E39 -> #VALUE! | E46: =D46-C46 -> #VALUE! | F46: =G39 -> #VALUE! | G46: =F46-C46 -> #VALUE! | H46: 임대
B47: 59A/25 | D47: =E40 -> 53034043 | E47: =D47-C47 -> 53034043 | F47: =G40 -> -204465957 | G47: =F47-C47 -> -204465957
B48: 72/30 | D48: =E41 -> 61199062 | E48: =D48-C48 -> 61199062 | F48: =G41 -> -247800938 | G48: =F48-C48 -> -247800938
B49: 84A/34 | C49: 100000000 | D49: =E42 -> 90552058 | E49: =D49-C49 -> -9447942 | F49: =G42 -> 63352058 | G49: =F49-C49 -> -36647942 | H49: =(C49+(C42*34))/34 -> 11277881 | I49: =H49/F42 -> 1.1056746
B50: 84B/34 | D50: =E43 -> 68813462 | E50: =D50-C50 -> 68813462 | F50: =G43 -> -281386538 | G50: =F50-C50 -> -281386538
A51: 시 세 T R E N D | B51: 기간 | C51: 총구매 평당가(만원) | D51: Graph
B52: 2019년 | C52: 1120
B53: 20년01월~20년03월 | C53: 1127
B54: 20년04월~20년06월 | C54: 1127
B55: 20년07월~20년09월 | C55: 1127
B56: 20년10월~20년12월 | C56: 1128
B57: 21년01월~21년03월 | C57: =H49/10000 -> 1127.7881
B58: 21년04월~21년05월
B59: 21년06월~21년09월
B60: 21년10월~21년12월
B61: 2027년(완공시)
A63: 특징

Sheet 부곡2구역
A1: 부곡2구역
A2: 사 업 개 요 | B2: 단지명 | C2: -
B3: 구역명 | C3: 부곡2구역 주택재개발정비사업
B4: 위치 | C4: 부산시 금정구 부곡동 279번지 일대 | E4: 평당 공사비(건축비) | F4: 4500000
B5: 구역면적 ㎡ | C5: 98503 | D5: 조합원세대당 대지 평수 (평균분양평형) | F5: =C5*0.3025/C7 -> 31.699104 | G5: 기준 : 25평 이상일 것.
B6: 동수 | C6: 13 | D6: 기부체납면적 ㎡ | F6: 실사용 면적 ㎡ | G6: =C5-E6 -> 98503
B7: 조합원세대수 | C7: 940 | D7: 조합원분양률 | E7: =C7/C9 -> 0.40034072
B8: 일반분양세대수 | C8: =C9-C7 -> 1408 | D8: 일반분양률 | E8: =C8/C9 -> 0.59965928 | F8: 기준 : 50% 이상일 것. (재건축 30% 이상)
B9: 총세대수 | C9: 2348
B10: 건페율 | C10: 0.1895 | D10: 건축면적 ㎡ | E10: =G6*C10 -> 18666.319 | F10: 계산 층수 | G10: =E11/E10 -> 12.664908
B11: 용적률 | C11: 2.4 | D11: 건축가능 연면적 ㎡ | E11: =G6*C11 -> 236407.2 | F11: 전용면적 기준 | G11: =E11*76% -> 179669.47
B12: 건축규모 | C12: 지하4층/지상42층 | D12: 세대당 평균 종전자산 평가액 | E12: - | F12: 세대구성 총연면적 대비 | G12: =G11/C45 -> 1.0147664
B13: 시공사 | C13: GS+SK+포스코 | D13: 총 종전사산 평가액 | E13: =C7*E12 -> #VALUE! | F13: 총 건축가능세대 수 | G13: =E11*0.3025/F5 -> 2256
B14: 조합 비례율 | C14: 1 | D14: 계약면적 (평) | E14: - | F14: 총 시공 평수 | G14: =E14*G13 -> #VALUE!
B16: 총 사업비 | C16: =E16+G16 -> #VALUE! | D16: 총 공사비 | E16: =G14*F4 -> #VALUE! | F16: 기타사업비 | G16: =E16*30% -> #VALUE!
B17: 총 분양수입 | C17: =(E17*C7)+(G17*C8) -> #VALUE! | D17: (예상)평균조합원분양가 | E17: - | F17: (예상) 평균일반분양가 | G17: -
B18: 비례율 (사업성 검토용) | C18: =E18/E13 -> #VALUE! | D18: 순이익 | E18: =C17-C16 -> #VALUE! | F18: 조합원 세대당 평균 순이익 | G18: =E18/C7 -> #VALUE!
A19: 비고 | B19: 시공사는 3사 컨소시엄이나 단지 브렌드는 GS단일 브랜드로 지정될 예정임.
A20: 추 진 현 황 | B20: 구역지정 | C20: 2008.10.15
B21: 조합설립 | C21: 2018.10.29
B22: 시공사선정 | C22: 2019.04.13
B23: 사업시행 | C23: 2021년예정
B24: 관리처분계획 | C24: 2023년 예정
B25: 이주 | C25: 2024년 예정
B26: 철거 | C26: 2025년 예정
B27: 일반분양 | C27: 2026년 예정
B28: 준공 | C28: 2029년 예정
A30: 세 대 구 성 | B30: 평형별(전용) | C30: 총연면적 | D30: 총세대수 | E30: 조합원 | F30: 일반 | G30: 보류지 | H30: 점유율
B31: 39(임대) | C31: =39*D31 -> 4602 | D31: 118 | H31: =D31/$D$45 -> 0.050255537
B32: 44(임대) | C32: =44*D32 -> 3608 | D32: 82 | H32: =D32/$D$45 -> 0.034923339
B33: 44 | C33: =44*D33 -> 440 | D33: 10 | H33: =D33/$D$45 -> 0.0042589438
B34: 59A | C34: =59*D34 -> 28497 | D34: 483 | H34: =D34/$D$45 -> 0.20570698
B35: 74A | C35: =74*D35 -> 23976 | D35: 324 | H35: =D35/$D$45 -> 0.13798978
B36: 74B | C36: =74*D36 -> 9842 | D36: 133 | H36: =D36/$D$45 -> 0.056643952
B37: 84A | C37: =84*D37 -> 44016 | D37: 524 | H37: =D37/$D$45 -> 0.22316865
B38: 84B | C38: =84*D38 -> 19572 | D38: 233 | H38: =D38/$D$45 -> 0.09923339
B39: 84C | C39: =84*D39 -> 17472 | D39: 208 | H39: =D39/$D$45 -> 0.088586031
B40: 108A | C40: =108*D40 -> 23436 | D40: 217 | H40: =D40/$D$45 -> 0.09241908
B41: 84T(테라스) | C41: =84*D41 -> 840 | D41: 10 | H41: =D41/$D$45 -> 0.0042589438
B42: 126A(구분형3세대) | C42: =126*D42 -> 504 | D42: 4 | H42: =D42/$D$45 -> 0.0017035775
B43: 124P(펜트하우스) | C43: =124*D43 -> 124 | D43: 1 | H43: =D43/$D$45 -> 0.00042589438
B44: 126P(팬트하우스) | C44: =126*D44 -> 126 | D44: 1 | H44: =D44/$D$45 -> 0.00042589438
B45: SUM | C45: =SUM(C31:C44) -> 177055 | D45: =SUM(D31:D44) -> 2348 | E45: =SUM(E31:E44) -> 0 | F45: =SUM(F31:F44) -> 0 | G45: =SUM(G31:G44) -> 0 | H45: =SUM(H31:H44) -> 1
A47: 총 프 리 미 엄 (비례율 100%기준) | B47: 평형별(전용) | C47: (예상)조합원평당분양가 | D47: (예상)일반평당분양가 | E47: 일반분양가대비 | F47: 현재 인근평당시세 | G47: 인근시세 대비 | H47: 비고
E49: =(D49-C49)*25 -> 0 | G49: =(F49-C49)*25 -> 0
E50: =(D50-C50)*25 -> 0 | G50: =(F50-C50)*25 -> 0
B51: 84A | C51: =F51*70% -> 24087000 | D51: =F51-2000000 -> 32410000 | E51: =(D51-C51)*34 -> 282982000 | F51: 34410000 | G51: =(F51-C51)*34 -> 350982000 | H51: 레미안장전
E52: =(D52-C52)*34 -> 0 | G52: =(F52-C52)*34 -> 0
E53: =(D53-C53)*39 -> 0 | G53: =(F53-C53)*39 -> 0
A55: 수 익 (현재기준) | B55: 평형별(전용) | C55: (예상)매매프리미엄 (대지 : 공시지가x130%) (건물 : 연면적평x130만원) (공동주택 : 공동주택가격x150%) | D55: 일반분양가 대비 총 프리미엄 | E55: 일반분양가 대비 수익 | F55: 인근시세 대비 총프리미엄 | G55: 인근시세 대비 수익 | H55: 총구매평당다 | I55: PPR (Premium to price Ratio) (100%일 때 적정) (100% 이상 : 과평가 (100% 이하 : 저평가)
C56: - | D56: =E48 -> 0 | E56: =D56-C56 -> #VALUE! | F56: =G48 -> 0 | G56: =F56-C56 -> #VALUE!
C57: - | D57: =E49 -> 0 | E57: =D57-C57 -> #VALUE! | F57: =G49 -> 0 | G57: =F57-C57 -> #VALUE!
C58: - | D58: =E50 -> 0 | E58: =D58-C58 -> #VALUE! | F58: =G50 -> 0 | G58: =F58-C58 -> #VALUE!
B59: 84A | C59: 340000000 | D59: =E51 -> 282982000 | E59: =D59-C59 -> -57018000 | F59: =G51 -> 350982000 | G59: =F59-C59 -> 10982000 | H59: =(C59+(C51*34))/34 -> 34087000 | I59: =H59/F51 -> 0.99061319
C60: - | D60: =E52 -> 0 | E60: =D60-C60 -> #VALUE! | F60: =G52 -> 0 | G60: =F60-C60 -> #VALUE!
C61: - | D61: =E53 -> 0 | E61: =D61-C61 -> #VALUE! | F61: =G53 -> 0 | G61: =F61-C61 -> #VALUE!
A63: 시 세 T R E N D | B63: 기간 | C63: 평균 총구매 평당가(만원) | D63: Graph
B64: 20년01월~20년03월 | C64: 1900
B65: 20년04월~20년06월 | C65: 2000
B66: 20년07월~20년09월 | C66: 2591
B67: 20년10월~20년12월 | C67: 3428
B68: 21년01월~21년03월 | C68: =H59/10000 -> 3408.7
B69: 21년04월~21년06월
B70: 21년07월~21년09월
B71: 21년10월~21년12월
B72: 22년01월~22년03월
B73: 22년04월~22년06월
B74: 22년07월~22년09월
B75: 22년10월~22년12월
B76: 2029년(완공시)
A77: 특징 | B77: 1. 1군 시공사와 선호도 높은 브랜드 1군 건설사인 GS건설, SK건설, 포스코건설 컨소시엄이며 브랜드는 부산에서 선호도가 높은 단일 브랜드 자이로 건설이 될 예정입니다. 공구를 나누지 않고 일괄시공하여 공공 이행방식으로 진행하여 입주후 편리합니다.​ 2. 남향 배치 전세대 100% 남향으로 배치하며, 동간 이격거리를 최대 학보하여 채광이 기대가 됩니다.​ 3. 교통 부산대 지하철역 도보 10여분으로 이용 가능하여 준역세권이며 구서 IC를 통한 경부고속도로, 부산외곽 순환 고속도로, 도시고속도로 이용이 편리하여 시외로 시내로 모두 편리하게 이동이 가능합니다. 또한, 산성터널을 통한 서부산권으로 이동 용이합니다.​ 4. 초품아 학군 현곡초가 바로 뒤에 인근에 부곡초, 부곡중, 금양중, 부곡여중, 사대부고, 내성고등 다양한 학교가위치해 있습니다.​ 5, 주거 편의성 바로 앞의 다양한 부산대 상권을 이용할 수 있는 것이 가장 큰 장점이며 NC백화점(부산대), 룻데백화점, 홈플러스(온천장), 롯데마트(금정점), 이마트(금정점), 부곡시장등 생활 인프라가 좋습니다.. 6. 숲세권, 온천천 윤산을 바로 뒤에 두고 있는 것은 물론이며 앞으로는 온천천이 있어서 좋은 휴식공간을 제공하며 인근으로 금정산, 오륜대, 범어사 등 쉽고 편하게 이용이 가능합니다.
A85: 발코니 확장, 시스템에어콘 2대 (거실, 안방) 복층유리 이중창 샤시, LED TV(60인치), 양문형냉장고 그럼세탁기, 전기빨리건조기, 스타일러, 무선청소기 3구쿡탑, 광파오블렌지, 거실아트윌, 거실우물천장, 침실붙박이장 실크벽지, 현관중문, 현관천연석마감, 신발장, 전실강마루 등등 [출처] 부곡2구역 재개발 사업상세와 물건 안내|작성자 망찬

Sheet 범일2구역
A1: 범일2구역
A2: 사 업 개 요 | B2: 단지명 | C2: 미정
B3: 구역명 | C3: 범일2도시환경정비사업
B4: 위치 | C4: 부산시 동구 범일동 662-59번지 일원
B5: 구역면적 ㎡ | C5: 40255 | D5: 조합원세대당 대지 평수 | F5: =C5*0.3025/C7 -> 36.900417 | G5: 기준 : 25평 이상일 것.
B6: 동수 | C6: 6
B7: 조합원세대수(약) | C7: 330 | D7: 조합원분양률 | E7: =C7/C9 -> 0.20702635
B8: 일반분양세대수 | C8: =C9-C7 -> 1264 | D8: 일반분양률 | E8: =C8/C9 -> 0.79297365 | F8: 기준 : 50% 이상일 것. (재건축 30% 이상)
B9: 총세대수(약) | C9: 1594
B10: 건페율 | C10: 0.4659 | D10: 건축면적 ㎡ | E10: 11126.39 | F10: 계산 층수 | G10: =E11/E10 -> 25.532295
B11: 용적률 | C11: 8.554 | D11: 연면적 ㎡ | E11: 284082.27 | F11: 전용면적 기준 | G11: =E11*76% -> 215902.53
B12: 건축규모 | C12: 지하4층, 지상 최고 49층 | F12: 세대구성 총연면적 대비 | H12: =G11/C35 -> 1.6067045
B13: 시공사 | C13: 롯데견설 수의계약 | F13: 기준 : 세대구성 총연면적보다 클 것.
B14: 비례율(임의) | C14: 135% (추진위 추정)
B15: 비고
A18: 추 진 현 황 | B18: 구역지정 | C18: 2009.08.26
B19: 추진위원회승인 | C19: 2006.07.27
B20: 조합설립 | C20: 2019.12.02
B21: 시공사선정 | C21: 2021년 예정
B22: 사업시행인가 | C22: 2022년 예정
B23: 관리처분계획 | C23: 2024년 예정
B24: 이주.철거 | C24: 2026년 예정
B25: 일반분양 | C25: 2027년 예정
B26: 준공 | C26: 2030년 예정
A28: 세 대 구 성 (임의) | B28: 평형별(전용) | C28: 총연면적 | D28: 총세대수 | E28: 일반 | F28: 조합원 | G28: 점유율 | H28: 비고
B29: 52㎡ | C29: =52*D29 -> 8840 | D29: 170 | G29: =D29/$D$35 -> 0.10664994 | H29: O/T
B30: 78㎡ | C30: =78*D30 -> 5304 | D30: 68 | G30: =D30/$D$35 -> 0.042659975 | H30: O/T
B31: 75A㎡ | C31: =75*D31 -> 16950 | D31: 226 | G31: =D31/$D$35 -> 0.14178168
B32: 75B㎡ | C32: =75*D32 -> 16950 | D32: 226 | G32: =D32/$D$35 -> 0.14178168
B33: 84㎡ | C33: =84*D33 -> 37968 | D33: 452 | G33: =D33/$D$35 -> 0.28356336
B34: 107㎡ | C34: =107*D34 -> 48364 | D34: 452 | G34: =D34/$D$35 -> 0.28356336
B35: SUM | C35: =SUM(C29:C34) -> 134376 | D35: =SUM(D29:D34) -> 1594 | E35: =SUM(E30:E34) -> 0 | F35: =SUM(F30:F34) -> 0 | G35: =SUM(G29:G34) -> 1
A37: 총 프 리 미 엄 (비례율 100%기준) | B37: 평형별(전용)\ | C37: (예상)조합원평당분양가 | D37: (예상)일반평당분양가 | E37: 일반분양가대비 | F37: 현재 인근평당시세 | G37: 인근시세대비 | H37: 비고
B38: 52㎡ | E38: =(D38-C38)*25 -> 0 | G38: =(F38-C38)*25 -> 0
B39: 78㎡ | E39: =(D39-C39)*25 -> 0 | G39: =(F39-C39)*25 -> 0
B40: 75A㎡ | E40: =(D40-C40)*25 -> 0 | G40: =(F40-C40)*25 -> 0
B41: 75B㎡ | E41: =(D41-C41)*30 -> 0 | G41: =(F41-C41)*30 -> 0
B42: 84㎡ | C42: =F42*70% -> 15414000 | D42: =F42-200 -> 22019800 | E42: =(D42-C42)*30 -> 1.98174e+08 | F42: 22020000 | G42: =(F42-C42)*30 -> 1.9818e+08 | H42: 서면아이파크1단지
B43: 107㎡ | E43: =(D43-C43)*34 -> 0 | G43: =(F43-C43)*34 -> 0
A45: 수 익 (현재기준) | B45: 평형별(전용) | C45: (예상)매매프리미엄 (대지 : 공시지가x130%) (건물 : 연면적평x130만원) (공동주택 : 공동주택가격x150%) | D45: 일반분양가 대비 총 프리미엄 | E45: 가상일반분양가 대비 수익 | F45: 인근시세 대비 총프리미엄 | G45: 인근시세 대비 수익 | H45: 총구매평당가 | I45: PPR (Premium to price Ratio) (100%일 때 적정) (100% 이상 : 과평가 (100% 이하 : 저평가)
B46: 52㎡ | D46: =E38 -> 0 | E46: =D46-C46 -> 0 | F46: =G38 -> 0 | G46: =F46-C46 -> 0
B47: 78㎡ | D47: =E39 -> 0 | E47: =D47-C47 -> 0 | F47: =G39 -> 0 | G47: =F47-C47 -> 0
B48: 75A㎡ | D48: =E40 -> 0 | E48: =D48-C48 -> 0 | F48: =G40 -> 0 | G48: =F48-C48 -> 0
B49: 75B㎡ | D49: =E41 -> 0 | E49: =D49-C49 -> 0 | F49: =G41 -> 0 | G49: =F49-C49 -> 0
B50: 84㎡ | C50: 350000000 | D50: =E42 -> 1.98174e+08 | E50: =D50-C50 -> -1.51826e+08 | F50: =G42 -> 1.9818e+08 | G50: =F50-C50 -> -1.5182e+08 | H50: =(C50+(C42*34))/34 -> 25708118 | I50: =H50/F42 -> 1.1674894
B51: 107㎡ | D51: =E43 -> 0 | E51: =D51-C51 -> 0 | F51: =G43 -> 0 | G51: =F51-C51 -> 0
A53: 시 세 T R E N D | B53: 기간 | C53: 총구매 평당가(만원) | D53: Graph
B54: 20년01월~20년03월 | C54: 2000
B55: 20년04월~20년06월 | C55: 2600
B56: 20년07월~20년09월 | C56: 2600
B57: 20년10월~20년12월 | C57: 2571
B58: 21년01월~21년03월 | C58: =H50/10000 -> 2570.8118
B59: 21년04월~21년06월
B60: 21년07월~21년09월
B61: 21년10월~21년12월
B62: 22년01월~22년03월
B63: 22년04월~22년06월
B64: 22년07월~22년09월
B65: 22년10월~22년12월
B66: 2030년(완공시)
A67: 특징 | B67: ♦ 부산의 중심도심으로 부산 핵심 지하철 1호선 범일역역의 바로 옆에 있는 초역세권이며 부산 전역을 오가는 버스 노선이 있음.
B68: ♦ 현대백화점 부산점과 맞닿아 있어서 백화점을 내 아파트의 상가처럼 이용할 수 있는 장점을 가지고 있고,
B69: 부산진시장,ㅊ평화시장 등이 있다.
B70: ♦ 부산 최대 오피스텔 밀집 지역인 서면과 중앙동이 불과 3분~5분이면 접근이 가능하고 부산역 역시도 가깝습니다.
B71: ♦ 상업지역에 건축되기에 사업성이 높을 것으로 예상되고 현재 추진위에서 발표한 비례율이 135%으로 높다.
B72: ♦ 부산대개조사업의 일환으로 진행되는 경부선 지하화와 함께 현 철로가 공원화 되면 본격적 시세 상승이 가능한 구역입니다.
B73: (가야~부산진 4.3Km 지하화 완료 기간 : ~ 2030년)

Sheet 망미2구역
A1: 망미2구역
A2: 사 업 개 요 | B2: 단지명 | C2: 미정
B3: 구역명 | C3: 망미2주택재개발
B4: 위치 | C4: 부산시 수영구 망미동 800지 일원
B5: 구역면적 ㎡ | C5: 135079 | D5: 조합원세대당 대지 평수 | F5: =C5*0.3025/C7 -> 51.076747 | G5: 기준 : 25평 이상일 것.
B6: 동수 | C6: 22
B7: 조합원세대수(약) | C7: 800 | D7: 조합원분양률 | E7: =C7/C9 -> 0.28776978
B8: 일반분양세대수 | C8: =C9-C7 -> 1980 | D8: 일반분양률 | E8: =C8/C9 -> 0.71223022 | F8: 기준 : 50% 이상일 것. (재건축 30% 이상)
B9: 총세대수(약) | C9: 2780
B10: 건페율 | C10: 0.1483 | D10: 건축면적 ㎡ | E10: 11126.39 | F10: 계산 층수 | G10: =E11/E10 -> 25.532295
B11: 용적률 | C11: 2.7268 | D11: 연면적 ㎡ | E11: 284082.27 | F11: 전용면적 기준 | G11: =E11*76% -> 215902.53
B12: 건축규모 | C12: 지하3층, 지상 최고 35층 | F12: 세대구성 총연면적 대비 | H12: =G11/C37 -> 1.007746
B13: 시공사 | C13: 대림건설 | F13: 기준 : 세대구성 총연면적보다 클 것.
B14: 비례율(임의) | C14: 미정
B15: 비고
A18: 추 진 현 황 | B18: 구역지정 | C18: 2007.02.14
B19: 추진위원회승인 | C19: 2006.06.07
B20: 조합설립 | C20: 2007.06.29
B21: 사업시행인가 | C21: 2008.11.28
C22: 소송중
B23: 관리처분계획 | C23: 미정
B24: 이주.철거 | C24: 미정
B25: 일반분양 | C25: 미정
B26: 준공 | C26: 미정
A28: 세 대 구 성 (임의) | B28: 평형별(전용) | C28: 총연면적 | D28: 총세대수 | E28: 일반 | F28: 조합원 | G28: 점유율 | H28: 비고
B29: 39㎡ | C29: =39*D29 -> 5460 | D29: 140 | G29: =D29/$D$37 -> 0.050359712 | H29: 임대
B30: 59㎡ | C30: =59*D30 -> 39943 | D30: 677 | G30: =D30/$D$37 -> 0.24352518
B31: 74㎡ | C31: =74*D31 -> 17094 | D31: 231 | G31: =D31/$D$37 -> 0.083093525
B32: 84A㎡ | C32: =84*D32 -> 78624 | D32: 936 | G32: =D32/$D$37 -> 0.33669065
B33: 84B㎡ | C33: =84*D33 -> 10080 | D33: 120 | G33: =D33/$D$37 -> 0.043165468
B34: 84C㎡ | C34: =84*D34 -> 30912 | D34: 368 | G34: =D34/$D$37 -> 0.1323741
B35: 99㎡ | C35: =99*D35 -> 18018 | D35: 182 | G35: =D35/$D$37 -> 0.065467626
B36: 112㎡ | C36: =112*D36 -> 14112 | D36: 126 | G36: =D36/$D$37 -> 0.045323741
B37: SUM | C37: =SUM(C29:C36) -> 214243 | D37: =SUM(D29:D36) -> 2780 | E37: =SUM(E31:E36) -> 0 | F37: =SUM(F31:F36) -> 0 | G37: =SUM(G29:G36) -> 1
A39: 총 프 리 미 엄 (비례율 100%기준) | B39: 평형별(전용)\ | C39: (예상)조합원평당분양가 | D39: (예상)일반평당분양가 | E39: 일반분양가대비 | F39: 현재 인근평당시세 | G39: 인근시세대비 | H39: 비고
B40: 39㎡ | E40: =(D40-C40)*25 -> 0 | G40: =(F40-C40)*25 -> 0
B41: 59㎡ | E41: =(D41-C41)*25 -> 0 | G41: =(F41-C41)*25 -> 0
B42: 74㎡ | E42: =(D42-C42)*25 -> 0 | G42: =(F42-C42)*25 -> 0
B43: 84A㎡ | C43: =F43*70% -> 16464000 | D43: =F43-2000000 -> 21520000 | E43: =(D43-C43)*30 -> 1.5168e+08 | F43: 23520000 | G43: =(F43-C43)*30 -> 2.1168e+08 | H43: 수영SK뷰
B44: 84B㎡ | E44: =(D44-C44)*30 -> 0 | G44: =(F44-C44)*30 -> 0
B45: 84C㎡ | E45: =(D45-C45)*30 -> 0 | G45: =(F45-C45)*30 -> 0
B46: 99㎡ | E46: =(D46-C46)*30 -> 0 | G46: =(F46-C46)*30 -> 0
B47: 112㎡ | E47: =(D47-C47)*34 -> 0 | G47: =(F47-C47)*30 -> 0
A49: 수 익 (현재기준) | B49: 평형별(전용) | C49: (예상)매매프리미엄 (대지 : 공시지가x130%) (건물 : 연면적평x130만원) (공동주택 : 공동주택가격x150%) | D49: 일반분양가 대비 총 프리미엄 | E49: 가상일반분양가 대비 수익 | F49: 인근시세 대비 총프리미엄 | G49: 인근시세 대비 수익 | H49: 총구매평당가 | I49: PPR (Premium to price Ratio) (100%일 때 적정) (100% 이상 : 과평가 (100% 이하 : 저평가)
B50: 39㎡ | D50: =E40 -> 0 | E50: =D50-C50 -> 0 | F50: =G40 -> 0 | G50: =F50-C50 -> 0
B51: 59㎡ | D51: =E41 -> 0 | E51: =D51-C51 -> 0 | F51: =G41 -> 0 | G51: =F51-C51 -> 0
B52: 74㎡ | D52: =E42 -> 0 | E52: =D52-C52 -> 0 | F52: =G42 -> 0 | G52: =F52-C52 -> 0
B53: 84A㎡ | C53: 400000000 | D53: =E43 -> 1.5168e+08 | E53: =D53-C53 -> -2.4832e+08 | F53: =G43 -> 2.1168e+08 | G53: =F53-C53 -> -1.8832e+08 | H53: =(C53+(C43*34))/34 -> 28228706 | I53: =H53/F43 -> 1.2002001
B54: 84B㎡ | D54: =E44 -> 0 | E54: =D54-C54 -> 0 | F54: =G44 -> 0 | G54: =F54-C54 -> 0
B55: 84C㎡ | D55: =E45 -> 0 | E55: =D55-C55 -> 0 | F55: =G45 -> 0 | G55: =F55-C55 -> 0
B56: 99㎡ | D56: =E46 -> 0 | E56: =D56-C56 -> 0 | F56: =G46 -> 0 | G56: =F56-C56 -> 0
B57: 112㎡ | D57: =E47 -> 0 | E57: =D57-C57 -> 0 | F57: =G47 -> 0 | G57: =F57-C57 -> 0
A59: 시 세 T R E N D | B59: 기간 | C59: 총구매 평당가(만원) | D59: Graph
B60: 20년01월~20년03월 | C60: 1426
B61: 20년04월~20년06월 | C61: 2110
B62: 20년07월~20년09월 | C62: 2191
B63: 20년10월~20년12월 | C63: 2823
B64: 21년01월~21년03월 | C64: =H53/10000 -> 2822.8706
B65: 21년04월~21년06월
B66: 21년07월~21년09월
B67: 21년10월~21년12월
B68: 22년01월~22년03월
B69: 22년04월~22년06월
B70: 22년07월~22년09월
B71: 22년10월~22년12월
B72: 2030년(완공시)
A73: 특징

Sheet 용호2구역
A1: 용호2구역
A2: 사 업 개 요 | B2: 단지명 | C2: 푸르지오
B3: 구역명 | C3: 용호2주택재개발정비구역
B4: 위치 | C4: 용호3동 434번지 일원
B5: 용도지역 | C5: 제3종일반주거지역
B6: 대지면적 ㎡
B7: 구역면적 ㎡ | C7: 51305 | D7: 조합원세대당 대지지분 (평) | F7: =C7*0.3025/C9 -> 33.738614 | G7: 기준 : 25평 이상일 것.
B8: 동수 | C8: 8
B9: 조합원세대수(약) | C9: 460 | D9: 조합원분양률 | E9: =C9/C11 -> 0.4418828
B10: 일반분양세대수 | C10: =C11-C9 -> 581 | D10: 일반분양률 | E10: =C10/C11 -> 0.5581172 | F10: 기준 : 50% 이상일 것. (재건축 30% 이상)
B11: 총세대수(약) | C11: 1041 | D11: (임대 ?세대 포함)
B12: 건페율 | C12: 0.1567 | D12: 건축면적 ㎡ | E12: =C7*C12 -> 8039.4935 | F12: 계산 층수 | G12: =E13/E12 -> 16.932355
B13: 용적률 | C13: 2.6533 | D13: 연면적 ㎡ | E13: =C7*C13 -> 136127.56 | F13: 전용면적 기준 | G13: =E13*76% -> 103456.94
B14: 건축규모 | C14: 10개동/지하4층 / 지상34층 | F14: 세대구성 총연면적 대비 | H14: =G13/C35 -> 1.3465871
B15: 시공사 | C15: 대우건설 | F15: 기준 : 세대구성 총연면적보다 클 것.
B16: 비례율(임의)
B17: 비고 | C17: 조합연락처 | D17: 051-628-1217
A20: 추 진 현 황 | B20: 최초 구역지정 | C20: 2008.05.21
B21: 최초 조합설립 | C21: 2008.09.17
B22: 사업시행인가 | C22: 2019년 예정
B23: 관리처분인가 | C23: 2020년 예정
B24: 이주 | C24: 2021년 예정
B25: 철거 | C25: 2022년 예정
B26: 일반분양 | C26: 2023년 예정
B27: 준공 | C27: 2026년 예정
A30: 세 대 구 성 | B30: 평형별(전용) | C30: 총연면적 | D30: 총세대수 | E30: 일반 | F30: 조합원 | G30: 보류 | H30: 점유율
B31: 39(임대) | C31: =39*D31 -> 2223 | D31: 57 | E31: - | F31: - | G31: - | H31: =D31/$D$35 -> 0.054755043
B32: 59(25평) | C32: =59*D32 -> 19647 | D32: 333 | H32: =D32/$D$35 -> 0.31988473
B33: 84(34평) | C33: =84*D33 -> 54264 | D33: 646 | H33: =D33/$D$35 -> 0.62055716
B34: 139(57평) | C34: =139*D34 -> 695 | D34: 5 | H34: =D34/$D$35 -> 0.004803074
B35: SUM | C35: =SUM(C31:C34) -> 76829 | D35: =SUM(D31:D34) -> 1041 | E35: =SUM(E31:E34) -> 0 | F35: =SUM(F31:F34) -> 0 | G35: =SUM(G31:G34) -> 0 | H35: =SUM(H31:H34) -> 1
A37: (현재 예상) 총 프 리 미 엄 (비례율 100%기준) | B37: 평형별 | C37: (예상)조합원평당분양가 | D37: (예상)일반평당분양가 | E37: 일반분양가대비 | F37: 현재 인근평당시세 | G37: 인근시세대비 | H37: 비고
B38: 39(임대) | C38: - | D38: - | E38: =(D38-C38)*17 -> #VALUE! | F38: - | G38: =(F38-C38)*17 -> #VALUE! | H38: 임대
B39: 59(25평) | E39: =(D39-C39)*25 -> 0 | G39: =(F39-C39)*25 -> 0
B40: 84(34평) | C40: =F40*70% -> 10381000 | D40: =F40-2000000 -> 12830000 | E40: =(D40-C40)*34 -> 83266000 | F40: 14830000 | G40: =(F40-C40)*34 -> 151266000 | H40: 데시앙헬링턴플레이스파크시티
B41: 139(57평) | E41: =(D41-C41)*57 -> 0 | G41: =(F41-C41)*57 -> 0
A48: 수 익 (현재기준) | B48: 평형별(전용) | C48: (예상)매매프리미엄 (대지 : 공시지가x130%) (건물 : 연면적평x130만원) (공동주택 : 공동주택가격x150%) | D48: 일반분양가 대비 총 프리미엄 | E48: 일반분양가 대비 수익 | F48: 인근시세 대비 총프리미엄 | G48: 인근시세 대비 수익 | H48: 총구매평당가 | I48: PPR (Premium to price Ratio) (100%일 때 적정) (100% 이상 : 과평가 (100% 이하 : 저평가)
B49: 39(임대) | C49: - | D49: =E38 -> #VALUE! | E49: =D49-C49 -> #VALUE! | F49: =G38 -> #VALUE! | G49: =F49-C49 -> #VALUE! | H49: 임대
B50: 59(25평) | D50: =E39 -> 0 | E50: =D50-C50 -> 0 | F50: =G39 -> 0 | G50: =F50-C50 -> 0
B51: 84(34평) | C51: 250000000 | D51: =E40 -> 83266000 | E51: =D51-C51 -> -166734000 | F51: =G40 -> 151266000 | G51: =F51-C51 -> -98734000 | H51: =(C51+(C40*34))/34 -> 17733941 | I51: =H51/F40 -> 1.1958153
B52: 139(57평) | D52: =E41 -> 0 | E52: =D52-C52 -> 0 | F52: =G41 -> 0 | G52: =F52-C52 -> 0
D53: =E42 -> 0 | E53: =D53-C53 -> 0 | F53: =G42 -> 0 | G53: =F53-C53 -> 0
D54: =E43 -> 0 | E54: =D54-C54 -> 0 | F54: =G43 -> 0 | G54: =F54-C54 -> 0
D55: =E44 -> 0 | E55: =D55-C55 -> 0 | F55: =G44 -> 0 | G55: =F55-C55 -> 0
D56: =E45 -> 0 | E56: =D56-C56 -> 0 | F56: =G45 -> 0 | G56: =F56-C56 -> 0
D57: =E46 -> 0 | E57: =D57-C57 -> 0 | F57: =G46 -> 0 | G57: =F57-C57 -> 0
A58: 시 세 T R E N D | B58: 기간 | C58: 총구매 평당가(만원) | D58: Graph
B59: 2019년 | C59: 1200
B60: 20년01월~20년03월 | C60: 1250
B61: 20년04월~20년06월 | C61: 1270
B62: 20년07월~20년09월 | C62: 1412
B63: 20년10월~20년12월 | C63: 1656
B64: 21년01월~21년03월 | C64: =H51/10000 -> 1773.3941
B65: 21년04월~21년05월
B66: 21년06월~21년09월
B67: 21년10월~21년12월
B68: 2027년(완공시)
A70: 특징 | B70: ♦ 부경대역 <->용호동 어귀삼거리 트램 실증노선 신설됨. (2021년 착공 예정, 2023년 완공 예정)

Sheet 감천2구역
A1: 감천2구역
A2: 사 업 개 요 | B2: 단지명 | C2: 가칭 힐스테이트 오션스카이
B3: 구역명 | C3: 감천2주택재개발정비구역
B4: 위치 | C4: 사하구 감천1동 202번지 일원
B5: 용도지역 | C5: 제3종일반주거지역
B6: 대지면적 ㎡
B7: 구역면적 ㎡ | C7: 134823 | D7: 조합원세대당 대지지분 (평) | F7: =C7*0.3025/C9 -> 45.315508 | G7: 기준 : 25평 이상일 것.
B8: 동수 | C8: 21
B9: 조합원세대수(약) | C9: 900 | D9: 조합원분양률 | E9: =C9/C11 -> 0.39491005
B10: 일반분양세대수 | C10: =C11-C9 -> 1379 | D10: 일반분양률 | E10: =C10/C11 -> 0.60508995 | F10: 기준 : 50% 이상일 것. (재건축 30% 이상)
B11: 총세대수(약) | C11: 2279 | D11: (임대 ?세대 포함)
B12: 건페율 | C12: 0.1533 | D12: 건축면적 ㎡ | E12: =C7*C12 -> 20668.366 | F12: 계산 층수 | G12: =E13/E12 -> 17.013699
B13: 용적률 | C13: 2.6082 | D13: 연면적 ㎡ | E13: =C7*C13 -> 351645.35 | F13: 전용면적 기준 | G13: =E13*76% -> 267250.46
B14: 건축규모 | C14: 지하4층 / 지상36층 | F14: 세대구성 총연면적 대비 | H14: =G13/C40 -> 1.5251236
B15: 시공사 | C15: 현대건설(일반분양형) | F15: 기준 : 세대구성 총연면적보다 클 것.
B16: 비례율(임의) | C16: 미정
B17: 비고
A20: 추 진 현 황 | B20: 최초 구역지정 | C20: 2006.08.11
B21: 최초 조합설립 | C21: 2006.08.11
B22: 사업시행인가 | C22: 2007.05.16
B23: 시공사 변겅 | C23: 2019.12.21
B24: 관리처분인가 | C24: 2022년 예정
B25: 이주 | C25: 2023년 예정
B26: 철거 | C26: 2024년 예정
B27: 일반분양 | C27: 2025년 예정
B28: 준공 | C28: 2028년 예정
A30: 세 대 구 성 | B30: 평형별(전용) | C30: 총연면적 | D30: 총세대수 | E30: 일반 | F30: 조합원 | G30: 보류 | H30: 점유율
B31: 39(임대) | C31: =39*D31 -> 7722 | D31: 198 | E31: - | F31: - | G31: - | H31: =D31/$D$40 -> 0.086880211
B32: 49 | C32: =49*D32 -> 9702 | D32: 198 | H32: =D32/$D$40 -> 0.086880211
B33: 59 | C33: =59*D33 -> 15576 | D33: 264 | H33: =D33/$D$40 -> 0.11584028
B34: 84A | C34: =84*D34 -> 78792 | D34: 938 | H34: =D34/$D$40 -> 0.41158403
B35: 84B | C35: =84*D35 -> 24444 | D35: 291 | H35: =D35/$D$40 -> 0.12768758
B36: 84C | C36: =84*D36 -> 15624 | D36: 186 | H36: =D36/$D$40 -> 0.081614743
B37: 98 | C37: =98*D37 -> 980 | D37: 10 | H37: =D37/$D$40 -> 0.0043878894
B38: 114 | C38: =114*D38 -> 21432 | D38: 188 | H38: =D38/$D$40 -> 0.082492321
B39: 160 | C39: =160*D39 -> 960 | D39: 6 | H39: =D39/$D$40 -> 0.0026327337
B40: SUM | C40: =SUM(C31:C39) -> 175232 | D40: =SUM(D31:D39) -> 2279 | E40: =SUM(E31:E39) -> 0 | F40: =SUM(F31:F39) -> 0 | G40: =SUM(G31:G39) -> 0 | H40: =D40/$D$40 -> 1
A42: (현재 예상) 총 프 리 미 엄 (비례율 100%기준) | B42: 평형별 | C42: (예상)조합원평당분양가 | D42: (예상)일반평당분양가 | E42: 일반분양가대비 | F42: 현재 인근평당시세 | G42: 인근시세대비 | H42: 비고
B43: 39(임대) | C43: - | D43: - | E43: =(D43-C43)*17 -> #VALUE! | F43: - | G43: =(F43-C43)*17 -> #VALUE! | H43: 임대
B44: 49 | E44: =(D44-C44)*25 -> 0 | G44: =(F44-C44)*25 -> 0
B45: 59 | E45: =(D45-C45)*34 -> 0 | G45: =(F45-C45)*34 -> 0
B46: 84A | C46: 8200000 | D46: 11000000 | E46: =(D46-C46)*57 -> 159600000 | F46: 9350000 | G46: =(F46-C46)*57 -> 65550000 | H46: 이편한세상사하2차
B47: 84B | E47: =(D47-C47)*57 -> 0 | G47: =(F47-C47)*57 -> 0
B48: 84C | E48: =(D48-C48)*57 -> 0 | G48: =(F48-C48)*57 -> 0
B49: 98 | E49: =(D49-C49)*57 -> 0 | G49: =(F49-C49)*57 -> 0
B50: 114 | E50: =(D50-C50)*57 -> 0 | G50: =(F50-C50)*57 -> 0
B51: 160 | E51: =(D51-C51)*57 -> 0 | G51: =(F51-C51)*57 -> 0
A53: 수 익 (현재기준) | B53: 평형별(전용) | C53: (예상)매매프리미엄 (대지 : 공시지가x130%) (건물 : 연면적평x130만원) (공동주택 : 공동주택가격x150%) | D53: 일반분양가 대비 총 프리미엄 | E53: 일반분양가 대비 수익 | F53: 인근시세 대비 총프리미엄 | G53: 인근시세 대비 수익 | H53: 총구매평당가 | I53: PPR (Premium to price Ratio) (100%일 때 적정) (100% 이상 : 과평가 (100% 이하 : 저평가)
B54: 39(임대) | C54: - | D54: =E43 -> #VALUE! | E54: =D54-C54 -> #VALUE! | F54: =G43 -> #VALUE! | G54: =F54-C54 -> #VALUE! | H54: 임대
B55: 49 | D55: =E44 -> 0 | E55: =D55-C55 -> 0 | F55: =G44 -> 0 | G55: =F55-C55 -> 0
B56: 59 | D56: =E45 -> 0 | E56: =D56-C56 -> 0 | F56: =G45 -> 0 | G56: =F56-C56 -> 0
B57: 84A | C57: 130000000 | D57: =E46 -> 159600000 | E57: =D57-C57 -> 29600000 | F57: =G46 -> 65550000 | G57: =F57-C57 -> -64450000 | H57: =(C57+(C46*34))/34 -> 12023529 | I57: =H57/F46 -> 1.285939
B58: 84B | D58: =E47 -> 0 | E58: =D58-C58 -> 0 | F58: =G47 -> 0 | G58: =F58-C58 -> 0
B59: 84C | D59: =E48 -> 0 | E59: =D59-C59 -> 0 | F59: =G48 -> 0 | G59: =F59-C59 -> 0
B60: 98 | D60: =E49 -> 0 | E60: =D60-C60 -> 0 | F60: =G49 -> 0 | G60: =F60-C60 -> 0
B61: 114 | D61: =E50 -> 0 | E61: =D61-C61 -> 0 | F61: =G50 -> 0 | G61: =F61-C61 -> 0
B62: 160 | D62: =E51 -> 0 | E62: =D62-C62 -> 0 | F62: =G51 -> 0 | G62: =F62-C62 -> 0
A63: 시 세 T R E N D | B63: 기간 | C63: 총구매 평당가(만원) | D63: Graph
B64: 2019년 | C64: 1000
B65: 20년01월~20년03월 | C65: 1000
B66: 20년04월~20년06월 | C66: 1200
B67: 20년07월~20년09월 | C67: 1100
B68: 20년10월~20년12월 | C68: 1202
B69: 21년01월~21년03월 | C69: =H57/10000 -> 1202.3529
B70: 21년04월~21년05월
B71: 21년06월~21년09월
B72: 21년10월~21년12월
B73: 2027년(완공시)
A75: 특징

Sheet 영도5구역
A1: 영도5구역
A2: 사 업 개 요 | B2: 단지명 | C2: 미정
B3: 구역명 | C3: 영도1재정비촉진5구역
B4: 위치 | C4: 영도구 신선동3가 89-21번지 일원
B5: 용도지역 | C5: 제3종일반주거지역
B6: 대지면적 ㎡ | C6: 255359.7
B7: 구역면적 ㎡ | C7: 255359.7 | D7: 조합원세대당 대지지분 (평) | F7: =C7*0.3025/C9 -> 28.609744 | G7: 기준 : 25평 이상일 것.
B8: 동수 | C8: 미정
B9: 조합원세대수(약) | C9: 2700 | D9: 조합원분양률 | E9: =C9/C11 -> 0.61503417
B10: 일반분양세대수 | C10: =C11-C9 -> 1690 | D10: 일반분양률 | E10: =C10/C11 -> 0.38496583 | F10: 기준 : 50% 이상일 것. (재건축 30% 이상)
B11: 총세대수(약) | C11: 4390 | D11: (임대 세대 포함)
B12: 건페율 | C12: 미정 | D12: 건축면적 ㎡ | E12: =C7*C12 -> #VALUE! | F12: 계산 층수 | G12: =E13/E12 -> #VALUE!
B13: 용적률 | C13: 미정 | D13: 연면적 ㎡ | E13: =C7*C13 -> #VALUE! | F13: 전용면적 기준 | G13: =E13*76% -> #VALUE!
B14: 건축규모 | C14: 미정 | F14: 세대구성 총연면적 대비 | H14: =G13/C35 -> #VALUE!
B15: 시공사 | C15: 현대건설 + 현대엔지니어링 | F15: 기준 : 세대구성 총연면적보다 클 것.
B16: 비례율(임의)
B17: 비고
A20: 추 진 현 황 | B20: 최초 구역지정 | C20: 2013.12.11
B21: 최초 조합설립 | C21: 2018.02.27
B22: 사업시행인가 | C22: 2021년 예정
B23: 관리처분인가 | C23: 2023년 예정
B24: 이주 | C24: 2024년 예정
B25: 철거 | C25: 2025년 예정
B26: 일반분양 | C26: 2026년 예정
B27: 준공 | C27: 2030년 예정
A30: 세 대 구 성 | B30: 평형별(전용) | C30: 총연면적 | D30: 총세대수 | E30: 일반 | F30: 조합원 | G30: 보류 | H30: 점유율
E31: - | F31: - | G31: - | H31: =D31/$D$35 -> #DIV/0!
H32: =D32/$D$35 -> #DIV/0!
H33: =D33/$D$35 -> #DIV/0!
H34: =D34/$D$35 -> #DIV/0!
B35: SUM | C35: =SUM(C31:C34) -> 0 | D35: =SUM(D31:D34) -> 0 | E35: =SUM(E31:E34) -> 0 | F35: =SUM(F31:F34) -> 0 | G35: =SUM(G31:G34) -> 0 | H35: =SUM(H31:H34) -> #DIV/0!
A37: (현재 예상) 총 프 리 미 엄 (비례율 100%기준) | B37: 평형별 | C37: (예상)조합원평당분양가 | D37: (예상)일반평당분양가 | E37: 일반분양가대비 | F37: 현재 인근평당시세 | G37: 인근시세대비 | H37: 비고
C38: - | D38: - | E38: =(D38-C38)*17 -> #VALUE! | F38: - | G38: =(F38-C38)*17 -> #VALUE! | H38: 임대
E39: =(D39-C39)*25 -> 0 | G39: =(F39-C39)*25 -> 0
B40: 84(34평) | C40: =F40*70% -> 12831000 | D40: =F40-2000000 -> 16330000 | E40: =(D40-C40)*34 -> 118966000 | F40: 18330000 | G40: =(F40-C40)*34 -> 186966000 | H40: 동삼동오션시티푸르지오
E41: =(D41-C41)*57 -> 0 | G41: =(F41-C41)*57 -> 0
A48: 수 익 (현재기준) | B48: 평형별(전용) | C48: (예상)매매프리미엄 (대지 : 공시지가x130%) (건물 : 연면적평x130만원) (공동주택 : 공동주택가격x150%) | D48: 일반분양가 대비 총 프리미엄 | E48: 일반분양가 대비 수익 | F48: 인근시세 대비 총프리미엄 | G48: 인근시세 대비 수익 | H48: 총구매평당가 | I48: PPR (Premium to price Ratio) (100%일 때 적정) (100% 이상 : 과평가 (100% 이하 : 저평가)
C49: - | D49: =E38 -> #VALUE! | E49: =D49-C49 -> #VALUE! | F49: =G38 -> #VALUE! | G49: =F49-C49 -> #VALUE! | H49: 임대
D50: =E39 -> 0 | E50: =D50-C50 -> 0 | F50: =G39 -> 0 | G50: =F50-C50 -> 0
B51: 84(34평) | C51: 170000000 | D51: =E40 -> 118966000 | E51: =D51-C51 -> -51034000 | F51: =G40 -> 186966000 | G51: =F51-C51 -> 16966000 | H51: =(C51+(C40*34))/34 -> 17831000 | I51: =H51/F40 -> 0.97277687
D52: =E41 -> 0 | E52: =D52-C52 -> 0 | F52: =G41 -> 0 | G52: =F52-C52 -> 0
D53: =E42 -> 0 | E53: =D53-C53 -> 0 | F53: =G42 -> 0 | G53: =F53-C53 -> 0
D54: =E43 -> 0 | E54: =D54-C54 -> 0 | F54: =G43 -> 0 | G54: =F54-C54 -> 0
D55: =E44 -> 0 | E55: =D55-C55 -> 0 | F55: =G44 -> 0 | G55: =F55-C55 -> 0
D56: =E45 -> 0 | E56: =D56-C56 -> 0 | F56: =G45 -> 0 | G56: =F56-C56 -> 0
D57: =E46 -> 0 | E57: =D57-C57 -> 0 | F57: =G46 -> 0 | G57: =F57-C57 -> 0
A58: 시 세 T R E N D | B58: 기간 | C58: 총구매 평당가(만원) | D58: Graph
B59: 2019년 | C59: 938
B60: 20년01월~20년03월 | C60: 1100
B61: 20년04월~20년06월 | C61: 1291
B62: 20년07월~20년09월 | C62: 1232
B63: 20년10월~20년12월 | C63: 1857
B64: 21년01월~21년03월 | C64: =H51/10000 -> 1783.1
B65: 21년04월~21년05월
B66: 21년06월~21년09월
B67: 21년10월~21년12월
B68: 2027년(완공시)
A70: 특징 | B70: ♦ 부경대역 <->용호동 어귀삼거리 트램 실증노선 신설됨. (2021년 착공 예정, 2023년 완공 예정)

Sheet 부민2구역
A1: 부민2구역
A2: 사 업 개 요 | B2: 단지명 | C2: 미정
B3: 구역명 | C3: 부민2 재개발
B4: 위치 | C4: 부민동3가 54 및 아미동2가 126 일원
B5: 용도지역 | C5: 제3종일반주거지역
B6: 대지면적 ㎡ | C6: 64610
B7: 구역면적 ㎡ | C7: 63972 | D7: 조합원세대당 대지지분 (평) | F7: =C7*0.3025/C9 -> 38.70306 | G7: 기준 : 25평 이상일 것.
B8: 동수 | C8: 15
B9: 조합원세대수(약) | C9: 500 | D9: 조합원분양률 | E9: =C9/C11 -> 0.42301184
B10: 일반분양세대수 | C10: =C11-C9 -> 682 | D10: 일반분양률 | E10: =C10/C11 -> 0.57698816 | F10: 기준 : 50% 이상일 것. (재건축 30% 이상)
B11: 총세대수(약) | C11: 1182 | D11: (임대 세대 120 포함)
B12: 건페율 | C12: 0.1888 | D12: 건축면적 ㎡ | E12: =C7*C12 -> 12077.914 | F12: 계산 층수 | G12: =E13/E12 -> 11.433792
B13: 용적률 | C13: 2.1587 | D13: 연면적 ㎡ | E13: =C7*C13 -> 138096.36 | F13: 전용면적 기준 | G13: =E13*76% -> 104953.23
B14: 건축규모 | C14: 지하3층, 지상24층 | F14: 세대구성 총연면적 대비 | H14: =G13/C38 -> 1.2422265
B15: 시공사 | F15: 기준 : 세대구성 총연면적보다 클 것.
B16: 비례율(임의)
B17: 비고 | C17: 조합(추진위원회)연락처 | D17: 051 - 248 - 1245
A20: 추 진 현 황 | B20: 최초 구역지정 | C20: (2020.10월 구역지정 신청 접수 완료)
B21: 추진위원회설립 | C21: 2006.08.03
B22: 최초 조합설립
B23: 사업시행인가
B24: 관리처분인가
B25: 이주
B26: 철거
B27: 일반분양
B28: 준공
A30: 세 대 구 성 | B30: 평형별(전용) | C30: 총연면적 | D30: 총세대수 | E30: 일반 | F30: 조합원 | G30: 보류 | H30: 점유율
B31: 39A | C31: =39*D31 -> 4680 | D31: 120 | H31: =D31/$D$38 -> 0.10152284
B32: 59A | C32: =59*D32 -> 15163 | D32: 257 | H32: =D32/$D$38 -> 0.21742809
B33: 59B | C33: =59*D33 -> 7021 | D33: 119 | H33: =D33/$D$38 -> 0.10067682
B34: 84A | C34: =84*D34 -> 30828 | D34: 367 | H34: =D34/$D$38 -> 0.31049069
B35: 84B | C35: =84*D35 -> 5628 | D35: 67 | H35: =D35/$D$38 -> 0.056683587
B36: 84C | C36: =84*D36 -> 14112 | D36: 168 | H36: =D36/$D$38 -> 0.14213198
B37: 84D | C37: =84*D37 -> 7056 | D37: 84 | H37: =D37/$D$38 -> 0.07106599
B38: SUM | C38: =SUM(C31:C37) -> 84488 | D38: =SUM(D31:D37) -> 1182 | E38: =SUM(E31:E37) -> 0 | F38: =SUM(F31:F37) -> 0 | G38: =SUM(G31:G37) -> 0 | H38: =SUM(H31:H37) -> 1
A40: (현재 예상) 총 프 리 미 엄 (비례율 100%기준) | B40: 평형별 | C40: (예상)조합원평당분양가 | D40: (예상)일반평당분양가 | E40: 일반분양가대비 | F40: 현재 인근평당시세 | G40: 인근시세대비 | H40: 비고
B41: 39A | C41: - | D41: - | E41: =(D41-C41)*17 -> #VALUE! | F41: - | G41: =(F41-C41)*17 -> #VALUE! | H41: 임대
B42: 59A | E42: =(D42-C42)*25 -> 0 | G42: =(F42-C42)*25 -> 0
B43: 59B | E43: =(D43-C43)*34 -> 0 | G43: =(F43-C43)*34 -> 0
B44: 84A | C44: =F44*70% -> 13993000 | D44: =F44-2000000 -> 17990000 | E44: =(D44-C44)*34 -> 135898000 | F44: 19990000 | G44: =(F44-C44)*34 -> 203898000 | H44: 서대신2차푸르지오
B45: 84B
B46: 84C
B47: 84D
A49: 수 익 (현재기준) | B49: 평형별(전용) | C49: (예상)매매프리미엄 (대지 : 공시지가x130%) (건물 : 연면적평x130만원) (공동주택 : 공동주택가격x150%) | D49: 일반분양가 대비 총 프리미엄 | E49: 일반분양가 대비 수익 | F49: 인근시세 대비 총프리미엄 | G49: 인근시세 대비 수익 | H49: 총구매평당가 | I49: PPR (Premium to price Ratio) (100%일 때 적정) (100% 이상 : 과평가 (100% 이하 : 저평가)
B50: 39A | C50: - | D50: =E41 -> #VALUE! | E50: =D50-C50 -> #VALUE! | F50: =G41 -> #VALUE! | G50: =F50-C50 -> #VALUE! | H50: 임대
B51: 59A | D51: =E42 -> 0 | E51: =D51-C51 -> 0 | F51: =G42 -> 0 | G51: =F51-C51 -> 0
B52: 59B | D52: =E43 -> 0 | E52: =D52-C52 -> 0 | F52: =G43 -> 0 | G52: =F52-C52 -> 0 | H52: =(C52+(C43*34))/34 -> 0 | I52: =H53/F44 -> 0.95012506
B53: 84A | C53: 170000000 | D53: =E44 -> 135898000 | E53: =D53-C53 -> -34102000 | F53: =G44 -> 203898000 | G53: =F53-C53 -> 33898000 | H53: =(C53+(C44*34))/34 -> 18993000
B54: 84B | D54: =E45 -> 0 | E54: =D54-C54 -> 0 | F54: =G45 -> 0 | G54: =F54-C54 -> 0
B55: 84C | D55: =E46 -> 0 | E55: =D55-C55 -> 0 | F55: =G46 -> 0 | G55: =F55-C55 -> 0
B56: 84D | D56: =E47 -> 0 | E56: =D56-C56 -> 0 | F56: =G47 -> 0 | G56: =F56-C56 -> 0
A57: 시 세 T R E N D | B57: 기간 | C57: 총구매 평당가(만원) | D57: Graph
B58: 20년10월~20년12월 | C58: 1840
B59: 21년01월~21년03월 | C59: =H53/10000 -> 1899.3
B60: 21년04월~21년06월
B61: 21년07월~21년09월
B62: 21년10월~21년12월
B63: 22년01월~22년03월
B64: 22년04월~22년06월
B65: 22년07월~22년09월
B66: 22년10월~21년12월
B67: 준공시
A69: 특징

Sheet 동삼2구역
A1: 동삼2구역
A2: 사 업 개 요 | B2: 단지명 | C2: 에일린의뜰
B3: 구역명 | C3: 동삼2구역주택재개발
B4: 위치 | C4: 동삼동383번지 일원
B5: 구역면적 ㎡ | C5: 65194 | D5: 조합원세대당 대지 평수 | F5: =C5*0.3025/C7 -> 87.261881 | G5: 기준 : 25평 이상일 것.
B6: 동수 | C6: 8
B7: 조합원세대수 | C7: 226 | D7: 조합원분양률 | E7: =C7/C9 -> 0.19550173
B8: 일반분양세대수 | C8: =C9-C7 -> 930 | D8: 일반분양률 | E8: =C8/C9 -> 0.80449827 | F8: 기준 : 50% 이상일 것. (재건축 30% 이상)
B9: 총세대수 | C9: =1228-72 -> 1156
B10: 건페율 | C10: 0.155 | D10: 건축면적 ㎡ | E10: =C5*C10 -> 10105.07 | F10: 계산 층수 | G10: =E11/E10 -> 17.115484
B11: 용적률 | C11: 2.6529 | D11: 연면적 ㎡ | E11: =C5*C11 -> 172953.16 | F11: 전용면적 기준 | G11: =E11*76% -> 131444.4
B12: 건축규모 | C12: 지하2층/지상35층 | F12: 세대구성 총연면적 대비 | H12: =G11/C36 -> 1.4880723
B13: 시공사 | C13: 아이에스동서 | F13: 기준 : 세대구성 총연면적보다 클 것.
B14: 비례율 | C14: 1.03
A17: 추 진 현 황 | B17: 구역지정 | C17: 2016.11.16
B18: 조합설립 | C18: 2017.08.21
B19: 사업시행 | C19: 2017.02.08
B20: 관리처분계획 | C20: 2017.12.04
B21: 이주 | C21: 2018.07.01
B22: 철거 | C22: 2019년 예정
B23: 일반분양 | C23: 2020년 예정
B24: 준공 | C24: 2023년 예정
A26: 세 대 구 성 | B26: 평형별(전용) | C26: 총연면적 | D26: 총세대수 | E26: 일반 | F26: 조합원 | G26: 점유율 | H26: 비고
B27: 38㎡
B28: 59A㎡ | C28: =59*D28 -> 12390 | D28: 210 | E28: 162 | F28: =D28-E28 -> 48 | G28: =D28/$D$36 -> 0.1816609
B29: 59B㎡ | C29: =59*D29 -> 2478 | D29: 42 | E29: 41 | F29: =D29-E29 -> 1 | G29: =D29/$D$36 -> 0.03633218
B30: 74A㎡ | C30: =74*D30 -> 10360 | D30: 140 | E30: 124 | F30: =D30-E30 -> 16 | G30: =D30/$D$36 -> 0.12110727
B31: 74B㎡ | C31: =74*D31 -> 14356 | D31: 194 | E31: 178 | F31: =D31-E31 -> 16 | G31: =D31/$D$36 -> 0.16782007
B32: 74C㎡ | C32: =74*D32 -> 1628 | D32: 22 | E32: 22 | F32: =D32-E32 -> 0 | G32: =D32/$D$36 -> 0.019031142
B33: 84A㎡ | C33: =84*D33 -> 38808 | D33: 462 | E33: 356 | F33: =D33-E33 -> 106 | G33: =D33/$D$36 -> 0.39965398
B34: 84B㎡ | C34: =84*D34 -> 1848 | D34: 22 | E34: 21 | F34: =D34-E34 -> 1 | G34: =D34/$D$36 -> 0.019031142
B35: 101㎡ | C35: =101*D35 -> 6464 | D35: 64 | E35: 26 | F35: =D35-E35 -> 38 | G35: =D35/$D$36 -> 0.055363322
B36: SUM | C36: =SUM(C28:C35) -> 88332 | D36: =SUM(D28:D35) -> 1156 | E36: =SUM(E28:E35) -> 930 | F36: =SUM(F28:F35) -> 226 | G36: =SUM(G28:G35) -> 1
A38: 총 프 리 미 엄 (비례율 100%기준) | B38: 평형별(전용)\ | C38: (예상)조합원평당분양가 | D38: (예상)일반평당분양가 | E38: 일반분양가대비 | F38: 현재 인근평당시세 | G38: 인근시세대비 | H38: 비고
B39: 59A㎡ | E39: =(D39-C39)*25 -> 0 | G39: =(F39-C39)*25 -> 0
B40: 59B㎡ | E40: =(D40-C40)*25 -> 0 | G40: =(F40-C40)*25 -> 0
B41: 74A㎡ | E41: =(D41-C41)*31 -> 0 | G41: =(F41-C41)*31 -> 0
B42: 74B㎡ | E42: =(D42-C42)*31 -> 0 | G42: =(F42-C42)*31 -> 0
B43: 74C㎡ | E43: =(D43-C43)*31 -> 0 | G43: =(F43-C43)*31 -> 0
B44: 84A㎡ | C44: 8500000 | D44: 12000000 | E44: =(D44-C44)*34 -> 119000000 | F44: 15710000 | G44: =(F44-C44)*34 -> 245140000
B45: 84B㎡ | E45: =(D45-C45)*34 -> 0 | G45: =(F45-C45)*34 -> 0
B46: 101㎡ | E46: =(D46-C46)*39 -> 0 | G46: =(F46-C46)*39 -> 0
A48: 수 익 (현재기준) | B48: 평형별(전용) | C48: (예상)매매프리미엄 (대지 : 공시지가x130%) (건물 : 연면적평x130만원) (공동주택 : 공동주택가격x150%) | D48: 일반분양가 대비 총 프리미엄 | E48: 일반분양가 대비 수익 | F48: 인근시세 대비 총프리미엄 | G48: 인근시세 대비 수익 | H48: 비고
B49: 59A㎡ | C49: - | D49: =E39 -> 0 | E49: =D49-C49 -> #VALUE! | F49: =G39 -> 0 | G49: =F49-C49 -> #VALUE!
B50: 59B㎡ | C50: - | D50: =E40 -> 0 | E50: =D50-C50 -> #VALUE! | F50: =G40 -> 0 | G50: =F50-C50 -> #VALUE!
B51: 74A㎡ | C51: - | D51: =E41 -> 0 | E51: =D51-C51 -> #VALUE! | F51: =G41 -> 0 | G51: =F51-C51 -> #VALUE!
B52: 74B㎡ | C52: - | D52: =E42 -> 0 | E52: =D52-C52 -> #VALUE! | F52: =G42 -> 0 | G52: =F52-C52 -> #VALUE!
B53: 74C㎡ | C53: - | D53: =E43 -> 0 | E53: =D53-C53 -> #VALUE! | F53: =G43 -> 0 | G53: =F53-C53 -> #VALUE!
B54: 84A㎡ | C54: 60000000 | D54: =E44 -> 119000000 | E54: =D54-C54 -> 59000000 | F54: =G44 -> 245140000 | G54: =F54-C54 -> 185140000
B55: 84B㎡ | C55: - | D55: =E45 -> 0 | E55: =D55-C55 -> #VALUE! | F55: =G45 -> 0 | G55: =F55-C55 -> #VALUE!
B56: 101㎡ | C56: - | D56: =E46 -> 0 | E56: =D56-C56 -> #VALUE! | F56: =G46 -> 0 | G56: =F56-C56 -> #VALUE!

Sheet 용호3구역
A1: 용호3구역
A2: 사 업 개 요 | B2: 단지명 | C2: 태영 데시앙
B3: 구역명 | C3: 용호3주택재개발정비구역
B4: 위치 | C4: 용호2동 549번지 일원
B5: 용도지역 | C5: 제3종일반주거지역
B6: 대지면적 ㎡ | C6: 60401.9
B7: 구역면적 ㎡ | C7: 68353.6 | D7: 조합원세대당 대지지분 (평) | F7: =C7*0.3025/C9 -> 29.122485 | G7: 기준 : 25평 이상일 것.
B8: 동수 | C8: 13
B9: 조합원세대수(약) | C9: 710 | D9: 조합원분양률 | E9: =C9/C11 -> 0.4115942
B10: 일반분양세대수 | C10: =C11-C9 -> 1015 | D10: 일반분양률 | E10: =C10/C11 -> 0.5884058 | F10: 기준 : 50% 이상일 것. (재건축 30% 이상)
B11: 총세대수(약) | C11: 1725 | D11: (임대 87세대 포함)
B12: 건페율 | C12: 0.1522 | D12: 건축면적 ㎡ | E12: =C7*C12 -> 10403.418 | F12: 계산 층수 | G12: =E13/E12 -> 17.141919
B13: 용적률 | C13: 2.609 | D13: 연면적 ㎡ | E13: =C7*C13 -> 178334.54 | F13: 전용면적 기준 | G13: =E13*76% -> 135534.25
B14: 건축규모 | C14: 지하4층 / 지상35층 | F14: 세대구성 총연면적 대비 | H14: =G13/C40 -> 1.2271318
B15: 시공사 | C15: 태영(55%)+효성(45%) 컨소시엄 | F15: 기준 : 세대구성 총연면적보다 클 것.
B16: 비례율(임의) | C16: 1.03
B17: 비고 | C17: 조합연락처 | D17: 051-611-9993
C18: 이주비 60% 무이자
A20: 추 진 현 황 | B20: 최초 구역지정 | C20: 2014.12.30
B21: 최초 조합설립 | C21: 2014.12.15
B22: 사업시행인가 | C22: 2017.04.05
B23: 관리처분인가 | C23: 2018.03.07
B24: 이주 | C24: 2018.09.26
B25: 철거 | C25: 현재 철거 중
B26: 일반분양 | C26: 2019년 7월 예정
B27: 준공 | C27: 2022년 예정
A30: 세 대 구 성 | B30: 평형별(전용) | C30: 총연면적 | D30: 총세대수 | E30: 일반 | F30: 조합원 | G30: 보류 | H30: 점유율
B31: 39/18 | C31: =39*D31 -> 3393 | D31: 87 | E31: - | F31: - | G31: - | H31: =D31/$D$40 -> 0.050434783
B32: 59A/25 | C32: =59*D32 -> 45312 | D32: 768 | E32: =D32-F32-G32 -> 603 | F32: 163 | G32: 2 | H32: =D32/$D$40 -> 0.44521739
B33: 59B/25 | C33: =59*D33 -> 13275 | D33: 225 | E33: =D33-F33-G33 -> 223 | F33: 1 | G33: 1 | H33: =D33/$D$40 -> 0.13043478
B34: 73A/30 | C34: =67*D34 -> 8844 | D34: 132 | E34: =D34-F34-G34 -> 2 | F34: 130 | G34: 0 | H34: =D34/$D$40 -> 0.076521739
B35: 73B/30 | C35: =67*D35 -> 9112 | D35: 136 | E35: =D35-F35-G35 -> 30 | F35: 104 | G35: 2 | H35: =D35/$D$40 -> 0.07884058
B36: 73C/30 | C36: =67*D36 -> 4556 | D36: 68 | E36: =D36-F36-G36 -> 49 | F36: 17 | G36: 2 | H36: =D36/$D$40 -> 0.03942029
B37: 84A/34 | C37: =84*D37 -> 10584 | D37: 126 | E37: =D37-F37-G37 -> 1 | F37: 125 | G37: 0 | H37: =D37/$D$40 -> 0.073043478
B38: 84B/34 | C38: =84*D38 -> 5040 | D38: 60 | E38: =D38-F38-G38 -> 1 | F38: 59 | G38: 0 | H38: =D38/$D$40 -> 0.034782609
B39: 84C/34 | C39: =84*D39 -> 10332 | D39: 123 | E39: =D39-F39-G39 -> 1 | F39: 122 | G39: 0 | H39: =D39/$D$40 -> 0.071304348
B40: SUM | C40: =SUM(C31:C39) -> 110448 | D40: =SUM(D31:D39) -> 1725 | E40: =SUM(E31:E39) -> 910 | F40: =SUM(F31:F39) -> 721 | G40: =SUM(G31:G39) -> 7 | H40: =SUM(H31:H39) -> 1
A42: (현재 예상) 총 프 리 미 엄 (비례율 100%기준) | B42: 평형별 | C42: (예상)조합원평당분양가 | D42: (예상)일반평당분양가 | E42: 일반분양가대비 | F42: 현재 인근평당시세 | G42: 인근시세대비 | H42: 비고
B43: 39/18 | C43: - | D43: - | E43: =(D43-C43)*17 -> #VALUE! | F43: - | G43: =(F43-C43)*17 -> #VALUE! | H43: 임대
B44: 59A/25 | C44: =232466000/25 -> 9298640 | D44: 11000000 | E44: =(D44-C44)*25 -> 42534000 | F44: 10300000 | G44: =(F44-C44)*25 -> 25034000 | H44: 인근시세가 예상일반분양가보다 낮음.
B45: 59B/25 | C45: =232466000/25 -> 9298640 | D45: 11000000 | E45: =(D45-C45)*25 -> 42534000 | F45: 10300000 | G45: =(F45-C45)*25 -> 25034000
B46: 73A/30 | C46: =266842000/30 -> 8894733.3 | D46: 11000000 | E46: =(D46-C46)*30 -> 63158000 | F46: 10300000 | G46: =(F46-C46)*30 -> 42158000 | I46: 용호 3구역 시세를 리더할 것임. (완공 후 시세 평당 1200만원 예상)
B47: 73B/30 | C47: =266842000/30 -> 8894733.3 | D47: 11000000 | E47: =(D47-C47)*30 -> 63158000 | F47: 10300000 | G47: =(F47-C47)*30 -> 42158000
B48: 73C/30 | C48: =266842000/30 -> 8894733.3 | D48: 11000000 | E48: =(D48-C48)*30 -> 63158000 | F48: 10300000 | G48: =(F48-C48)*30 -> 42158000
B49: 84A/34 | C49: =301369000/34 -> 8863794.1 | D49: 11000000 | E49: =(D49-C49)*34 -> 72631000 | F49: 10300000 | G49: =(F49-C49)*34 -> 48831000 | H49: 용호예가 인근시세 기준
B50: 84B/34 | C50: =301369000/34 -> 8863794.1 | D50: 11000000 | E50: =(D50-C50)*34 -> 72631000 | F50: 10300000 | G50: =(F50-C50)*34 -> 48831000
B51: 84C/34 | C51: =301369000/34 -> 8863794.1 | D51: 11000000 | E51: =(D51-C51)*34 -> 72631000 | F51: 10300000 | G51: =(F51-C51)*34 -> 48831000
A53: 수 익 (현재기준) | B53: 평형별(전용) | C53: (예상)매매프리미엄 (대지 : 공시지가x130%) (건물 : 연면적평x130만원) (공동주택 : 공동주택가격x150%) | D53: 일반분양가 대비 총 프리미엄 | E53: 일반분양가 대비 수익 | F53: 인근시세 대비 총프리미엄 | G53: 인근시세 대비 수익 | H53: 비고
B54: 39/18 | C54: - | D54: =E43 -> #VALUE! | E54: =D54-C54 -> #VALUE! | F54: =G43 -> #VALUE! | G54: =F54-C54 -> #VALUE! | H54: 임대
B55: 59A/25 | C55: 30000000 | D55: =E44 -> 42534000 | E55: =D55-C55 -> 12534000 | F55: =G44 -> 25034000 | G55: =F55-C55 -> -4966000
B56: 59B/25 | C56: 30000000 | D56: =E45 -> 42534000 | E56: =D56-C56 -> 12534000 | F56: =G45 -> 25034000 | G56: =F56-C56 -> -4966000
B57: 73A/30 | C57: 35000000 | D57: =E46 -> 63158000 | E57: =D57-C57 -> 28158000 | F57: =G46 -> 42158000 | G57: =F57-C57 -> 7158000
B58: 73B/30 | C58: 35000000 | D58: =E47 -> 63158000 | E58: =D58-C58 -> 28158000 | F58: =G47 -> 42158000 | G58: =F58-C58 -> 7158000
B59: 73C/30 | C59: 35000000 | D59: =E48 -> 63158000 | E59: =D59-C59 -> 28158000 | F59: =G48 -> 42158000 | G59: =F59-C59 -> 7158000
B60: 84A/34 | C60: 40000000 | D60: =E49 -> 72631000 | E60: =D60-C60 -> 32631000 | F60: =G49 -> 48831000 | G60: =F60-C60 -> 8831000
B61: 84B/34 | C61: 40000000 | D61: =E50 -> 72631000 | E61: =D61-C61 -> 32631000 | F61: =G50 -> 48831000 | G61: =F61-C61 -> 8831000
B62: 84C/34 | C62: 40000000 | D62: =E51 -> 72631000 | E62: =D62-C62 -> 32631000 | F62: =G51 -> 48831000 | G62: =F62-C62 -> 8831000

Sheet 전포1-1구역
A1: 전포1-1구역
A2: 사 업 개 요 | B2: 단지명 | C2: 이편한세상 전포
B3: 구역명 | C3: 전포1-1구역
B4: 위치 | C4: 전포동 15-2번지 일원
B5: 용도지역 | C5: 제3종일반주거지역
B6: 대지면적 ㎡
B7: 구역면적 ㎡ | C7: 57543.1 | D7: 조합원세대당 대지지분 (평) | F7: =C7*0.3025/C9 -> 38.42558 | G7: 기준 : 25평 이상일 것.
B8: 동수 | C8: 17
B9: 조합원세대수(약) | C9: 453 | D9: 조합원분양률 | E9: =C9/C11 -> 0.3460657
