Workbook

Sheet PPR
A1: 구역명 | B1: 진행단계 | C1: 비교단지 | D1: 현재 인근 평당가 (34평기준) | E1: (예상)평당 조합원분양가 (34평기준) (확정가격 또는 조합의 제시가격 또는 인근 비교 신축 대비 70%) | F1: (예상)현재 프리미엄 (34평 기준) | G1: 현재 입주권 총구매평당가 [(평당 조분가x34평) + 현재프리미엄)]/34 | H1: 현재 입주권 평당가 (-) 현재 인근 평당가 | I1: PPR (Premium to Price Ratio) (100%일 때 적정) (100% 이상 : 과평가 (100% 이하 : 저평가) | J1: 비고 | K1: 2021.01.18
A2: 감만1 | B2: 관리처분총회 전 | C2: 대연파크 | D2: =감만1구역!F44 -> 21760000 | E2: =감만1구역!C44 -> 8940000 | F2: =감만1구역!C55 -> 190000000 | G2: =감만1구역!H55 -> 14528235 | H2: =G2-D2 -> -7231764.7 | I2: =감만1구역!I55 -> 0.66765787 | J2: 뉴스테이(관리처분총회 통과)
A3: 우암2 | B3: 착공 | C3: 대연파크 | D3: =우암2구역!F47 -> 21760000 | E3: =우암2구역!C47 -> 8262647 | F3: =우암2구역!C58 -> 260000000 | G3: =우암2구역!H58 -> 15909706 | H3: =G3-D3 -> -5850294.2 | I3: =우암2구역!I58 -> 0.73114457 | J3: 뉴스테이 (일분전환시도중)
A4: 우암1 | B4: 이주 | C4: 대연파크 | D4: =우암1구역!F47 -> 21760000 | E4: =우암1구역!C47 -> 8080000 | F4: =우암1구역!C57 -> 280000000 | G4: =우암1구역!H57 -> 16315294 | H4: =G4-D4 -> -5444705.9 | I4: =우암1구역!I57 -> 0.74978374 | J4: 일분전환총회통과
A5: 대연3 | B5: 철거 | C5: 롯데개슬레젼드 | D5: =대연3구역!F44 -> 26670000 | E5: =대연3구역!C44 -> 10517147 | F5: =대연3구역!C54 -> 650000000 | G5: =대연3구역!H54 -> 29634794 | H5: =G5-D5 -> 2964794.1 | I5: =대연3구역!I54 -> 1.1111659
A6: 대연4 | B6: 일반분양 준비 | C6: 대연파크 | D6: =대연4구역!F49 -> 21760000 | E6: =대연4구역!C49 -> 9740110.1 | F6: =대연4구역!C60 -> 450000000 | G6: =대연4구역!H60 -> 22975404 | H6: =G6-D6 -> 1215404.2 | I6: =대연4구역!I60 -> 1.055855
A7: 대연8 | B7: 조합설립인가신청 | C7: 대연파크 | D7: =대연8구역!F46 -> 21760000 | E7: =대연8구역!C46 -> 15232000 | F7: =대연8구역!C57 -> 420000000 | G7: =대연8구역!H57 -> 27584941 | H7: =G7-D7 -> 5824941.2 | I7: =대연8구역!I57 -> 1.2676903 | J7: 시공사 선정 준비
A8: 복산1 | B8: 사업시행인가신청 준비 | C8: 명륜자이 | D8: =복산1구역!F49 -> 27500000 | E8: =복산1구역!C49 -> 19250000 | F8: =복산1구역!C61 -> 380000000 | G8: =복산1구역!H61 -> 30426471 | H8: =G8-D8 -> 2926470.6 | I8: =복산1구역!I61 -> 1.1064171 | J8: 지정문화제 변경 허가
A9: 우동3 | B9: 사업시행인가신청 완료 | C9: 해센푸 | D9: =우동3구역!F49 -> 39650000 | E9: =우동3구역!C49 -> 27755000 | F9: =우동3구역!C61 -> 790000000 | G9: =우동3구역!H61 -> 50990294 | H9: =G9-D9 -> 11340294 | I9: =우동3구역!I61 -> 1.2860099 | J9: 조합장 해임 총회 시도
A10: 광안2 | B10: 철거 | C10: 광안자이 | D10: =광안2구역!F43 -> 30290000 | E10: =광안2구역!C43 -> 11647059 | F10: =광안2구역!C53 -> 780000000 | G10: =광안2구역!H53 -> 34588235 | H10: =G10-D10 -> 4298235.3 | I10: =광안2구역!I53 -> 1.1419028
A11: 서금사A | B11: 사업시행인가신청 준비 | C11: 레미안장전 | D11: ='서금사 재정비 촉진A'!F44 -> 34410000 | E11: ='서금사 재정비 촉진A'!C44 -> 24087000 | F11: ='서금사 재정비 촉진A'!C55 -> 770000000 | G11: ='서금사 재정비 촉진A'!H55 -> 46734059 | H11: =G11-D11 -> 12324059 | I11: ='서금사 재정비 촉진A'!I55 -> 1.3581534
A12: 서금사5 | B12: 사업시행인가신청 준비 | C12: 명륜2차아이파크1단지 | D12: ='서금사 재정비 촉진5'!F44 -> 23230000 | E12: ='서금사 재정비 촉진5'!C44 -> 16261000 | F12: ='서금사 재정비 촉진5'!C54 -> 190000000 | G12: ='서금사 재정비 촉진5'!H54 -> 21849235 | H12: =G12-D12 -> -1380764.7 | I12: ='서금사 재정비 촉진5'!I54 -> 0.94056114 | J12: 일반분양률 낮음
A13: 온천4 | B13: 일반분양준비 | C13: 온천2구역(동래아) | D13: =온천4!F63 -> 34410000 | E13: =온천4!C63 -> 10513263 | F13: =온천4!C80 -> 740000000 | G13: =온천4!H80 -> 32277969 | H13: =G13-D13 -> -2132031.1 | I13: =온천4!I80 -> 0.93804036
A14: 양정1 | B14: 일반분양준비 | C14: 연산롯데캐슬골드포레 | D14: =양정1구역!F50 -> 23520000 | E14: =양정1구역!C50 -> 10111000 | F14: =양정1구역!C62 -> 600000000 | G14: =양정1구역!H62 -> 27758059 | H14: =G14-D14 -> 4238058.8 | I14: =양정1구역!I62 -> 1.1801896
A15: 양정2 | B15: 일반분양준비 | C15: 연산롯데캐슬골드포레 | D15: =양정2구역!F50 -> 23520000 | E15: =양정2구역!C50 -> 9555764.7 | F15: =양정2구역!C62 -> 600000000 | G15: =양정2구역!H62 -> 27202824 | H15: =G15-D15 -> 3682823.5 | I15: =양정2구역!I62 -> 1.1565826
A16: 양정3 | B16: 관리처준변경총회 | C16: 연산롯데캐슬골드포레 | D16: =양정3구역!F43 -> 23520000 | E16: =양정3구역!C43 -> 13300000 | F16: =양정3구역!C55 -> 570000000 | G16: =양정3구역!H55 -> 30064706 | H16: =G16-D16 -> 6544705.9 | I16: =양정3구역!I55 -> 1.2782613 | J16: 조합원분양가 조정 완료
A17: 거제2 | B17: 일반분양준비 | C17: 사직롯데캐슬더클래식 | D17: =거제2구역!F52 -> 32940000 | E17: =거제2구역!C52 -> 9445588.2 | F17: =거제2구역!C66 -> 1020000000 | G17: =거제2구역!H66 -> 39445588 | H17: =G17-D17 -> 6505588.2 | I17: =거제2구역!I66 -> 1.1974981 | J17: 일반분양완료
A18: 촉진3 | B18: 특별건축구역지정 준비 | C18: 연지2구역(레미안어반파크) | D18: =시민공원촉진3구역!F40 -> 27290000 | E18: =시민공원촉진3구역!C40 -> 19103000 | F18: =시민공원촉진3구역!C47 -> 870000000 | G18: =시민공원촉진3구역!H47 -> 44691235 | H18: =G18-D18 -> 17401235 | I18: =시민공원촉진3구역!I47 -> 1.6376415 | J18: 특별건축구역지정고시완료
A19: 촉진4 | B19: 특별건축구역지정 준비 | C19: 연지2구역(레미안어반파크) | D19: =시민공원촉진4구역!F43 -> 27290000 | E19: =시민공원촉진4구역!C43 -> 19103000 | F19: =시민공원촉진4구역!C51 -> 400000000 | G19: =시민공원촉진4구역!H51 -> 30867706 | H19: =G19-D19 -> 3577705.9 | I19: =시민공원촉진4구역!I49 -> 1.1310995 | J19: 특별건축구역지정고시완료
A20: 가야1 | B20: 사업시행인가신청 준비 | C20: 가야3구역(롯데개슬골드아너) | D20: =가야1구역!F43 -> 24280000 | E20: =가야1구역!C43 -> 16996000 | F20: =가야1구역!C51 -> 340000000 | G20: =가야1구역!H51 -> 26996000 | H20: =G20-D20 -> 2716000 | I20: =가야1구역!I51 -> 1.1118616
A21: 범천4 | B21: 사업시행인가신청 준비 | C21: 서면롯데캐슬엘루체 | D21: =범천4구역!F44 -> 26510000 | E21: =범천4구역!C44 -> 18557000 | F21: =범천4구역!C54 -> 290000000 | G21: =범천4구역!H54 -> 27086412 | H21: =G21-D21 -> 576411.76 | I21: =범천4구역!I54 -> 1.0217432 | J21: 정비기지창 이전 예타 통과
A22: 범천1-1 | B22: 철거준비단계 | C22: 서면아이파크1단지 | D22: ='범천1-1구역'!F51 -> 22020000 | E22: ='범천1-1구역'!C51 -> 11369265 | F22: ='범천1-1구역'!C64 -> 620000000 | G22: ='범천1-1구역'!H64 -> 29604559 | H22: =G22-D22 -> 7584558.8 | I22: ='범천1-1구역'!I64 -> 1.3444395 | J22: 시공사변경 완료(현건)
A23: 문현1 | B23: 시공사선정 준비 | C23: 서면아이파크1단지 | D23: =문현1구역!F49 -> 22020000 | E23: =문현1구역!C49 -> 15414000 | F23: =문현1구역!C61 -> 520000000 | G23: =문현1구역!H61 -> 30708118 | H23: =G23-D23 -> 8688117.6 | I23: =문현1구역!I61 -> 1.3945558
A24: 문현3 | B24: 사업시행인가고시 전 | C24: 서면아이파크1단지 | D24: =문현3구역!F49 -> 22020000 | E24: =문현3구역!C49 -> 15414000 | F24: =문현3구역!C60 -> 270000000 | G24: =문현3구역!H60 -> 23355176 | H24: =G24-D24 -> 1335176.5 | I24: =문현3구역!I60 -> 1.0606347 | J24: 조합장 변경, 사시 준비 중
A25: 좌범2 | B25: 조합설립단계 | C25: 두산위브더제니스하버시티 | D25: =좌천범일통합2지구!F42 -> 21440000 | E25: =좌천범일통합2지구!C42 -> 15008000 | F25: =좌천범일통합2지구!C52 -> 360000000 | G25: =좌천범일통합2지구!H52 -> 25596235 | H25: =G25-D25 -> 4156235.3 | I25: =좌천범일통합2지구!I52 -> 1.1938543 | J25: 시공사 재선정 준비
A26: 초량2 | B26: 특별건축구역지정 준비 | C26: 이편한세상부산항 | D26: =초량2구역!F46 -> 21170000 | E26: =초량2구역!C46 -> 14819000 | F26: =초량2구역!C55 -> 190000000 | G26: =초량2구역!H55 -> 20407235 | H26: =G26-D26 -> -762764.71 | I26: =초량2구역!I55 -> 0.96396955 | J26: 특별건축구역지정완료
A27: 초량3 | B27: 사업시행인가 준비 | C27: 이편한세상부산항 | D27: =초량3구역!F44 -> 21170000 | E27: =초량3구역!C44 -> 14819000 | F27: =초량3구역!C52 -> 310000000 | G27: =초량3구역!H52 -> 23936647 | H27: =G27-D27 -> 2766647.1 | I27: =초량3구역!I52 -> 1.1306872
A28: 괴정5 | B28: 사업시행인가고시 전 | C28: 힐스테이트사하역 | D28: =괴정5구역!F58 -> 20580000 | E28: =괴정5구역!C58 -> 10515000 | F28: =괴정5구역!C76 -> 320000000 | G28: =괴정5구역!H76 -> 19926765 | H28: =G28-D28 -> -653235.29 | I28: =괴정5구역!I76 -> 0.96825873
A29: 괴정6 | B29: 구역지정 완료 | C29: 힐스테이트사하역 | D29: =괴정6구역!F39 -> 20580000 | E29: =괴정6구역!C39 -> 14406000 | F29: =괴정6구역!C44 -> 110000000 | G29: =괴정6구역!H44 -> 17641294 | H29: =G29-D29 -> -2938705.9 | I29: =괴정6구역!I44 -> 0.85720574
A30: 엄궁3 | B30: 일반분양준비 | C30: 롯데캐슬리버 | D30: =엄궁3구역!F42 -> 10200000 | E30: =엄궁3구역!C42 -> 8336704.2 | F30: =엄궁3구역!C49 -> 100000000 | G30: =엄궁3구역!H49 -> 11277881 | H30: =G30-D30 -> 1077880.6 | I30: =엄궁3구역!I49 -> 1.1056746
A31: 부곡2 | B31: 사업시행인가신청 준비 | C31: 레미안장전 | D31: =부곡2구역!F51 -> 34410000 | E31: =부곡2구역!C51 -> 24087000 | F31: =부곡2구역!C59 -> 340000000 | G31: =부곡2구역!H59 -> 34087000 | H31: =G31-D31 -> -323000 | I31: =부곡2구역!I59 -> 0.99061319 | J31: 조합설립인가취소(상고 예정)
A32: 범일2 | B32: 시공사선정 준비 | C32: 서면아이파크1단지 | D32: =범일2구역!F42 -> 22020000 | E32: =범일2구역!C42 -> 15414000 | F32: =범일2구역!C50 -> 350000000 | G32: =범일2구역!H50 -> 25708118 | H32: =G32-D32 -> 3688117.6 | I32: =범일2구역!I50 -> 1.1674894
A33: 망미2 | B33: 사업시행인가 준비 | C33: 수영SK뷰 | D33: =망미2구역!F43 -> 23520000 | E33: =망미2구역!C43 -> 16464000 | F33: =망미2구역!C53 -> 400000000 | G33: =망미2구역!H53 -> 28228706 | H33: =G33-D33 -> 4708705.9 | I33: =망미2구역!I53 -> 1.2002001 | J33: 소송중 (1심 : 조정모 승소)
A34: 용호2 | B34: 사업시행인가 준비 | C34: 데시앙헬링턴플레이스파크시티 | D34: =용호2구역!F40 -> 14830000 | E34: =용호2구역!C40 -> 10381000 | F34: =용호2구역!C51 -> 250000000 | G34: =용호2구역!H51 -> 17733941 | H34: =G34-D34 -> 2903941.2 | I34: =용호2구역!I51 -> 1.1958153
A35: 감천2 | B35: 사업시행인가 준비 | C35: 이편한세상사하2차 | D35: =감천2구역!F46 -> 9350000 | E35: =감천2구역!C46 -> 8200000 | F35: =감천2구역!C57 -> 130000000 | G35: =감천2구역!H57 -> 12023529 | H35: =G35-D35 -> 2673529.4 | I35: =감천2구역!I57 -> 1.285939 | J35: 일분으로 전향 완(힐스테이트)
A36: 영도5 | B36: 사업시행인가 준비 | C36: 동삼동오션시티푸르지오 | D36: =영도5구역!F40 -> 18330000 | E36: =영도5구역!C40 -> 12831000 | F36: =영도5구역!C51 -> 170000000 | G36: =영도5구역!H51 -> 17831000 | H36: =G36-D36 -> -499000 | I36: =영도5구역!I51 -> 0.97277687
A37: 부민2 | B37: 구역지정신청 완료 | C37: 서대신2차푸르지오 | D37: =부민2구역!F44 -> 19990000 | E37: =부민2구역!C44 -> 13993000 | F37: =부민2구역!C53 -> 170000000 | G37: =부민2구역!H53 -> 18993000 | H37: =G37-D37 -> -997000 | I37: =부민2구역!I52 -> 0.95012506 | J37: 2020.10월 정비구역지정신청 완료

Sheet 감만1구역
A1: 감만1구역
A2: 사 업 개 요 | B2: 단지명 | C2: 푸르지오센트레빌
B3: 구역명 | C3: 감만1구역 주택재개발 (뉴스테이 연계형)
B4: 위치 | C4: 부산시 남구 감만1동 312번지 일원
B5: 용도지역 | C5: 제3종일반주거지역
B6: 대지면적 ㎡ | C6: 307118
B7: 구역면적 ㎡ | C7: 418719 | D7: 조합원세대당 대지지분 (평) | F7: =C7*0.3025/C9 -> 44.442982 | G7: 기준 : 25평 이상일 것.
B8: 동수 | C8: 66
B9: 조합원세대수(약) | C9: 2850 | D9: 조합원분양률 | E9: =C9/C11 -> 0.31346238
B10: 일반분양세대수 (뉴스테이) | C10: =C11-C9 -> 6242 | D10: 일반분양률 | E10: =C10/C11 -> 0.68653762 | F10: 기준 : 50% 이상일 것. (재건축 30% 이상)
B11: 총세대수(약) | C11: 9092 | D11: (공공임대포함)
B12: 건페율 | C12: 0.1946 | D12: 건축면적 ㎡ | E12: =C7*C12 -> 81482.717 | F12: 계산 층수 | G12: =E13/E12 -> 14.954779
B13: 용적률 | C13: 2.9102 | D13: 연면적 ㎡ | E13: =C7*C13 -> 1218556 | F13: 전용면적 기준 | G13: =E13*76% -> 926102.59
B14: 건축규모 | C14: 지하4층 / 지상최고45층 | F14: 세대구성 총연면적 대비 | H14: =G13/C37 -> 1.5052998
B15: 시공사 | C15: 대우 + 동부 컨소시엄 | F15: 기준 : 세대구성 총연면적보다 클 것.
B16: 비례율(임의) | C16: 미정
B17: 비고 | C17: 기업형임대사업자 | D17: 한토신(한국토지신탁)
C18: 김업형임대사업자가 일반분양분 전량을 조합으로부터 유상 인수함.
A20: 추 진 현 황 | B20: 최초 구역지정 | C20: 2007.01.10
B21: 최초 조합설립 | C21: 2007.07.20
B22: 사업시행인가 | C22: 2018.07.09
B23: 관리처분계획 | C23: 2020년 11월 예정
B24: 이주.철거 | C24: 2023년 예정
B25: 일반분양 | C25: 한토신 전량 인수
B26: 준공 | C26: 2027년 예정
B27: 5월 관리처분 총회예정
B28: 올해말 관리처분인가를 목표
A30: 세 대 구 성 | B30: 평형별(전용) | C30: 총연면적 | D30: 총세대수 | E30: 일반 | F30: 조합원 | G30: 점유율 | H30: 비고
B31: 39 | C31: =39*D31 -> 17745 | D31: 455 | G31: =D31/$D$37 -> 0.050043995 | H31: 임대
B32: 39 | C32: =39*D32 -> 1482 | D32: 38 | G32: =D32/$D$37 -> 0.0041794985
B33: 59 | C33: =59*D33 -> 230749 | D33: 3911 | G33: =D33/$D$37 -> 0.43015838
B34: 75 | C34: =75*D34 -> 261600 | D34: 3488 | G34: =D34/$D$37 -> 0.38363396
B35: 84 | C35: =84*D35 -> 90384 | D35: 1076 | G35: =D35/$D$37 -> 0.1183458
B36: 107 | C36: =107*D36 -> 13268 | D36: 124 | G36: =D36/$D$37 -> 0.013638363
B37: SUM | C37: =SUM(C31:C36) -> 615228 | D37: =SUM(D31:D36) -> 9092 | E37: =SUM(E31:E36) -> 0 | F37: =SUM(F31:F36) -> 0 | G37: =SUM(G31:G36) -> 1 | H37: =SUM(H31:H36) -> 0
A39: (예상) 총 프 리 미 엄 (비례율 100%기준) | B39: 평형별 | C39: (예상)조합원평당분양가 | D39: (예상)일반평당분양가 | E39: 일반분양가대비 | F39: 현재 인근평당시세 | G39: 인근시세대비 | H39: 비고
B40: 39 | C40: 8900000 | D40: - | E40: =(D40-C40)*17 -> #VALUE! | F40: - | G40: =(F40-C40)*17 -> #VALUE!
B41: 39 | C41: 8900000 | D41: - | E41: =(D41-C41)*17 -> #VALUE! | F41: - | G41: =(F41-C41)*17 -> #VALUE!
B42: 59 | C42: 9100000 | D42: - | E42: =(D42-C42)*25 -> #VALUE! | F42: - | G42: =(F42-C42)*25 -> #VALUE!
B43: 75 | C43: 9800000 | D43: - | E43: =(D43-C43)*30 -> #VALUE! | F43: - | G43: =(F43-C43)*30 -> #VALUE!
...

Sheet 우암2구역
A1: 우암2구역
A2: 사 업 개 요 | B2: 단지명 | C2: 대림이편한세상
B3: 구역명 | C3: 우암2주택재개발(뉴스테이연계형)
B4: 위치 | C4: 우암1동 129번지 일원
B5: 구역면적 ㎡ | C5: 148865 | D5: 조합원세대당 대지 평수 | F5: =C5*0.3025/C7 -> 57.365175 | G5: 기준 : 25평 이상일 것.
B6: 동수 | C6: 29
B7: 조합원세대수 | C7: 785 | D7: 조합원분양률 | E7: =C7/C9 -> 0.26010603
B8: 일반분양세대수 (뉴스테이) | C8: =C9-C7 -> 2233 | D8: 일반분양률 | E8: =C8/C9 -> 0.73989397 | F8: 기준 : 50% 이상일 것. (재건축 30% 이상)
B9: 총세대수 | C9: 3018
B10: 건페율 | C10: 0.1894 | D10: 건축면적 ㎡ | E10: =C5*C10 -> 28195.031 | F10: 계산 층수 | G10: =E11/E10 -> 14.340549
B11: 용적률 | C11: 2.7161 | D11: 연면적 ㎡ | E11: =C5*C11 -> 404332.23 | F11: 전용면적 기준 | G11: =E11*76% -> 307292.49
B12: 건축규모 | C12: 지하5층/지상35층 | F12: 세대구성 총연면적 대비 | H12: =G11/C38 -> 1.3825252
B13: 시공사 | C13: 대림산업 | F13: 기준 : 세대구성 총연면적보다 클 것.
B14: 비례율 | C14: 1.02
B15: 비고 | C15: 기업형임대사업자 | D15: 대림AMC
C16: 일반분양형으로 전환 시도 중 --> 공사 중단 중
A18: 추 진 현 황 | B18: 구역지정 | C18: 2006.09.27
B19: 조합설립 | C19: 2017.12.04
B20: 사업시행 | C20: 2017.03.24
B21: 조합원분양신청 | C21: 2017.04.17
B22: 관리처분계획 | C22: 2017.12.14
B23: 이주 | C23: 2018.03.22
B24: 철거 | C24: 2019년 완료예정
B25: 일반분양 | C25: 대림 전량 인수
B26: 준공 | C26: 2023년 예정
A28: 세 대 구 성 | B28: 평형별(전용) | C28: 총연면적 | D28: 총세대수 | E28: 일반(뉴스테이) | F28: 조합원 | G28: 점유율 | H28: 비고
B29: 39㎡ | C29: =39*D29 -> 6084 | D29: 156 | E29: - | F29: - | G29: =D29/$D$38 -> 0.051689861 | H29: 임대
B30: 59A㎡ | C30: =59*D30 -> 13393 | D30: 227 | E30: =D30-F30 -> 40 | F30: 187 | G30: =D30/$D$38 -> 0.075215374
B31: 59B㎡ | C31: =59*D31 -> 18880 | D31: 320 | E31: =D31-F31 -> 308 | F31: 12 | G31: =D31/$D$38 -> 0.10603048
B32: 75A㎡ | C32: =75*D32 -> 41850 | D32: 558 | E32: =D32-F32 -> 398 | F32: 160 | G32: =D32/$D$38 -> 0.18489066
B33: 75B㎡ | C33: =75*D33 -> 30300 | D33: 404 | E33: =D33-F33 -> 387 | F33: 17 | G33: =D33/$D$38 -> 0.13386349
B34: 75C㎡ | C34: =75*D34 -> 15750 | D34: 210 | E34: =D34-F34 -> 207 | F34: 3 | G34: =D34/$D$38 -> 0.069582505
B35: 84A㎡ | C35: =84*D35 -> 69720 | D35: 830 | E35: =D35-F35 -> 514 | F35: 316 | G35: =D35/$D$38 -> 0.27501657
B36: 84B㎡ | C36: =84*D36 -> 22092 | D36: 263 | E36: =D36-F36 -> 227 | F36: 36 | G36: =D36/$D$38 -> 0.087143804
B37: 84T㎡ | C37: =84*D37 -> 4200 | D37: 50 | E37: =D37-F37 -> 0 | F37: 50 | G37: =D37/$D$38 -> 0.016567263
B38: SUM | C38: =SUM(C29:C37) -> 222269 | D38: =SUM(D29:D37) -> 3018 | E38: =SUM(E30:E37) -> 2081 | F38: =SUM(F30:F37) -> 781 | G38: =SUM(G29:G37) -> 1
A40: (예상) 총 프 리 미 엄 (비례율 100%기준) | B40: 평형별(전용)\ | C40: (예상)조합원평당분양가 | D40: (예상)일반평당분양가 (대림인수가) | E40: (예상)일반분양가대비 | F40: 현재 인근평당시세 | G40: 인근시세대비 | H40: 비고
B41: 39㎡ | C41: 공공임대 | D41: - | E41: =(D41-C41)*25 -> #VALUE! | F41: - | G41: =(F41-C41)*25 -> #VALUE!
B42: 59A㎡ | C42: 8122941 | E42: =(D42-C42)*25 -> -203073525 | G42: =(F42-C42)*25 -> -203073525
B43: 59B㎡ | C43: 7886015 | E43: =(D43-C43)*25 -> -197150375 | G43: =(F43-C43)*25 -> -197150375
...

Sheet 우암1구역
A1: 우암1구역
A2: 사 업 개 요 | B2: 단지명 | C2: 효성해링턴
B3: 구역명 | C3: 우암1구역 주택재개발정비사업
B4: 위치 | C4: 부산광역시 남구 우암동 189번지 일원
B5: 용도지역 | C5: 제3종일반주거지역
B6: 대지면적 ㎡ | C6: 77808
B7: 구역면적 ㎡ | C7: 100459 | D7: 조합원세대당 대지지분 (평) | F7: =C7*0.3025/C9 -> 50.987999 | G7: 기준 : 25평 이상일 것.
B8: 동수 | C8: 25 | D8: 분양 7, 임대1
B9: 조합원세대수(약) | C9: 596 | D9: 조합원분양률 | E9: =C9/C11 -> 0.24012893
B10: 일반분양세대수 (뉴스테이) | C10: =C11-C9 -> 1886 | D10: 일반분양률 | E10: =C10/C11 -> 0.75987107 | F10: 기준 : 50% 이상일 것. (재건축 30% 이상)
B11: 총세대수(약) | C11: 2482 | D11: (공공임대, 보류 5세대 포함)
B12: 건페율 | C12: 0.173 | D12: 건축면적 ㎡ | E12: =C7*C12 -> 17379.407 | F12: 계산 층수 | G12: =E13/E12 -> 14.806358
B13: 용적률 | C13: 2.5615 | D13: 연면적 ㎡ | E13: =C7*C13 -> 257325.73 | F13: 전용면적 기준 | G13: =E13*76% -> 195567.55
B14: 건축규모 | C14: 지하4층 / 지상최고38층 | F14: 세대구성 총연면적 대비 | H14: =G13/C39 -> 1.0959051
B15: 시공사 | C15: 효성건설+진흥건설 | F15: 기준 : 세대구성 총연면적보다 클 것.
B16: 비례율(임의) | C16: 1.01
B17: 비고 | C17: 일반분양형 재개발로 전환 성공
A19: 추 진 현 황 | B19: 최초 구역지정 | C19: 2004.12.30
B20: 최초 조합설립 | C20: 2005.05.18
B21: 사업시행인가 | C21: 2006.11.23
B22: 관리처분변경인가 | C22: 2017.11.03
B23: 이주 | C23: 2019년 1/18~4/27
B24: 철거 | C24: 2020년 철거 중
B25: 일반분양 | C25: 2021년 예정
B26: 준공 | C26: 2024년 예정
A29: 세 대 구 성 | B29: 평형별(전용) | C29: 총연면적 | D29: 총세대수 | E29: 일반 | F29: 조합원 | G29: 점유율 | H29: 비고
B30: 37 | C30: =37*D30 -> 2516 | D30: 68 | E30: - | F30: - | G30: =D30/$D$39 -> 0.02739726 | H30: 임대
B31: 48 | C31: =48*D31 -> 2784 | D31: 58 | E31: - | F31: - | G31: =D31/$D$39 -> 0.023368251 | H31: 임대
B32: 59A | C32: =59*D32 -> 31565 | D32: 535 | E32: =D32-F32 -> 428 | F32: 107 | G32: =D32/$D$39 -> 0.21555197
B33: 59B | C33: =59*D33 -> 6490 | D33: 110 | E33: =D33-F33 -> 77 | F33: 33 | G33: =D33/$D$39 -> 0.044319098
B34: 73 | C34: =73*D34 -> 52268 | D34: 716 | E34: =D34-F34 -> 561 | F34: 155 | G34: =D34/$D$39 -> 0.28847703
B35: 84A | C35: =84*D35 -> 51996 | D35: 619 | E35: =D35-F35 -> 444 | F35: 175 | G35: =D35/$D$39 -> 0.24939565
B36: 84B | C36: =84*D36 -> 27048 | D36: 322 | E36: =D36-F36 -> 226 | F36: 96 | G36: =D36/$D$39 -> 0.12973409
B37: 59T | C37: =59*D37 -> 1770 | D37: 30 | E37: =D37-F37 -> 0 | F37: 30 | G37: =D37/$D$39 -> 0.012087027
B38: 84T | C38: =84*D38 -> 2016 | D38: 24 | E38: =D38-F38 -> 24 | F38: 0 | G38: =D38/$D$39 -> 0.0096696213
B39: SUM | C39: =SUM(C30:C38) -> 178453 | D39: =SUM(D30:D38) -> 2482 | E39: =SUM(E30:E38) -> 1760 | F39: =SUM(F30:F38) -> 596 | G39: =SUM(G30:G38) -> 1 | H39: =SUM(H30:H34) -> 0
A41: (예상) 총 프 리 미 엄 (비례율 100%기준) | B41: 평형별 | C41: (예상)조합원평당분양가 | D41: (예상)일반평당분양가 | E41: (예상)일반분양가대비 | F41: 현재 인근평당시세 | G41: 인근시세대비 | H41: 비고
B42: 37 | C42: - | D42: - | E42: =(D42-C42)*17 -> #VALUE! | F42: - | G42: =(F42-C42)*17 -> #VALUE! | H42: 임대
B43: 48 | C43: - | D43: - | E43: =(D43-C43)*20 -> #VALUE! | F43: - | G43: =(F43-C43)*20 -> #VALUE! | H43: 임대
B44: 59A | C44: 8706000 | D44: 12000000 | E44: =(D44-C44)*25 -> 82350000 | G44: =(F44-C44)*25 -> -217650000
...

Sheet 대연3구역
A1: 대연3구역
A2: 사 업 개 요 | B2: 단지명 | C2: 가칭 캐슬아아파크
B3: 구역명 | C3: 대연3주택재개발
B4: 위치 | C4: 대연2동 1619번지 일원 | E4: 평당 공사비(건축비) | F4: 4500000
B5: 구역면적 ㎡ | C5: 252527 | D5: 조합원세대당 대지 평수 (평균분양평형) | F5: =C5*0.3025/C7 -> 41.224726 | G5: 기준 : 25평 이상일 것.
B6: 동수 | C6: 28 | D6: 기부체납면적 ㎡ | F6: 실사용 면적 ㎡ | G6: =C5-E6 -> 252527
B7: 조합원세대수 | C7: 1853 | D7: 조합원분양률 | E7: =C7/C9 -> 0.41287879
B8: 일반분양세대수 | C8: =C9-C7 -> 2635 | D8: 일반분양률 | E8: =C8/C9 -> 0.58712121 | F8: 기준 : 50% 이상일 것. (재건축 30% 이상)
B9: 총세대수 | C9: 4488 | D9: 보류지 17세대, 임대주택 238세대 포함
B10: 건페율 | C10: 0.1602 | D10: 건축면적 ㎡ | E10: =G6*C10 -> 40454.825 | F10: 계산 층수 | G10: =E11/E10 -> 15.648564
B11: 용적률 | C11: 2.5069 | D11: 건축가능 연면적 ㎡ | E11: =G6*C11 -> 633059.94 | F11: 전용면적 기준 | G11: =E11*76% -> 481125.55
B12: 건축규모 | C12: - | D12: 세대당 평균 종전자산 평가액 | E12: - | F12: 세대구성 총연면적 대비 | G12: =G11/C38 -> 1.4075201
B13: 시공사 | C13: 롯데+현대산업개발 | D13: 총 종전사산 평가액 | E13: =C7*E12 -> #VALUE! | F13: 총 건축가능세대 수 | G13: =E11*0.3025/F5 -> 4645.2857
B14: 조합 비례율 | C14: 약 104% | D14: 계약면적 (평) | E14: - | F14: 총 시공 평수 | G14: =E14*G13 -> #VALUE!
B16: 총 사업비 | C16: =E16+G16 -> #VALUE! | D16: 총 공사비 | E16: =G14*F4 -> #VALUE! | F16: 기타사업비 | G16: =E16*30% -> #VALUE!
B17: 총 분양수입 | C17: =(E17*C7)+(G17*C8) -> #VALUE! | D17: (예상)평균조합원분양가 | E17: - | F17: (예상) 평균일반분양가 | G17: -
B18: 비례율 (사업성 검토용) | C18: =E18/E13 -> #VALUE! | D18: 순이익 | E18: =C17-C16 -> #VALUE! | F18: 조합원 세대당 평균 순이익 | G18: =E18/C7 -> #VALUE!
A20: 추 진 현 황 | B20: 구역지정 | C20: 2006.09.13
B21: 조합설립 | C21: 2007.10.12
B22: 사업시행 | C22: 2017.07.05
B23: 관리처분계획 | C23: 2019년 4월 1일
B24: 이주 | C24: 2019년 8월 1일 시작
B25: 철거 | C25: 2020년 진행 중
B26: 일반분양 | C26: 2022년 예정
B27: 준공 | C27: 2026년 예정
A29: 세 대 구 성 | B29: 평형별(전용) | C29: 총연면적 | D29: 총세대수 | E29: 1단지 | F29: 2단지 | G29: 3단지 | H29: 점유율 | I29: 조합원 | J29: 일반 | K29: 보류지
B30: 38㎡ (임대) | C30: =38*D30 -> 9044 | D30: =E30+F30+G30 -> 238 | G30: 238 | H30: =D30/$D$38 -> 0.053030303
B31: 59A㎡ | C31: =59*D31 -> 57702 | D31: =E31+F31+G31 -> 978 | E31: 302 | F31: 676 | H31: =D31/$D$38 -> 0.21791444 | I31: 382 | J31: 592 | K31: 4
B32: 59B㎡ | C32: =59*D32 -> 14809 | D32: =E32+F32+G32 -> 251 | E32: 84 | F32: 167 | H32: =D32/$D$38 -> 0.055926916 | I32: 16 | J32: 233 | K32: 2
B33: 84A㎡ | C33: =84*D33 -> 178752 | D33: =E33+F33+G33 -> 2128 | E33: 820 | F33: 1308 | H33: =D33/$D$38 -> 0.4741533 | I33: 1064 | J33: 1056 | K33: 8
B34: 84B㎡ | C34: =84*D34 -> 44940 | D34: =E34+F34+G34 -> 535 | E34: 145 | F34: 390 | H34: =D34/$D$38 -> 0.11920677 | I34: 36 | J34: 498 | K34: 3
B35: 99A㎡ | C35: =99*D35 -> 17820 | D35: =E35+F35+G35 -> 180 | F35: 180 | H35: =D35/$D$38 -> 0.040106952 | I35: 179 | J35: 1
B36: 99B㎡ | C36: =99*D36 -> 10593 | D36: =E36+F36+G36 -> 107 | F36: 107 | H36: =D36/$D$38 -> 0.023841355 | I36: 105 | J36: 2
B37: 115㎡ | C37: =115*D37 -> 8165 | D37: =E37+F37+G37 -> 71 | F37: 71 | H37: =D37/$D$38 -> 0.015819964 | I37: 71
B38: SUM | C38: =SUM(C30:C37) -> 341825 | D38: =SUM(D30:D37) -> 4488 | E38: =SUM(E30:E37) -> 1351 | F38: =SUM(F30:F37) -> 2899 | G38: =SUM(G30:G37) -> 238 | H38: =SUM(H30:H37) -> 1 | I38: =SUM(I30:I37) -> 1853 | J38: =SUM(J30:J37) -> 2382 | K38: =SUM(K30:K37) -> 17
A40: 총 프 리 미 엄 (비례율 100%기준) | B40: 평형별(전용) | C40: (예상)조합원평당분양가 | D40: (예상)일반평당분양가 | E40: 일반분양가대비 | F40: 현재 인근평당시세 | G40: 인근시세 대비 | H40: 비고
B41: 38㎡ (임대)
B42: 59A㎡ | C42: =279489000/25 -> 11179560 | D42: 14000000 | E42: =(D42-C42)*25 -> 70511000 | G42: =(F42-C42)*25 -> -279489000
B43: 59B㎡ | E43: =(D43-C43)*25 -> 0 | G43: =(F43-C43)*25 -> 0
B44: 84A㎡ | C44: =357583000/34 -> 10517147 | D44: 16000000 | E44: =(D44-C44)*34 -> 186417000 | F44: 26670000 | G44: =(F44-C44)*34 -> 549197000 | H44: 레전드
...

Sheet 대연4구역
A1: 대연4구역
A2: 사 업 개 요 | B2: 단지명 | C2: 푸르지오
B3: 구역명 | C3: 대연4주택재개발
B4: 위치 | C4: 대연4동 1203번지 일원
B5: 용도지역 | C5: 제3종일반주거지역
B6: 대지면적 ㎡ | C6: 39579
B7: 구역면적 ㎡ | C7: 54289 | D7: 조합원세대당 대지지분 (평) | F7: =C7*0.3025/C9 -> 40.750428 | G7: 기준 : 25평 이상일 것.
B8: 동수 | C8: 8 | D8: 분양 7, 임대1
B9: 조합원세대수(약) | C9: 403 | D9: 조합원분양률 | E9: =C9/C11 -> 0.38126774
B10: 일반분양세대수 | C10: =C11-C9 -> 654 | D10: 일반분양률 | E10: =C10/C11 -> 0.61873226 | F10: 기준 : 50% 이상일 것. (재건축 30% 이상)
B11: 총세대수(약) | C11: 1057 | D11: (공공임대포함)
B12: 건페율 | C12: 0.4467 | D12: 건축면적 ㎡ | E12: =C7*C12 -> 24250.896 | F12: 계산 층수 | G12: =E13/E12 -> 5.8612044
B13: 용적률 | C13: 2.6182 | D13: 연면적 ㎡ | E13: =C7*C13 -> 142139.46 | F13: 전용면적 기준 | G13: =E13*76% -> 108025.99
B14: 건축규모 | C14: 지하4층 / 지상최고36층 | F14: 세대구성 총연면적 대비 | H14: =G13/C40 -> 1.4290475
B15: 시공사 | C15: 대우건설
B16: 비례율(임의) | C16: 1.04
B17: 비고
A20: 추 진 현 황 | B20: 최초 구역지정 | C20: 2008.06.18
B21: 최초 조합설립 | C21: 2008.12.22
B22: 사업시행인가 | C22: 2016.12.23
B23: 관리처분변경인가 | C23: 2017.12.14
B24: 이주 | C24: 완료
B25: 철거 | C25: 완료
B26: 일반분양 | C26: 2020년 완료
B27: 준공 | C27: 2024년 예정
A30: 세 대 구 성 | B30: 평형별(전용) | C30: 총연면적 | D30: 총세대수 | E30: 일반 | F30: 조합원 | G30: 점유율 | H30: 비고
B31: 39A | C31: =39*D31 -> 1755 | D31: 45 | E31: - | F31: - | G31: =D31/$D$40 -> 0.042573321 | H31: 임대
B32: 39B | C32: =39*D32 -> 546 | D32: 14 | E32: - | F32: - | G32: =D32/$D$40 -> 0.013245033 | H32: 임대
B33: 59A | C33: =59*D33 -> 12508 | D33: 212 | E33: =D33-F33 -> 111 | F33: 101 | G33: =D33/$D$40 -> 0.20056764
B34: 59B | C34: =59*D34 -> 3422 | D34: 58 | E34: =D34-F34 -> 40 | F34: 18 | G34: =D34/$D$40 -> 0.05487228
B35: 74A | C35: =74*D35 -> 25382 | D35: 343 | E35: =D35-F35 -> 282 | F35: 61 | G35: =D35/$D$40 -> 0.32450331
B36: 74B | C36: =74*D36 -> 2664 | D36: 36 | E36: =D36-F36 -> 33 | F36: 3 | G36: =D36/$D$40 -> 0.034058657
B37: 84A | C37: =84*D37 -> 11592 | D37: 138 | E37: =D37-F37 -> 0 | F37: 138 | G37: =D37/$D$40 -> 0.13055818
B38: 84B | C38: =84*D38 -> 14700 | D38: 175 | E38: =D38-F38 -> 95 | F38: 80 | G38: =D38/$D$40 -> 0.16556291
B39: 84C | C39: =84*D39 -> 3024 | D39: 36 | E39: =D39-F39 -> 34 | F39: 2 | G39: =D39/$D$40 -> 0.034058657
B40: SUM | C40: =SUM(C31:C39) -> 75593 | D40: =SUM(D31:D39) -> 1057 | E40: =SUM(E31:E39) -> 595 | F40: =SUM(F31:F39) -> 403 | G40: =SUM(G31:G39) -> 1 | H40: =SUM(H31:H36) -> 0
A42: (예상) 총 프 리 미 엄 (비례율 100%기준) | B42: 평형별 | C42: (예상)조합원평당분양가 | D42: (예상)일반평당분양가 | E42: 일반분양가대비 | F42: 현재 인근평당시세 | G42: 인근시세대비 | H42: 비고
B43: 39A | C43: - | D43: - | E43: =(D43-C43)*17 -> #VALUE! | F43: - | G43: =(F43-C43)*17 -> #VALUE! | H43: 임대
B44: 39B | C44: - | D44: - | E44: =(D44-C44)*17 -> #VALUE! | F44: - | G44: =(F44-C44)*17 -> #VALUE! | H44: 임대
B45: 59A | C45: =242800000/25 -> 9712000 | D45: 12000000 | E45: =(D45-C45)*25 -> 57200000 | G45: =(F45-C45)*25 -> -242800000
...

Sheet 대연8구역
A1: 대연8구역
A2: 사 업 개 요 | B2: 단지명 | C2: 미정
B3: 구역명 | C3: 대연8주택재개발
B4: 위치 | C4: 대연4동 1173번지 일원
B5: 구역면적 ㎡ | C5: 213059.6 | D5: 조합원세대당 대지 평수 | F5: =C5*0.3025/C7 -> 49.57733 | G5: 기준 : 25평 이상일 것.
B6: 동수 | C6: 33
B7: 조합원세대수(약) | C7: 1300 | D7: 조합원분양률 | E7: =C7/C9 -> 0.39015606
B8: 일반분양세대수 | C8: =C9-C7 -> 2032 | D8: 일반분양률 | E8: =C8/C9 -> 0.60984394 | F8: 기준 : 50% 이상일 것. (재건축 30% 이상)
B9: 총세대수(약) | C9: 3332
B10: 건페율 | C10: 0.1302 | D10: 건축면적 ㎡ | E10: =C5*C10 -> 27740.36 | F10: 계산 층수 | G10: =E11/E10 -> 19.927803
B11: 용적률 | C11: 2.5946 | D11: 연면적 ㎡ | E11: =C5*C11 -> 552804.44 | F11: 전용면적 기준 | G11: =E11*76% -> 420131.37
B12: 건축규모 | C12: 미정 | F12: 세대구성 총연면적 대비 | H12: =G11/C38 -> 1.5543669
B13: 시공사 | C13: 미정 (현산,gs,대림산업, 롯데, 나, 포스코 등 국내 Top 10위권 내 건설사들은 다 들어와 있다 보시면 됩니다. | F13: 기준 : 세대구성 총연면적보다 클 것.
B14: 비례율(임의) | C14: 129.75% (추진위 제공)
B15: 비고
A18: 추 진 현 황 | B18: 구역지정 | C18: 2008.07.02 (2017.12.13 구역 변경)
B19: 추진위원회승인 | C19: 2006.07.04
B20: 조합설립 | C20: 2020년 3월 예정
B21: 시공사선정 | C21: 2020년 11월 예정
B22: 사업시행인가 | C22: 2022년 예정
B23: 관리처분계획 | C23: 2024년 예정
B24: 이주.철거 | C24: 2026년 예정
B25: 일반분양 | C25: 2027년 예정
B26: 준공 | C26: 2030년 예정
A28: 세 대 구 성 (임의) | B28: 평형별(전용) | C28: 총연면적 | D28: 총세대수 | E28: 일반 | F28: 조합원 | G28: 점유율 | H28: 비고
B29: 39㎡ | C29: =39*D29 -> 0 | G29: =D29/$D$38 -> 0
B30: 59A㎡ | C30: =59*D30 -> 42067 | D30: 713 | G30: =D30/$D$38 -> 0.21398559
B31: 59B㎡ | C31: =59*D31 -> 8850 | D31: 150 | G31: =D31/$D$38 -> 0.045018007
B32: 69A㎡ | C32: =69*D32 -> 34431 | D32: 499 | G32: =D32/$D$38 -> 0.1497599
B33: 69B㎡ | C33: =69*D33 -> 8832 | D33: 128 | G33: =D33/$D$38 -> 0.038415366
B34: 84A㎡ | C34: =84*D34 -> 16548 | D34: 197 | G34: =D34/$D$38 -> 0.059123649
B35: 84B㎡ | C35: =84*D35 -> 39060 | D35: 465 | G35: =D35/$D$38 -> 0.13955582
B36: 101㎡ | C36: =101*D36 -> 100091 | D36: 991 | G36: =D36/$D$38 -> 0.29741897
B37: 118㎡ | C37: =108*D37 -> 20412 | D37: 189 | G37: =D37/$D$38 -> 0.056722689
B38: SUM | C38: =SUM(C29:C37) -> 270291 | D38: =SUM(D29:D37) -> 3332 | E38: =SUM(E30:E37) -> 0 | F38: =SUM(F30:F37) -> 0 | G38: =SUM(G29:G37) -> 1
A40: 총 프 리 미 엄 (비례율 100%기준) | B40: 평형별(전용)\ | C40: (예상)조합원평당분양가 | D40: (예상)일반평당분양가 | E40: 일반분양가대비 | F40: 현재 인근평당시세 | G40: 인근시세대비 | H40: 비고
B41: 39㎡ | E41: =(D41-C41)*25 -> 0 | G41: =(F41-C41)*25 -> 0
B42: 59A㎡ | E42: =(D42-C42)*25 -> 0 | G42: =(F42-C42)*25 -> 0
B43: 59B㎡ | E43: =(D43-C43)*25 -> 0 | G43: =(F43-C43)*25 -> 0
B44: 69A㎡ | E44: =(D44-C44)*30 -> 0 | G44: =(F44-C44)*30 -> 0
...

Sheet 복산1구역
A1: 복산1구역
A2: 사 업 개 요 | B2: 단지명 | C2: 동래그랑자이
B3: 구역명 | C3: 복산1구역 주택재개발
B4: 위치 | C4: 부산시 동래구 복산동 50번지 일원
B5: 용도지역 | C5: 제3종일반주거지역
B6: 대지면적 ㎡ | C6: 280440
B7: 구역면적 ㎡ | C7: 405465 | D7: 조합원세대당 대지지분 (평) | F7: =C7*0.3025/C9 -> 46.284212 | G7: 기준 : 25평 이상일 것.
B8: 동수 | C8: 68
B9: 조합원세대수(약) | C9: 2650 | D9: 조합원분양률 | E9: =C9/C11 -> 0.54004483
B10: 일반분양세대수 | C10: =C11-C9 -> 2257 | D10: 일반분양률 | E10: =C10/C11 -> 0.45995517 | F10: 기준 : 50% 이상일 것. (재건축 30% 이상)
B11: 총세대수(약) | C11: 4907
B12: 건페율 | C12: 0.199 | D12: 건축면적 ㎡ | E12: =C7*C12 -> 80687.535 | F12: 계산 층수 | G12: =E13/E12 -> 11.548744
B13: 용적률 | C13: 2.2982 | D13: 연면적 ㎡ | E13: =C7*C13 -> 931839.66 | F13: 전용면적 기준 | G13: =E13*76% -> 708198.14
B14: 건축규모 | C14: 지하2층 / 지상 최고 27층 | F14: 세대구성 총연면적 대비 | H14: =G13/C42 -> 1.5992154
B15: 시공사 | C15: GS건설 | F15: 기준 : 세대구성 총연면적보다 클 것.
B16: 비례율(임의) | C16: 미정
B17: 비고
C18: 2020.10월 조합에서 조합원 분양가를 제시함.
A20: 추 진 현 황 | B20: 최초 구역지정 | C20: 2008.01.30
B21: 최초 조합설립 | C21: 2008.07.16
B22: 조합설립 변경인가 | C22: 2017.09.19
B23: 시공사선정 | C23: 2016.01.07
B24: 사업시행인가 | C24: 2020년 예정
B25: 관리처분계획 | C25: 2022년 예정
B26: 이주.철거 | C26: 2023년 예정
B27: 일반분양 | C27: 2024년 예정
B28: 준공 | C28: 2028년 예정
A30: 세 대 구 성 | B30: 평형별(전용) | C30: 총연면적 | D30: 총세대수 | E30: 일반 | F30: 조합원 | G30: 점유율 | H30: 비고
B31: 39A㎡ | C31: =39*D31 -> 16341 | D31: 419 | E31: - | F31: - | G31: =D31/$D$42 -> 0.085388221 | H31: 임대
B32: 59A㎡ | C32: =59*D32 -> 47672 | D32: 808 | E32: - | F32: - | G32: =D32/$D$42 -> 0.16466273
B33: 59B㎡ | C33: =59*D33 -> 5664 | D33: 96 | E33: - | F33: - | G33: =D33/$D$42 -> 0.019563888
B34: 74㎡ | C34: =74*D34 -> 33448 | D34: 452 | G34: =D34/$D$42 -> 0.092113308
B35: 84A㎡ | C35: =84*D35 -> 83916 | D35: 999 | G35: =D35/$D$42 -> 0.20358671
B36: 84B㎡ | C36: =84*D36 -> 96684 | D36: 1151 | G36: =D36/$D$42 -> 0.23456287
B37: 84T㎡ | C37: =84*D37 -> 7728 | D37: 92 | G37: =D37/$D$42 -> 0.018748726
B38: 112㎡ | C38: =112*D38 -> 67424 | D38: 602 | G38: =D38/$D$42 -> 0.12268188
B39: 135㎡ | C39: =135*D39 -> 58725 | D39: 435 | G39: =D39/$D$42 -> 0.088648869
B40: 153㎡ | C40: =153*D40 -> 39780 | D40: 260 | G40: =D40/$D$42 -> 0.052985531
B41: 150P㎡ | C41: =150*D41 -> 1800 | D41: 12 | G41: =D41/$D$42 -> 0.002445486
B42: SUM | C42: =SUM(C32:C41) -> 442841 | D42: =SUM(D32:D41) -> 4907 | E42: =SUM(E34:E41) -> 0 | F42: =SUM(F34:F41) -> 0 | G42: =SUM(G32:G41) -> 1
...

Sheet 우동3구역
A1: 우동3구역
A2: 사 업 개 요 | B2: 단지명 | C2: 센트럴푸르지오아이파크
B3: 구역명 | C3: 우동3주택재개발
B4: 위치 | C4: 부산시 해운대구 우1동 299번지 일원
B5: 용도지역 | C5: 제3종일반주거지역
B6: 대지면적 ㎡ | C6: 108578
B7: 구역면적 ㎡ | C7: 160727 | D7: 조합원세대당 대지지분 (평) | F7: =C7*0.3025/C9 -> 44.199925 | G7: 기준 : 25평 이상일 것.
B8: 동수 | C8: 28
B9: 조합원세대수(약) | C9: 1100 | D9: 조합원분양률 | E9: =C9/C11 -> 0.36654449
B10: 일반분양세대수 | C10: =C11-C9 -> 1901 | D10: 일반분양률 | E10: =C10/C11 -> 0.63345551 | F10: 기준 : 50% 이상일 것. (재건축 30% 이상)
B11: 총세대수(약) | C11: 3001
B12: 건페율 | C12: 0.1293 | D12: 건축면적 ㎡ | E12: =C7*C12 -> 20782.001 | F12: 계산 층수 | G12: =E13/E12 -> 22.275329
B13: 용적률 | C13: 2.8802 | D13: 연면적 ㎡ | E13: =C7*C13 -> 462925.91 | F13: 전용면적 기준 | G13: =E13*76% -> 351823.69
B14: 건축규모 | C14: 지하3층 / 지상 최고 39층 | F14: 세대구성 총연면적 대비 | H14: =G13/C43 -> 1.5615164
B15: 시공사 | C15: 대우 + 현대산업개발 컨소시엄 | F15: 기준 : 세대구성 총연면적보다 클 것.
B16: 비례율(임의) | C16: %
B17: 비고
A20: 추 진 현 황 | B20: 최조 구역지정 | C20: 2007.09.21
B21: 조합설립 | C21: 2015.07.31
B22: 시공사선정 | C22: 2016.12.18
B23: 건축심의통과 | C23: 2018.12.11
B24: 사업시행인가 | C24: 2019년 예정
B25: 관리처분계획 | C25: 2020년 예정
B26: 이주.철거 | C26: 2022년 예정
B27: 일반분양 | C27: 2023년 예정
B28: 준공 | C28: 2025년 예정
A30: 세 대 구 성 | B30: 평형별(전용) | C30: 총연면적 | D30: 총세대수 | E30: 일반 | F30: 조합원 | G30: 점유율 | H30: 비고
B31: 39㎡ | C31: =39*D31 -> 4446 | D31: 114 | E31: - | F31: - | G31: =D31/$D$43 -> 0.037748344 | H31: 임대
B32: 50㎡ | C32: =50*D32 -> 2200 | D32: 44 | E32: - | F32: - | G32: =D32/$D$43 -> 0.014569536 | H32: 임대
B33: 59A㎡ | C33: =59*D33 -> 7139 | D33: 121 | G33: =D33/$D$43 -> 0.040066225
B34: 59B㎡ | C34: =59*D34 -> 55755 | D34: 945 | G34: =D34/$D$43 -> 0.31291391
B35: 71A㎡ | C35: =71*D35 -> 14697 | D35: 207 | G35: =D35/$D$43 -> 0.068543046
B36: 84A㎡ | C36: =84*D36 -> 21336 | D36: 254 | G36: =D36/$D$43 -> 0.08410596
B37: 84B㎡ | C37: =84*D37 -> 11844 | D37: 141 | G37: =D37/$D$43 -> 0.046688742
B38: 84C㎡ | C38: =84*D38 -> 18564 | D38: 221 | G38: =D38/$D$43 -> 0.073178808
B39: 84D㎡ | C39: =84*D39 -> 49812 | D39: 593 | G39: =D39/$D$43 -> 0.19635762
B40: 95A㎡ | C40: =95*D40 -> 17480 | D40: 184 | G40: =D40/$D$43 -> 0.060927152
B41: 107A㎡ | C41: =107*D41 -> 12840 | D41: 120 | G41: =D41/$D$43 -> 0.039735099
B42: 121A㎡ | C42: =121*D42 -> 9196 | D42: 76 | G42: =D42/$D$43 -> 0.025165563
B43: SUM | C43: =SUM(C31:C42) -> 225309 | D43: =SUM(D31:D42) -> 3020 | E43: =SUM(E33:E42) -> 0 | F43: =SUM(F33:F42) -> 0 | G43: =SUM(G31:G42) -> 1
...

Sheet 광안2구역
A1: 광안2구역
A2: 사 업 개 요 | B2: 단지명 | C2: 광안SK뷰
B3: 구역명 | C3: 광안2주택재개발
B4: 위치 | C4: 부산 수영구 광안동 1240-38 | E4: 평당 공사비(건축비) | F4: 4500000
B5: 구역면적 ㎡ | C5: 53905 | D5: 조합원세대당 대지 평수 (평균분양평형) | F5: =C5*0.3025/C7 -> 27.405483 | G5: 기준 : 25평 이상일 것.
B6: 동수 | C6: 10 | D6: 기부체납면적 ㎡ | F6: 실사용 면적 ㎡ | G6: =C5-E6 -> 53905
B7: 조합원세대수 | C7: 595 | D7: 조합원분양률 | E7: =C7/C9 -> 0.48100243
B8: 일반분양세대수 | C8: =C9-C7 -> 642 | D8: 일반분양률 | E8: =C8/C9 -> 0.51899757 | F8: 기준 : 50% 이상일 것. (재건축 30% 이상)
B9: 총세대수 | C9: 1237 | D9: 보류지 17세대, 임대주택 238세대 포함
B10: 건페율 | C10: 0.1811 | D10: 건축면적 ㎡ | E10: =G6*C10 -> 9762.1955 | F10: 계산 층수 | G10: =E11/E10 -> 13.692987
B11: 용적률 | C11: 2.4798 | D11: 건축가능 연면적 ㎡ | E11: =G6*C11 -> 133673.62 | F11: 전용면적 기준 | G11: =E11*76% -> 101591.95
B12: 건축규모 | C12: 지하2층/지상31층 | D12: 세대당 평균 종전자산 평가액 | E12: - | F12: 세대구성 총연면적 대비 | G12: =G11/C38 -> 1.0311914
B13: 시공사 | C13: SK건설 | D13: 총 종전사산 평가액 | E13: =C7*E12 -> #VALUE! | F13: 총 건축가능세대 수 | G13: =E11*0.3025/F5 -> 1475.481
B14: 조합 비례율 | C14: 1.1 | D14: 계약면적 (평) | E14: - | F14: 총 시공 평수 | G14: =E14*G13 -> #VALUE!
B16: 총 사업비 | C16: =E16+G16 -> #VALUE! | D16: 총 공사비 | E16: =G14*F4 -> #VALUE! | F16: 기타사업비 | G16: =E16*30% -> #VALUE!
B17: 총 분양수입 | C17: =(E17*C7)+(G17*C8) -> #VALUE! | D17: (예상)평균조합원분양가 | E17: - | F17: (예상) 평균일반분양가 | G17: -
B18: 비례율 (사업성 검토용) | C18: =E18/E13 -> #VALUE! | D18: 순이익 | E18: =C17-C16 -> #VALUE! | F18: 조합원 세대당 평균 순이익 | G18: =E18/C7 -> #VALUE!
A20: 추 진 현 황 | B20: 구역지정 | C20: 2011.06.08
B21: 조합설립 | C21: 2013.03.14
B22: 사업시행 | C22: 2017.10.20
B23: 관리처분계획 | C23: 2019.04.05
B24: 이주 | C24: 2019년 08월 08일
B25: 철거 | C25: 2020년 예정
B26: 일반분양 | C26: 2021년 예정
B27: 준공 | C27: 2025년 예정
A29: 세 대 구 성 | B29: 평형별(전용) | C29: 총연면적 | D29: 총세대수 | E29: 조합원 | F29: 일반 | G29: 보류지 | H29: 점유율
B30: 38㎡ (임대) | C30: =38*D30 -> 2432 | D30: 64 | H30: =D30/$D$38 -> 0.051738076
B31: 59A㎡ | C31: =59*D31 -> 9617 | D31: 163 | E31: 74 | F31: =D31-E31 -> 89 | H31: =D31/$D$38 -> 0.13177041
B32: 84A㎡ | C32: =84*D32 -> 27972 | D32: 333 | E32: 263 | F32: =D32-E32 -> 70 | G32: 2 | H32: =D32/$D$38 -> 0.26919968
B33: 84B㎡ | C33: =84*D33 -> 28476 | D33: 339 | E33: 106 | F33: =D33-E33 -> 233 | G33: 1 | H33: =D33/$D$38 -> 0.27405012
B34: 78A㎡ | C34: =78*D34 -> 8346 | D34: 107 | E34: 29 | F34: =D34-E34 -> 78 | H34: =D34/$D$38 -> 0.086499596
B35: 78B㎡ | C35: =78*D35 -> 8346 | D35: 107 | E35: 0 | F35: =D35-E35 -> 107 | G35: 1 | H35: =D35/$D$38 -> 0.086499596
B36: 100㎡ | C36: =100*D36 -> 6200 | D36: 62 | E36: 61 | F36: =D36-E36 -> 1 | G36: 2 | H36: =D36/$D$38 -> 0.050121261
B37: 115㎡ | C37: =115*D37 -> 7130 | D37: 62 | E37: 62 | F37: =D37-E37 -> 0 | H37: =D37/$D$38 -> 0.050121261
B38: SUM | C38: =SUM(C30:C37) -> 98519 | D38: =SUM(D30:D37) -> 1237 | E38: =SUM(E30:E37) -> 595 | F38: =SUM(F30:F37) -> 578 | G38: =SUM(G30:G37) -> 6 | H38: =SUM(H30:H37) -> 1
A40: 총 프 리 미 엄 (비례율 100%기준) | B40: 평형별(전용) | C40: (예상)조합원평당분양가 | D40: (예상)일반평당분양가 | E40: 일반분양가대비 | F40: 현재 인근평당시세 | G40: 인근시세 대비 | H40: 비고
B41: 38㎡ (임대)
B42: 59A㎡ | C42: =288000000/25 -> 11520000 | D42: 16000000 | E42: =(D42-C42)*25 -> 112000000 | G42: =(F42-C42)*25 -> -288000000
B43: 84A㎡ | C43: =396000000/34 -> 11647059 | D43: 16000000 | E43: =(D43-C43)*25 -> 1.0882353e+08 | F43: 30290000 | G43: =(F43-C43)*25 -> 4.6607353e+08 | H43: 광안자이
B44: 84B㎡ | C44: =396000000/34 -> 11647059 | D44: 16000000 | E44: =(D44-C44)*34 -> 1.48e+08 | G44: =(F44-C44)*34 -> -396000000
...

Sheet 서금사 재정비 촉진A
A1: 서금사 재정비 촉진A구역
A2: 사 업 개 요 | B2: 단지명
B3: 구역명 | C3: 서금사재정비촉진A구역
B4: 위치 | C4: 부산시 금정구 부곡동332-4
B5: 구역면적 ㎡ | C5: 119923 | D5: 조합원세대당 대지 평수 | F5: =C5*0.3025/C7 -> 40.262716 | G5: 기준 : 25평 이상일 것.
B6: 동수 | C6: 12
B7: 조합원세대수 | C7: 901 | D7: 조합원분양률 | E7: =C7/C9 -> 0.31058256
B8: 일반분양세대수 | C8: =C9-C7 -> 2000 | D8: 일반분양률 | E8: =C8/C9 -> 0.68941744 | F8: 기준 : 50% 이상일 것. (재건축 30% 이상)
B9: 총세대수 | C9: 2901
B10: 건페율 | C10: 0.1917 | D10: 건축면적 ㎡ | E10: =C5*C10 -> 22989.239 | F10: 계산 층수 | G10: =E11/E10 -> 19.941054
B11: 용적률 | C11: 3.8227 | D11: 연면적 ㎡ | E11: =C5*C11 -> 458429.65 | F11: 전용면적 기준 | G11: =E11*76% -> 348406.54
B12: 건축규모 | C12: 지하5층/지상45층 | F12: 세대구성 총연면적 대비 | H12: =G11/C38 -> 1.6735973
B13: 시공사 | C13: 롯데+현산업개발 | F13: 기준 : 세대구성 총연면적보다 클 것.
B14: 비례율
A17: 추 진 현 황 | B17: 구역지정 | C17: 2009.05.27
B18: 조합설립 | C18: 2018.09.11
B19: 시공사선정 | C19: 2018.12.23
B20: 경관심의 통과 | C20: 2020년 04월
B21: 사업시행 | C21: 2021년 예상
B22: 관리처분계획 | C22: 2023년 예상
B23: 이주 | C23: 2024년 예상
B24: 철거 | C24: 2025년 예상
B25: 일반분양 | C25: 2026년 예상
B26: 준공 | C26: 2030년 예상
A28: 세 대 구 성 | B28: 평형별(전용) | C28: 총연면적 | D28: 총세대수 | E28: 일반 | F28: 조합원 | G28: 점유율 | H28: 비고
B29: 39.75㎡ | C29: =39.75*D29 -> 6996 | D29: 176 | G29: =D29/$D$38 -> 0.060668735
B30: 59.98A㎡ | C30: =59.98*D30 -> 55181.6 | D30: 920 | G30: =D30/$D$38 -> 0.31713202
B31: 72.35B㎡ | C31: =72.35*D31 -> 56939.45 | D31: 787 | G31: =D31/$D$38 -> 0.27128576
B32: 84.99A㎡ | C32: =84.99*D32 -> 71816.55 | D32: 845 | G32: =D32/$D$38 -> 0.29127887
B33: 99.68㎡ | C33: =99.68*D33 -> 17244.64 | D33: 173 | G33: =D33/$D$38 -> 0.059634609
B38: SUM | C38: =SUM(C29:C37) -> 208178.24 | D38: =SUM(D29:D37) -> 2901 | E38: =SUM(E30:E37) -> 0 | F38: =SUM(F30:F37) -> 0 | G38: =SUM(G29:G37) -> 1
A40: 총 프 리 미 엄 (비례율 100%기준) | B40: 평형별(전용)\ | C40: (예상)조합원평당분양가 | D40: (예상)일반평당분양가 | E40: 일반분양가대비 | F40: 현재 인근평당시세 | G40: 인근시세대비 | H40: 비고
B41: 39.75㎡
B42: 59.98A㎡ | E42: =(D42-C42)*25 -> 0 | G42: =(F42-C42)*25 -> 0
B43: 72.35B㎡ | E43: =(D43-C43)*30 -> 0 | G43: =(F43-C43)*30 -> 0
B44: 84.99A㎡ | C44: =F44*70% -> 24087000 | D44: =F44-2000000 -> 32410000 | E44: =(D44-C44)*34 -> 282982000 | F44: 34410000 | G44: =(F44-C44)*34 -> 350982000 | H44: 레미안장전
B45: 99.68㎡ | E45: =(D45-C45)*39 -> 0 | G45: =(F45-C45)*39 -> 0
A49: 총 프 리 미 엄 (비례율 100%기준)
A51: 수 익 (현재기준) | B51: 평형별(전용) | C51: (예상)매매프리미엄 (대지 : 공시지가x130%) (건물 : 연면적평x130만원) (공동주택 : 공동주택가격x150%) | D51: 일반분양가 대비 총 프리미엄 | E51: 일반분양가 대비 수익 | F51: 인근시세 대비 총프리미엄 | G51: 인근시세 대비 수익 | H51: 총구매평당가 | I51: PPR (Premium to price Ratio) (100%일 때 적정) (100% 이상 : 과평가 (100% 이하 : 저평가)
B52: 39.75㎡
...

Sheet 서금사 재정비 촉진5
A1: 서금사 재정비 촉진5구역
A2: 사 업 개 요 | B2: 단지명
B3: 구역명 | C3: 서금사재정비촉진5구역
B4: 위치 | C4: 부산시 금정구 서동557-16번지
B5: 구역면적 ㎡ | C5: 194097 | D5: 조합원세대당 대지 평수 | F5: =C5*0.3025/C7 -> 25.145329 | G5: 기준 : 25평 이상일 것.
B6: 동수 | C6: 12
B7: 조합원세대수 | C7: 2335 | D7: 조합원분양률 | E7: =C7/C9 -> 0.53140646
B8: 일반분양세대수 | C8: =C9-C7 -> 2059 | D8: 일반분양률 | E8: =C8/C9 -> 0.46859354 | F8: 기준 : 50% 이상일 것. (재건축 30% 이상)
B9: 총세대수 | C9: 4394
B10: 건페율(임의) | C10: 0.19 | D10: 건축면적 ㎡ | E10: =C5*C10 -> 36878.43 | F10: 계산 층수 | G10: =E11/E10 -> 15.731579
B11: 용적률 | C11: 2.989 | D11: 연면적 ㎡ | E11: =C5*C11 -> 580155.93 | F11: 전용면적 기준 | G11: =E11*76% -> 440918.51
B12: 건축규모 | C12: 지하2층/지상49층 | F12: 세대구성 총연면적 대비 | H12: =G11/C38 -> 1.2897351
B13: 시공사 | C13: 대림, SK, 한화, 고려개발 | F13: 사업대행자 : 한국토지신탁 (19년2월13일 결정)
B14: 비례율
B15: 비고 | C15: 면적 대비 세입자 및 조합원 수가 많아서 이주.철거 및 보상관련 사업비의 과다 지출이 예상되고, 수익성이 떨어질 것으로 사료됨.
C16: 일반분양률이 50% 미만으로 낮고, 조합원세대당 대지 평수도 타 주택 재개발 대비 절반 수준임.
A18: 추 진 현 황 | B18: 구역지정 | C18: 2015.03.11
B19: 조합설립 | C19: 2018.06.25
B20: 시공사선정 | C20: 완료
B21: 사업시행 | C21: 2021년 예정
B22: 관리처분계획 | C22: 2023년 예정
B23: 이주 | C23: 2024년 예정
B24: 철거 | C24: 2025년 예정
B25: 일반분양 | C25: 2026년 예정
B26: 준공 | C26: 2030년 예정
A28: 세 대 구 성 (임의) | B28: 평형별(전용) | C28: 총연면적 | D28: 총세대수 | E28: 일반 | F28: 조합원 | G28: 점유율 | H28: 비고
B29: 39.75㎡ | C29: =39.75*D29 -> 7711.5 | D29: 194 | G29: =D29/$D$38 -> 0.044151115
B30: 59.98A㎡ | C30: =59.98*D30 -> 41986 | D30: 700 | G30: =D30/$D$38 -> 0.15930815
B31: 72.35B㎡ | C31: =72.35*D31 -> 72350 | D31: 1000 | G31: =D31/$D$38 -> 0.22758307
B32: 84.99A㎡ | C32: =84.99*D32 -> 169980 | D32: 2000 | G32: =D32/$D$38 -> 0.45516614
B33: 99.68㎡ | C33: =99.68*D33 -> 49840 | D33: 500 | G33: =D33/$D$38 -> 0.11379153
B38: SUM | C38: =SUM(C29:C37) -> 341867.5 | D38: =SUM(D29:D37) -> 4394 | E38: =SUM(E30:E37) -> 0 | F38: =SUM(F30:F37) -> 0 | G38: =SUM(G29:G37) -> 1
A40: 총 프 리 미 엄 (비례율 100%기준) | B40: 평형별(전용)\ | C40: (예상)조합원평당분양가 | D40: (예상)일반평당분양가 | E40: 일반분양가대비 | F40: 현재 인근평당시세 | G40: 인근시세대비 | H40: 비고
B41: 39.75㎡ | E41: =(D41-C41)*25 -> 0 | G41: =(F41-C41)*25 -> 0
B42: 59.98A㎡ | E42: =(D42-C42)*25 -> 0 | G42: =(F42-C42)*25 -> 0
B43: 72.35B㎡ | E43: =(D43-C43)*25 -> 0 | G43: =(F43-C43)*25 -> 0
B44: 84.99A㎡ | C44: =F44*70% -> 16261000 | D44: =F44-2000000 -> 21230000 | E44: =(D44-C44)*34 -> 1.68946e+08 | F44: 23230000 | G44: =(F44-C44)*34 -> 2.36946e+08 | H44: 명륜2차아이파크1단지
B45: 99.68㎡ | E45: =(D45-C45)*34 -> 0 | G45: =(F45-C45)*34 -> 0
E46: =(D46-C46)*39 -> 0 | G46: =(F46-C46)*39 -> 0
E47: =(D47-C47)*39 -> 0 | G47: =(F47-C47)*39 -> 0
...

Sheet 온천4
A1: 온천4구역
A2: 사 업 개 요 | B2: 단지명 | C2: 온천장레미안포레스티지
B3: 구역명 | C3: 온천4구역 주택재개발
B4: 위치 | C4: 부산시 동래구 온천동 100-13번지 일원
B5: 용도지역 | C5: 제3종일반주거지역
B6: 대지면적 ㎡ | C6: =68800*3.3058 -> 227439.04
B7: 구역면적 ㎡ | C7: 228511 | D7: 조합원세대당 대지지분 (평) | F7: =C7*0.3025/C9 -> 47.969866 | G7: 기준 : 25평 이상일 것.
B8: 동수 | C8: 40
B9: 조합원세대수(약) | C9: 1441 | D9: 조합원분양률 | E9: =C9/C11 -> 0.3564185
B10: 일반분양세대수 | C10: =C11-C9 -> 2602 | D10: 일반분양률 | E10: =C10/C11 -> 0.6435815 | F10: 기준 : 50% 이상일 것. (재건축 30% 이상)
B11: 총세대수(약) | C11: 4043
B12: 건페율 | C12: 0.1723 | D12: 건축면적 ㎡ | E12: =C7*C12 -> 39372.445 | F12: 계산 층수 | G12: =E13/E12 -> 15.59141
B13: 용적률 | C13: 2.6864 | D13: 연면적 ㎡ | E13: =C7*C13 -> 613871.95 | F13: 전용면적 기준 | G13: =E13*76% -> 466542.68
B14: 건축규모 | C14: 지하4층 / 지상 최고 33층 | F14: 세대구성 총연면적 대비 | H14: =G13/C55 -> 1.5275646
B15: 시공사 | C15: 삼성물산 | F15: 기준 : 세대구성 총연면적보다 클 것.
B16: 비례율(임의) | C16: 109.25% -> 115%
B17: 비고
A20: 추 진 현 황 | B20: 최초 구역지정 | C20: 2010.06.16
B21: 최초 조합설립 | C21: 2012.03.29
B22: 사업시행인가 | C22: 2015.11.17
B23: 관리처분계획 | C23: 2018.07.05
B24: 이주.철거 | C24: 2019년 예정
B25: 일반분양 | C25: 2020년 예정
B26: 준공 | C26: 2024년 예정
A30: 세 대 구 성 | B30: 평형별(전용) | C30: 총연면적 | D30: 총세대수 | E30: 일반 | F30: 조합원 | G30: 점유율 | H30: 비고
B31: 49 | C31: =49*D31 -> 11466 | D31: 234 | E31: 210 | F31: =D31-E31 -> 24 | G31: =D31/$D$55 -> 0.061208475 | H31: 임대
B32: 59A1 | C32: =59*D32 -> 23128 | D32: 392 | E32: 201 | F32: =D32-E32 -> 191 | G32: =D32/$D$55 -> 0.10253727
B33: 59A2 | C33: =59*D33 -> 3658 | D33: 62 | E33: 59 | F33: =D33-E33 -> 3 | G33: =D33/$D$55 -> 0.01621763
B34: 59B1 | C34: =59*D34 -> 2891 | D34: 49 | E34: 44 | F34: =D34-E34 -> 5 | G34: =D34/$D$55 -> 0.012817159
B35: 59B2 | C35: =59*D35 -> 1888 | D35: 32 | E35: 29 | F35: =D35-E35 -> 3 | G35: =D35/$D$55 -> 0.0083703897
B36: 72A1 | C36: =72*D36 -> 10800 | D36: 150 | E36: 34 | F36: =D36-E36 -> 116 | G36: =D36/$D$55 -> 0.039236202
B37: 72A2 | C37: =72*D37 -> 7632 | D37: 106 | E37: 76 | F37: =D37-E37 -> 30 | G37: =D37/$D$55 -> 0.027726916
B38: 72A3 | C38: =72*D38 -> 4752 | D38: 66 | E38: 43 | F38: =D38-E38 -> 23 | G38: =D38/$D$55 -> 0.017263929
B39: 72B1 | C39: =72*D39 -> 3600 | D39: 50 | E39: 48 | F39: =D39-E39 -> 2 | G39: =D39/$D$55 -> 0.013078734
B40: 72B2 | C40: =72*D40 -> 2520 | D40: 35 | E40: 32 | F40: =D40-E40 -> 3 | G40: =D40/$D$55 -> 0.0091551138
B41: 84A1 | C41: =84*D41 -> 87696 | D41: 1044 | E41: 474 | F41: =D41-E41 -> 570 | G41: =D41/$D$55 -> 0.27308397
B42: 84A2 | C42: =84*D42 -> 19068 | D42: 227 | E42: 202 | F42: =D42-E42 -> 25 | G42: =D42/$D$55 -> 0.059377452
B43: 84B1 | C43: =84*D43 -> 40908 | D43: 487 | E43: 473 | F43: =D43-E43 -> 14 | G43: =D43/$D$55 -> 0.12738687
B44: 84B2 | C44: =84*D44 -> 11340 | D44: 135 | E44: 133 | F44: =D44-E44 -> 2 | G44: =D44/$D$55 -> 0.035312582
B45: 84C1 | C45: =84*D45 -> 18732 | D45: 223 | E45: 220 | F45: =D45-E45 -> 3 | G45: =D45/$D$55 -> 0.058331154
...

Sheet 양정1구역
A1: 양정1구역
A2: 사 업 개 요 | B2: 단지명 | C2: 가칭 양정자이
B3: 구역명 | C3: 양정1주택재개발정비구역
B4: 위치 | C4: 부산진구 양정동 73-7번지 일원
B5: 용도지역 | C5: 제3종일반주거지역
B6: 대지면적 ㎡ | C6: 91103.1
B7: 구역면적 ㎡ | C7: 126834.1 | D7: 조합원세대당 대지지분 (평) | F7: =C7*0.3025/C9 -> 38.367315 | G7: 기준 : 25평 이상일 것.
B8: 동수 | C8: 27
B9: 조합원세대수(약) | C9: 1000 | D9: 조합원분양률 | E9: =C9/C11 -> 0.43936731
B10: 일반분양세대수 | C10: =C11-C9 -> 1276 | D10: 일반분양률 | E10: =C10/C11 -> 0.56063269 | F10: 기준 : 50% 이상일 것. (재건축 30% 이상)
B11: 총세대수(약) | C11: 2276 | D11: (공공임대포함)
B12: 건페율 | C12: 0.1756 | D12: 건축면적 ㎡ | E12: =C7*C12 -> 22272.068 | F12: 계산 층수 | G12: =E13/E12 -> 14.962984
B13: 용적률 | C13: 2.6275 | D13: 연면적 ㎡ | E13: =C7*C13 -> 333256.6 | F13: 전용면적 기준 | G13: =E13*76% -> 253275.01
B14: 건축규모 | C14: 지하5층 / 지상최고34층 | F14: 세대구성 총연면적 대비 | H14: =G13/C41 -> 1.5151652
B15: 시공사 | C15: GS + SK + 포스코 | F15: 기준 : 세대구성 총연면적보다 클 것.
B16: 비례율(임의) | C16: 1.03
B17: 비고
A20: 추 진 현 황 | B20: 최초 구역지정 | C20: 2005.06.22
B21: 최초 조합설립 | C21: 2005.06.29
B22: 사업시행인가 | C22: 2006.10.14
B23: 사업시행변경인가 | C23: 2017.06.28
B24: 관리처분변경인가 | C24: 2018.08.21
B25: 이주기간 | C25: 19년 1/1~3/30
B26: 철거 | C26: 2019년말 예정
B27: 일반분양 | C27: 2021년 예정
B28: 준공 | C28: 2024년 예정
A30: 세 대 구 성 | B30: 평형별(전용) | C30: 총연면적 | D30: 총세대수 | E30: 일반 | F30: 조합원 | G30: 점유율 | H30: 비고
B31: 39 | C31: =39*D31 -> 4485 | D31: 115 | E31: - | F31: - | G31: =D31/$D$41 -> 0.050527241 | H31: 임대
B32: 46 | C32: =46*D32 -> 1426 | D32: 31 | E32: =D32-F32 -> 20 | F32: 11 | G32: =D32/$D$41 -> 0.013620387
B33: 59 | C33: =59*D33 -> 24485 | D33: 415 | E33: =D33-F33 -> 217 | F33: 198 | G33: =D33/$D$41 -> 0.18233743
B34: 72A | C34: =72*D34 -> 28224 | D34: 392 | E34: =D34-F34 -> 296 | F34: 96 | G34: =D34/$D$41 -> 0.17223199
B35: 72B | C35: =72*D35 -> 19728 | D35: 274 | E35: =D35-F35 -> 260 | F35: 14 | G35: =D35/$D$41 -> 0.12038664
B36: 72C | C36: =72*D36 -> 7344 | D36: 102 | E36: =D36-F36 -> 97 | F36: 5 | G36: =D36/$D$41 -> 0.044815466
B37: 84A | C37: =84*D37 -> 55692 | D37: 663 | E37: =D37-F37 -> 166 | F37: 497 | G37: =D37/$D$41 -> 0.29130053
B38: 84B | C38: =84*D38 -> 9912 | D38: 118 | E38: =D38-F38 -> 87 | F38: 31 | G38: =D38/$D$41 -> 0.051845343
B39: 84C | C39: =84*D39 -> 3864 | D39: 46 | E39: =D39-F39 -> 17 | F39: 29 | G39: =D39/$D$41 -> 0.020210896
B40: 100 | C40: =100*D40 -> 12000 | D40: 120 | E40: =D40-F40 -> 0 | F40: 120 | G40: =D40/$D$41 -> 0.052724077
B41: SUM | C41: =SUM(C31:C40) -> 167160 | D41: =SUM(D31:D40) -> 2276 | E41: =SUM(E31:E40) -> 1160 | F41: =SUM(F31:F40) -> 1001 | G41: =SUM(G31:G40) -> 1 | H41: =SUM(H31:H36) -> 0
A43: (예상) 총 프 리 미 엄 (비례율 100%기준) | B43: 평형별 | C43: (예상)조합원평당분양가 | D43: (예상)일반평당분양가 | E43: 일반분양가대비 | F43: 현재 인근평당시세 | G43: 인근시세대비 | H43: 비고
B44: 39 | C44: - | D44: - | E44: =(D44-C44)*17 -> #VALUE! | F44: - | G44: =(F44-C44)*17 -> #VALUE! | H44: 임대
...

Sheet 양정2구역
A1: 양정2구역
A2: 사 업 개 요 | B2: 단지명 | C2: 가칭 KCC스위첸
B3: 구역명 | C3: 양정2주택재개발정비구역
B4: 위치 | C4: 부산진구 양정동 12-6번지 일원
B5: 용도지역 | C5: 제3종일반주거지역
B6: 대지면적 ㎡
B7: 구역면적 ㎡ | C7: 66651 | D7: 조합원세대당 대지지분 (평) | F7: =C7*0.3025/C9 -> 40.003824 | G7: 기준 : 25평 이상일 것.
B8: 동수 | C8: 12
B9: 조합원세대수(약) | C9: 504 | D9: 조합원분양률 | E9: =C9/C11 -> 0.39936609
B10: 일반분양세대수 | C10: =C11-C9 -> 758 | D10: 일반분양률 | E10: =C10/C11 -> 0.60063391 | F10: 기준 : 50% 이상일 것. (재건축 30% 이상)
B11: 총세대수(약) | C11: 1262 | D11: (공공임대 포함 : 1338세대)
B12: 건페율 | C12: 0.1845 | D12: 건축면적 ㎡ | E12: =C7*C12 -> 12297.11 | F12: 계산 층수 | G12: =E13/E12 -> 13.81084
B13: 용적률 | C13: 2.5481 | D13: 연면적 ㎡ | E13: =C7*C13 -> 169833.41 | F13: 전용면적 기준 | G13: =E13*76% -> 129073.39
B14: 건축규모 | C14: 지하4층 / 지상최고35층 | F14: 세대구성 총연면적 대비 | H14: =G13/C41 -> 1.2862962
B15: 시공사 | C15: KCC | F15: 기준 : 세대구성 총연면적보다 클 것.
B16: 비례율(임의) | C16: 1.08
B17: 비고
A20: 추 진 현 황 | B20: 최초 구역지정 | C20: 2007.08.01
B21: 최초 조합설립 | C21: 2008.02.12
B22: 사업시행인가 | C22: 2009.05.25
B23: 관리처분인가 | C23: 2018.03.27
B24: 이주 | C24: 2019년 예정
B25: 철거 | C25: 2020년 예정
B26: 일반분양 | C26: 2021년 예정
B27: 준공 | C27: 2024년 예정
A30: 세 대 구 성 | B30: 평형별(전용) | C30: 총연면적 | D30: 총세대수 | E30: 일반 | F30: 조합원 | G30: 점유율 | H30: 비고
B31: 39 | C31: =39*D31 -> 1638 | D31: 42 | E31: - | F31: - | G31: =D31/$D$41 -> 0.031390135 | H31: 임대
B32: 47 | C32: =47*D32 -> 1598 | D32: 34 | E32: - | F32: - | G32: =D32/$D$41 -> 0.025411061 | H32: 임대
B33: 59A | C33: =59*D33 -> 16107 | D33: 273 | E33: =D33-F33 -> 111 | F33: 162 | G33: =D33/$D$41 -> 0.20403587
B34: 59B | C34: =59*D34 -> 4838 | D34: 82 | E34: =D34-F34 -> 74 | F34: 8 | G34: =D34/$D$41 -> 0.061285501
B35: 73A | C35: =73*D35 -> 9636 | D35: 132 | E35: =D35-F35 -> 45 | F35: 87 | G35: =D35/$D$41 -> 0.098654709
B36: 73B | C36: =73*D36 -> 1752 | D36: 24 | E36: =D36-F36 -> 18 | F36: 6 | G36: =D36/$D$41 -> 0.01793722
B37: 84A | C37: =84*D37 -> 41580 | D37: 495 | E37: =D37-F37 -> 347 | F37: 148 | G37: =D37/$D$41 -> 0.36995516
B38: 84B | C38: =84*D38 -> 13608 | D38: 162 | E38: =D38-F38 -> 132 | F38: 30 | G38: =D38/$D$41 -> 0.12107623
B39: 102A | C39: =102*D39 -> 7956 | D39: 78 | E39: =D39-F39 -> 16 | F39: 62 | G39: =D39/$D$41 -> 0.058295964
B40: 102B | C40: =102*D40 -> 1632 | D40: 16 | E40: =D40-F40 -> 15 | F40: 1 | G40: =D40/$D$41 -> 0.011958146
B41: SUM | C41: =SUM(C31:C40) -> 100345 | D41: =SUM(D31:D40) -> 1338 | E41: =SUM(E31:E40) -> 758 | F41: =SUM(F31:F40) -> 504 | G41: =SUM(G31:G40) -> 1 | H41: =SUM(H31:H36) -> 0
A43: (예상) 총 프 리 미 엄 (비례율 100%기준) | B43: 평형별 | C43: (예상)조합원평당분양가 | D43: (예상)일반평당분양가 | E43: 일반분양가대비 | F43: 현재 인근평당시세 | G43: 인근시세대비 | H43: 비고
B44: 39 | C44: - | D44: - | E44: =(D44-C44)*17 -> #VALUE! | F44: - | G44: =(F44-C44)*17 -> #VALUE! | H44: 임대
B45: 47 | C45: - | D45: - | E45: =(D45-C45)*20 -> #VALUE! | F45: - | G45: =(F45-C45)*20 -> #VALUE! | H45: 임대
...

Sheet 양정3구역
A1: 양정3구역
A2: 사 업 개 요 | B2: 단지명 | C2: 가칭 양정롯데캐슬
B3: 구역명 | C3: 양정3주택재개발정비구역
B4: 위치 | C4: 부산진구 양정동 64-3번지 일원
B5: 용도지역 | C5: 제3종일반주거지역
B6: 대지면적 ㎡
B7: 구역면적 ㎡ | C7: 44278.8 | D7: 조합원세대당 대지지분 (평) | F7: =C7*0.3025/C9 -> 38.269534 | G7: 기준 : 25평 이상일 것.
B8: 동수 | C8: 10
B9: 조합원세대수(약) | C9: 350 | D9: 조합원분양률 | E9: =C9/C11 -> 0.3875969
B10: 일반분양세대수 | C10: =C11-C9 -> 553 | D10: 일반분양률 | E10: =C10/C11 -> 0.6124031 | F10: 기준 : 50% 이상일 것. (재건축 30% 이상)
B11: 총세대수(약) | C11: 903 | D11: (공공임대포함) | E11: (1단지 6개동 622세대 / 2단지 4개동 281세대)
B12: 건페율 | C12: 0.1741 | D12: 건축면적 ㎡ | E12: =C7*C12 -> 7708.9391 | F12: 계산 층수 | G12: =E13/E12 -> 15.522114
B13: 용적률 | C13: 2.7024 | D13: 연면적 ㎡ | E13: =C7*C13 -> 119659.03 | F13: 전용면적 기준 | G13: =E13*76% -> 90940.862
B14: 건축규모 | C14: 지하5층 / 지상최고28층 | F14: 세대구성 총연면적 대비 | H14: =G13/C37 -> 1.3510349
B15: 시공사 | C15: 롯데건설 | F15: 기준 : 세대구성 총연면적보다 클 것.
B16: 비례율(임의) | C16: 미정
B17: 비고 | C17: 이사비 : 500(무이자) + 1500(유이자)
C18: 이주비 : 70% / 중도금 없음.
A20: 추 진 현 황 | B20: 최초 구역지정 | C20: 2009.12.23
B21: 최초 조합설립 | C21: 2016.09.12
B22: 사업시행인가공람공고 | C22: ~2019년 1월 4일
B23: 사업시행인가 | C23: 2019년 1월 예정
B24: 관리처분인가 | C24: 2020년 예정
B25: 이주 | C25: 2021년 예정
B26: 철거 | C26: 2022년 예정
B27: 일반분양 | C27: 2023년 예정
B28: 준공 | C28: 2026년 예정
A30: 세 대 구 성 | B30: 평형별(전용) | C30: 총연면적 | D30: 총세대수 | E30: 일반 | F30: 조합원 | G30: 점유율 | H30: 비고
B31: 39 | C31: =39*D31 -> 2028 | D31: 52 | G31: =D31/$D$37 -> 0.057585825 | H31: 임대
B32: 59A | C32: =59*D32 -> 18113 | D32: 307 | G32: =D32/$D$37 -> 0.33997785
B33: 59B | C33: =59*D33 -> 2655 | D33: 45 | G33: =D33/$D$37 -> 0.049833887
B34: 84A | C34: =84*D34 -> 17052 | D34: 203 | G34: =D34/$D$37 -> 0.2248062
B35: 84B | C35: =84*D35 -> 16464 | D35: 196 | G35: =D35/$D$37 -> 0.21705426
B36: 110 | C36: =110*D36 -> 11000 | D36: 100 | G36: =D36/$D$37 -> 0.11074197
B37: SUM | C37: =SUM(C31:C36) -> 67312 | D37: =SUM(D31:D36) -> 903 | E37: =SUM(E31:E36) -> 0 | F37: =SUM(F31:F36) -> 0 | G37: =SUM(G31:G36) -> 1 | H37: =SUM(H31:H36) -> 0
A39: (예상) 총 프 리 미 엄 (비례율 100%기준) | B39: 평형별 | C39: (예상)조합원평당분양가 | D39: (예상)일반평당분양가 | E39: 일반분양가대비 | F39: 현재 인근평당시세 | G39: 인근시세대비 | H39: 비고
B40: 39 | C40: - | D40: - | E40: =(D40-C40)*17 -> #VALUE! | F40: - | G40: =(F40-C40)*17 -> #VALUE! | H40: 임대
B41: 59A | E41: =(D41-C41)*25 -> 0 | F41: - | G41: =(F41-C41)*25 -> #VALUE!
B42: 59B | E42: =(D42-C42)*25 -> 0 | F42: - | G42: =(F42-C42)*25 -> #VALUE!
B43: 84A (추정) | C43: 13300000 | D43: 14400000 | E43: =(D43-C43)*34 -> 37400000 | F43: 23520000 | G43: =(F43-C43)*34 -> 347480000 | H43: 연산롯데캐슬골드포레
...

Sheet 거제2구역
A1: 거제2구역
A2: 사 업 개 요 | B2: 단지명 | C2: 레미안거제
B3: 구역명 | C3: 거제2구역 주택재개발
B4: 위치 | C4: 부산시 연제구 거제동 802번지 일원
B5: 용도지역 | C5: 제3종일반주거지역
B6: 대지면적 ㎡ | C6: =56668*3.3058 -> 187333.07
B7: 구역면적 ㎡ | C7: 238764 | D7: 조합원세대당 대지지분 (평) | F7: =C7*0.3025/C9 -> 48.768474 | G7: 기준 : 25평 이상일 것.
B8: 동수 | C8: 34
B9: 조합원세대수(약) | C9: 1481 | D9: 조합원분양률 | E9: =C9/C11 -> 0.33131991
B10: 일반분양세대수 | C10: =C11-C9 -> 2989 | D10: 일반분양률 | E10: =C10/C11 -> 0.66868009 | F10: 기준 : 50% 이상일 것. (재건축 30% 이상)
B11: 총세대수(약) | C11: 4470 | D11: (공공임대포함)
B12: 건페율 | C12: 0.1348 | D12: 건축면적 ㎡ | E12: =C7*C12 -> 32185.387 | F12: 계산 층수 | G12: =E13/E12 -> 19.057864
B13: 용적률 | C13: 2.569 | D13: 연면적 ㎡ | E13: =C7*C13 -> 613384.72 | F13: 전용면적 기준 | G13: =E13*76% -> 466172.38
B14: 건축규모 | C14: 지하3층 / 지상 최고 35층 | F14: 세대구성 총연면적 대비 | H14: =G13/C43 -> 2.6411285
B15: 시공사 | C15: 삼성물산+대림산업+현대산업개발 컨소시엄 | F15: 기준 : 세대구성 총연면적보다 클 것.
B16: 비례율(임의) | C16: 1.5
B17: 비고
A20: 추 진 현 황 | B20: 최초 구역지정 | C20: 2005.11.16
B21: 최초 조합설립 | C21: 2006.06.09
B22: 사업시행인가 | C22: 2008.12.19
B23: 관리처분계획 | C23: 2016.05.11
B24: 이주.철거 | C24: 2016.12.26
B25: 일반분양 | C25: 2019년 예정
B26: 준공 | C26: 2022년 예정
A30: 세 대 구 성 | B30: 평형별(전용) | C30: 총연면적 | D30: 총세대수 | E30: 일반 | F30: 조합원 | G30: 점유율 | H30: 비고
B31: 49A | C31: =49*D31 -> 11466 | D31: 234 | E31: 210 | F31: =D31-E31 -> 24 | G31: =D31/$D$43 -> 0.1011236
B32: 49B | C32: =49*D32 -> 11466 | D32: 234 | E32: 210 | F32: =D32-E32 -> 24 | G32: =D32/$D$43 -> 0.1011236
B33: 59A | C33: =59*D33 -> 3658 | D33: 62 | E33: 59 | F33: =D33-E33 -> 3 | G33: =D33/$D$43 -> 0.026793431
B34: 59B | C34: =59*D34 -> 2891 | D34: 49 | E34: 44 | F34: =D34-E34 -> 5 | G34: =D34/$D$43 -> 0.021175454
B35: 75A | C35: =75*D35 -> 11250 | D35: 150 | E35: 34 | F35: =D35-E35 -> 116 | G35: =D35/$D$43 -> 0.064822818
B36: 75B | C36: =75*D36 -> 7950 | D36: 106 | E36: 76 | F36: =D36-E36 -> 30 | G36: =D36/$D$43 -> 0.045808124
B37: 84A | C37: =84*D37 -> 87696 | D37: 1044 | E37: 474 | F37: =D37-E37 -> 570 | G37: =D37/$D$43 -> 0.45116681
B38: 84B | C38: =84*D38 -> 19068 | D38: 227 | E38: 202 | F38: =D38-E38 -> 25 | G38: =D38/$D$43 -> 0.098098531
B39: 101A | C39: =101*D39 -> 19897 | D39: 197 | E39: 0 | F39: =D39-E39 -> 197 | G39: =D39/$D$43 -> 0.085133967
B40: 101B | C40: =101*D40 -> 707 | D40: 7 | E40: 0 | F40: =D40-E40 -> 7 | G40: =D40/$D$43 -> 0.0030250648
B41: 114A | C41: =114*D41 -> 114 | D41: 1 | E41: 0 | F41: =D41-E41 -> 1 | G41: =D41/$D$43 -> 0.00043215212
B42: 114B | C42: =114*D42 -> 342 | D42: 3 | E42: 3 | F42: =D42-E42 -> 0 | G42: =D42/$D$43 -> 0.0012964564
B43: SUM | C43: =SUM(C31:C42) -> 176505 | D43: =SUM(D31:D42) -> 2314 | E43: =SUM(E31:E42) -> 1312 | F43: =SUM(F31:F42) -> 1002 | G43: =SUM(G31:G42) -> 1 | H43: =SUM(H31:H42) -> 0
A45: (예상) 총 프 리 미 엄 (비례율 100%기준) | B45: 평형별(전용)\ | C45: (예상)조합원평당분양가 | D45: (예상)일반평당분양가 | E45: 일반분양가대비 | F45: 현재 인근평당시세 | G45: 인근시세대비 | H45: 비고
B46: 49A | D46: - | E46: =(D46-C46)*22 -> #VALUE! | F46: - | G46: =(F46-C46)*22 -> #VALUE!
...

Sheet 시민공원촉진3구역
A1: 시민공원재정비촉진3구역
A2: 사 업 개 요 | B2: 단지명 | C2: 시민공원재정비촉진3구역
B3: 구역명 | C3: 촉진3주택재개발
B4: 위치 | E4: 평당 공사비(건축비) | F4: 4500000
B5: 구역면적 ㎡ | C5: 53905 | D5: 조합원세대당 대지 평수 (평균분양평형) | F5: =C5*0.3025/C7 -> 9.5919191 | G5: 기준 : 25평 이상일 것.
B6: 동수 | C6: 10 | D6: 기부체납면적 ㎡ | F6: 실사용 면적 ㎡ | G6: =C5-E6 -> 53905
B7: 조합원세대수 | C7: 1700 | D7: 조합원분양률 | E7: =C7/C9 -> 0.44584317
B8: 일반분양세대수 | C8: =C9-C7 -> 2113 | D8: 일반분양률 | E8: =C8/C9 -> 0.55415683 | F8: 기준 : 50% 이상일 것. (재건축 30% 이상)
B9: 총세대수 | C9: 3813
B10: 건페율 | C10: 0.1811 | D10: 건축면적 ㎡ | E10: =G6*C10 -> 9762.1955 | F10: 계산 층수 | G10: =E11/E10 -> 13.692987
B11: 용적률 | C11: 2.4798 | D11: 건축가능 연면적 ㎡ | E11: =G6*C11 -> 133673.62 | F11: 전용면적 기준 | G11: =E11*76% -> 101591.95
B12: 건축규모 | C12: 지하3층/지상 최고 60층 /23개동/평균 40층 이하 | D12: 세대당 평균 종전자산 평가액 | E12: - | F12: 세대구성 총연면적 대비 | G12: =G11/C35 -> 1.696479
B13: 시공사 | C13: 현대산업개발 | D13: 총 종전사산 평가액 | E13: =C7*E12 -> #VALUE! | F13: 총 건축가능세대 수 | G13: =E11*0.3025/F5 -> 4215.66
B14: 조합 비례율 | C14: 1.1 | D14: 계약면적 (평) | E14: - | F14: 총 시공 평수 | G14: =E14*G13 -> #VALUE!
B16: 총 사업비 | C16: =E16+G16 -> #VALUE! | D16: 총 공사비 | E16: =G14*F4 -> #VALUE! | F16: 기타사업비 | G16: =E16*30% -> #VALUE!
B17: 총 분양수입 | C17: =(E17*C7)+(G17*C8) -> #VALUE! | D17: (예상)평균조합원분양가 | E17: - | F17: (예상) 평균일반분양가 | G17: -
B18: 비례율 (사업성 검토용) | C18: =E18/E13 -> #VALUE! | D18: 순이익 | E18: =C17-C16 -> #VALUE! | F18: 조합원 세대당 평균 순이익 | G18: =E18/C7 -> #VALUE!
A20: 추 진 현 황 | B20: 구역지정 | C20: 2007.05.03
B21: 조합설립 | C21: 2013.03.14
B22: 사업시행 | C22: 2017.10.20
B23: 관리처분계획 | C23: 2019.04.05
B24: 이주 | C24: 2019년 08월 08일
B25: 철거 | C25: 2020년 예정
B26: 일반분양 | C26: 2021년 예정
B27: 준공 | C27: 2025년 예정
A29: 세 대 구 성 | B29: 평형별(전용) | C29: 총연면적 | D29: 총세대수 | E29: 조합원 | F29: 일반 | G29: 보류지 | H29: 점유율
B30: 38㎡ (임대) | C30: =38*D30 -> 2432 | D30: 64 | H30: =D30/$D$35 -> 0.073563218
B31: 59㎡ | C31: =59*D31 -> 23777 | D31: 403 | F31: =D31-E31 -> 403 | H31: =D31/$D$35 -> 0.46321839
B32: 84㎡ | C32: =84*D32 -> 18480 | D32: 220 | F32: =D32-E32 -> 220 | H32: =D32/$D$35 -> 0.25287356
B33: 75㎡ | C33: =75*D33 -> 10575 | D33: 141 | F33: =D33-E33 -> 141 | H33: =D33/$D$35 -> 0.16206897
B34: 110㎡ | C34: =110*D34 -> 4620 | D34: 42 | F34: =D34-E34 -> 42 | H34: =D34/$D$35 -> 0.048275862
B35: SUM | C35: =SUM(C30:C34) -> 59884 | D35: =SUM(D30:D34) -> 870 | E35: =SUM(E30:E34) -> 0 | F35: =SUM(F30:F34) -> 806 | G35: =SUM(G30:G34) -> 0 | H35: =SUM(H30:H34) -> 1
A37: 총 프 리 미 엄 (비례율 100%기준) | B37: 평형별(전용) | C37: (예상)조합원평당분양가 | D37: (예상)일반평당분양가 | E37: 일반분양가대비 | F37: 현재 인근평당시세 | G37: 인근시세 대비 | H37: 비고
B38: 38㎡ (임대)
B39: 59㎡ | E39: =(D39-C39)*25 -> 0 | G39: =(F39-C39)*25 -> 0
B40: 84㎡ | C40: =F40*70% -> 19103000 | D40: =F40-2000000 -> 25290000 | E40: =(D40-C40)*25 -> 154675000 | F40: 27290000 | G40: =(F40-C40)*25 -> 204675000 | H40: 레미안어반파크
B41: 75㎡ | E41: =(D41-C41)*34 -> 0 | G41: =(F41-C41)*34 -> 0
B42: 110㎡ | E42: =(D42-C42)*34 -> 0 | G42: =(F42-C42)*34 -> 0
A44: 수 익 (현재기준) | B44: 평형별(전용) | C44: (예상)매매프리미엄 (대지 : 공시지가x130%) (건물 : 연면적평x130만원) (공동주택 : 공동주택가격x150%) | D44: 일반분양가 대비 총 프리미엄 | E44: 일반분양가 대비 수익 | F44: 인근시세 대비 총프리미엄 | G44: 인근시세 대비 수익 | H44: 총구매평당가 | I44: PPR (Premium to price Ratio) (100%일 때 적정) (100% 이상 : 과평가 (100% 이하 : 저평가)
B45: 38㎡ (임대) | C45: - | D45: =E38 -> 0 | E45: =D45-C45 -> #VALUE! | F45: =G38 -> 0 | G45: =F45-C45 -> #VALUE!
...

Sheet 시민공원촉진4구역
A1: 시민공원재정비촉진4구역
A2: 사 업 개 요 | B2: 단지명 | C2: 시민공원재정비촉진4구역
B3: 구역명 | C3: 촉진4주택재개발
B4: 위치 | C4: 부산진구 양정동 445-15번지 일원 | E4: 평당 공사비(건축비) | F4: 4500000
B5: 구역면적 ㎡ | C5: 39459 | D5: 조합원세대당 대지 평수 (평균분양평형) | F5: =C5*0.3025/C7 -> 14.556521 | G5: 기준 : 25평 이상일 것.
B6: 동수 | C6: 2 | D6: 기부체납면적 ㎡ | F6: 실사용 면적 ㎡ | G6: =C5-E6 -> 39459
B7: 조합원세대수 | C7: 820 | D7: 조합원분양률 | E7: =C7/C9 -> 0.97387173
B8: 일반분양세대수 | C8: =C9-C7 -> 22 | D8: 일반분양률 | E8: =C8/C9 -> 0.026128266 | F8: 기준 : 50% 이상일 것. (재건축 30% 이상)
B9: 총세대수 | C9: 842
B10: 건페율 | C10: 0.1584 | D10: 건축면적 ㎡ | E10: =G6*C10 -> 6250.3056 | F10: 계산 층수 | G10: =E11/E10 -> 19.554924
B11: 용적률 | C11: 3.0975 | D11: 건축가능 연면적 ㎡ | E11: =G6*C11 -> 122224.25 | F11: 전용면적 기준 | G11: =E11*76% -> 92890.432
B12: 건축규모 | C12: 지하3층/지상 최고 46층 /2개동 | D12: 세대당 평균 종전자산 평가액 | E12: - | F12: 세대구성 총연면적 대비 | G12: =G11/C36 -> 1.6700304
B13: 시공사 | C13: 현대산업개발 | D13: 총 종전사산 평가액 | E13: =C7*E12 -> #VALUE! | F13: 총 건축가능세대 수 | G13: =E11*0.3025/F5 -> 2539.95
B14: 조합 비례율 | C14: 1 | D14: 계약면적 (평) | E14: - | F14: 총 시공 평수 | G14: =E14*G13 -> #VALUE!
B16: 총 사업비 | C16: =E16+G16 -> #VALUE! | D16: 총 공사비 | E16: =G14*F4 -> #VALUE! | F16: 기타사업비 | G16: =E16*30% -> #VALUE!
B17: 총 분양수입 | C17: =(E17*C7)+(G17*C8) -> #VALUE! | D17: (예상)평균조합원분양가 | E17: - | F17: (예상) 평균일반분양가 | G17: -
B18: 비례율 (사업성 검토용) | C18: =E18/E13 -> #VALUE! | D18: 순이익 | E18: =C17-C16 -> #VALUE! | F18: 조합원 세대당 평균 순이익 | G18: =E18/C7 -> #VALUE!
A20: 추 진 현 황 | B20: 구역지정 | C20: 2007.05.23
B21: 조합설립 | C21: 2016.02.05
B22: 사업시행 | C22: 2021년 예정
B23: 관리처분계획 | C23: 2023년 예정
B24: 이주 | C24: 2024년예정
B25: 철거 | C25: 2025년 예정
B26: 일반분양 | C26: 2026년 예정
B27: 준공 | C27: 2030년 예정
A29: 세 대 구 성 | B29: 평형별(전용) | C29: 총연면적 | D29: 총세대수 | E29: 조합원 | F29: 일반 | G29: 보류지 | H29: 점유율
B30: 36㎡ (임대) | C30: =36*D30 -> 1512 | D30: 42 | H30: =D30/$D$36 -> 0.049881235
B31: 45㎡ | C31: =45*D31 -> 3690 | D31: 82 | F31: =D31-E31 -> 82 | H31: =D31/$D$36 -> 0.097387173
B32: 59㎡ | C32: =59*D32 -> 20296 | D32: 344 | F32: =D32-E32 -> 344 | H32: =D32/$D$36 -> 0.40855107
B33: 65㎡ | C33: =65*D33 -> 6240 | D33: 96 | F33: =D33-E33 -> 96 | H33: =D33/$D$36 -> 0.11401425
B34: 84㎡ | C34: =84*D34 -> 20160 | D34: 240 | F34: =D34-E34 -> 240 | H34: =D34/$D$36 -> 0.28503563
B35: 98㎡ | C35: =98*D35 -> 3724 | D35: 38 | F35: =D35-E35 -> 38 | H35: =D35/$D$36 -> 0.045130641
B36: SUM | C36: =SUM(C30:C35) -> 55622 | D36: =SUM(D30:D35) -> 842 | E36: =SUM(E30:E35) -> 0 | F36: =SUM(F30:F35) -> 800 | G36: =SUM(G30:G35) -> 0 | H36: =SUM(H30:H35) -> 1
A38: 총 프 리 미 엄 (비례율 100%기준) | B38: 평형별(전용) | C38: (예상)조합원평당분양가 | D38: (예상)일반평당분양가 | E38: 일반분양가대비 | F38: 현재 인근평당시세 | G38: 인근시세 대비 | H38: 비고
B39: 36㎡ (임대)
B40: 45㎡
B41: 59㎡
B42: 65㎡
B43: 84㎡ | C43: =F43*70% -> 19103000 | D43: =F43-2000000 -> 25290000 | E43: =(D43-C43)*34 -> 210358000 | F43: 27290000 | G43: =(F43-C43)*34 -> 278358000 | H43: 레미안아반파크
B44: 98㎡
...

Sheet 가야1구역
A1: 가야1구역
A2: 사 업 개 요 | B2: 단지명 | C2: -
B3: 구역명 | C3: 가야1구역 주택재개발정비사업
B4: 위치 | C4: 부산 부산진구 가야동 410일원 | E4: 평당 공사비(건축비) | F4: 4500000
B5: 구역면적 ㎡ | C5: 76022 | D5: 조합원세대당 대지 평수 (평균분양평형) | F5: =C5*0.3025/C7 -> #DIV/0! | G5: 기준 : 25평 이상일 것.
B6: 동수 | C6: 18 | D6: 기부체납면적 ㎡ | F6: 실사용 면적 ㎡ | G6: =C5-E6 -> 76022
B7: 조합원세대수 | D7: 조합원분양률 | E7: =C7/C9 -> 0
B8: 일반분양세대수 | C8: =C9-C7 -> 2001 | D8: 일반분양률 | E8: =C8/C9 -> 1 | F8: 기준 : 50% 이상일 것. (재건축 30% 이상)
B9: 총세대수 | C9: 2001 | D9: 임대주택 24세대 포함
B10: 건페율 | C10: 0.171 | D10: 건축면적 ㎡ | E10: =G6*C10 -> 12999.762 | F10: 계산 층수 | G10: =E11/E10 -> 15.469006
B11: 용적률 | C11: 2.6452 | D11: 건축가능 연면적 ㎡ | E11: =G6*C11 -> 201093.39 | F11: 전용면적 기준 | G11: =E11*76% -> 152830.98
B12: 건축규모 | C12: 지하5층/지상21층 | D12: 세대당 평균 종전자산 평가액 | E12: - | F12: 세대구성 총연면적 대비 | G12: =G11/C37 -> #DIV/0!
